BEGIN:VCALENDAR
VERSION:2.0
PRODID:icalendar-ruby
CALSCALE:GREGORIAN
BEGIN:VTIMEZONE
TZID:America/New_York
BEGIN:DAYLIGHT
DTSTART:20260308T030000
TZOFFSETFROM:-0500
TZOFFSETTO:-0400
RRULE:FREQ=YEARLY;BYDAY=2SU;BYMONTH=3
TZNAME:EDT
END:DAYLIGHT
BEGIN:STANDARD
DTSTART:20261101T010000
TZOFFSETFROM:-0400
TZOFFSETTO:-0500
RRULE:FREQ=YEARLY;BYDAY=1SU;BYMONTH=11
TZNAME:EST
END:STANDARD
END:VTIMEZONE
BEGIN:VEVENT
DTSTAMP:20260423T165059Z
UID:1400ce4e-6eec-40d5-b650-d9e15a109394
DTSTART:20260504T170000
DTEND:20260504T180000
DESCRIPTION:
LOCATION:
SUMMARY:Kindergarten Readiness Night 
END:VEVENT
BEGIN:VEVENT
DTSTAMP:20260423T165059Z
UID:594cf056-961e-42ea-b66d-27ffc22907ae
DTSTART;VALUE=DATE:20260513
DTEND;VALUE=DATE:20260514
DESCRIPTION:
LOCATION:
SUMMARY:3rd - 5th Grade Reading EOG
END:VEVENT
BEGIN:VEVENT
DTSTAMP:20260423T165059Z
UID:89379217-f529-4140-91d4-8d0bf02b8559
DTSTART;VALUE=DATE:20260515
DTEND;VALUE=DATE:20260516
DESCRIPTION:
LOCATION:
SUMMARY:3rd - 5th Grade Math EOG
END:VEVENT
BEGIN:VEVENT
DTSTAMP:20260423T165059Z
UID:a08dd4f3-5d1c-4c47-8738-eec98ebcc796
DTSTART;VALUE=DATE:20260519
DTEND;VALUE=DATE:20260520
DESCRIPTION:
LOCATION:
SUMMARY:5th Grade Science EOG
END:VEVENT
BEGIN:VEVENT
DTSTAMP:20260423T165059Z
UID:2d6f6002-8279-4271-b653-f079205acbdf
DTSTART;VALUE=DATE:20260525
DTEND;VALUE=DATE:20260526
DESCRIPTION:
LOCATION:
SUMMARY:Memorial Day Holiday - No School
END:VEVENT
BEGIN:VEVENT
DTSTAMP:20260423T165059Z
UID:6cdb1abc-faa0-4085-af1a-0a3ac91099a5
DTSTART;VALUE=DATE:20260527
DTEND;VALUE=DATE:20260528
DESCRIPTION:
LOCATION:
SUMMARY:Last Day of School - Early Release
END:VEVENT
BEGIN:VEVENT
DTSTAMP:20260423T165059Z
UID:203b1922-8d32-403a-876c-c7e15a4dc053
DTSTART:20260602T180000
DTEND:20260602T190000
DESCRIPTION:
LOCATION:
SUMMARY:Parent Advisory Council Meeting
END:VEVENT
END:VCALENDAR
