BEGIN:VCALENDAR
VERSION:2.0
PRODID:icalendar-ruby
CALSCALE:GREGORIAN
BEGIN:VTIMEZONE
TZID:America/New_York
BEGIN:DAYLIGHT
DTSTART:20260308T030000
TZOFFSETFROM:-0500
TZOFFSETTO:-0400
RRULE:FREQ=YEARLY;BYDAY=2SU;BYMONTH=3
TZNAME:EDT
END:DAYLIGHT
BEGIN:STANDARD
DTSTART:20261101T010000
TZOFFSETFROM:-0400
TZOFFSETTO:-0500
RRULE:FREQ=YEARLY;BYDAY=1SU;BYMONTH=11
TZNAME:EST
END:STANDARD
END:VTIMEZONE
BEGIN:VEVENT
DTSTAMP:20260423T101222Z
UID:0e89c796-80d0-4465-babd-5a8b62160168
DTSTART;VALUE=DATE:20260423
DTEND;VALUE=DATE:20260424
DESCRIPTION:
LOCATION:
SUMMARY:Talent Show Practice
END:VEVENT
BEGIN:VEVENT
DTSTAMP:20260423T101222Z
UID:4bd2434a-9d9b-406e-8467-b3412cf06b6c
DTSTART:20260423T161500
DTEND:20260423T181500
DESCRIPTION:
LOCATION:
SUMMARY:Baseball\, Softball\, Soccer Home vs Selma
END:VEVENT
BEGIN:VEVENT
DTSTAMP:20260423T101222Z
UID:661edff5-b84e-4220-993e-a9820c5975e1
DTSTART;VALUE=DATE:20260424
DTEND;VALUE=DATE:20260425
DESCRIPTION:
LOCATION:
SUMMARY:Middle School Special Olympics
END:VEVENT
BEGIN:VEVENT
DTSTAMP:20260423T101222Z
UID:e6a3cf5b-4a3f-4978-b779-d658de870dfe
DTSTART:20260424T183000
DTEND:20260424T203000
DESCRIPTION:
LOCATION:
SUMMARY:Talent Show
END:VEVENT
BEGIN:VEVENT
DTSTAMP:20260423T101222Z
UID:e02cd266-3726-489a-8ecf-40be9b9ed898
DTSTART:20260427T161500
DTEND:20260427T181500
DESCRIPTION:
LOCATION:Cleveland High School\, 1892 Polenta Rd\, Clayton\, NC 27520\, USA
SUMMARY:Track: JCPS Championship Meet at Cleveland HS
END:VEVENT
BEGIN:VEVENT
DTSTAMP:20260423T101222Z
UID:9af1db67-ee81-4dd4-85e4-fd57ee0ae5f5
DTSTART:20260428T160000
DTEND:20260428T173000
DESCRIPTION:\nIt will be floating with booths for Mrs. Barefoot\, Rentals\,
  Guidance\,\nPrivate Instructors\, High School info\, and band camp info.
LOCATION:
SUMMARY:Informational Parent Night for New Band Members 
END:VEVENT
BEGIN:VEVENT
DTSTAMP:20260423T101222Z
UID:e898a47b-449b-4696-9b60-44c6fd87ad33
DTSTART:20260428T180000
DTEND:20260428T190000
DESCRIPTION:
LOCATION:
SUMMARY:Upcoming Kindergarten Parent Night
END:VEVENT
BEGIN:VEVENT
DTSTAMP:20260423T101222Z
UID:9d0f6ff4-d6e6-43d8-9fdf-2b79fef41aa0
DTSTART:20260429T161500
DTEND:20260429T181500
DESCRIPTION:
LOCATION:
SUMMARY:Baseball\, Softball\, Soccer Home vs Benson
END:VEVENT
BEGIN:VEVENT
DTSTAMP:20260423T101222Z
UID:178bb3fa-d4d7-4914-910b-866cf041f758
DTSTART;VALUE=DATE:20260501
DTEND;VALUE=DATE:20260502
DESCRIPTION:
LOCATION:
SUMMARY:Hat Day
END:VEVENT
BEGIN:VEVENT
DTSTAMP:20260423T101222Z
UID:aa75346e-6ba8-41d4-b2bc-fd520b628823
DTSTART;VALUE=DATE:20260501
DTEND;VALUE=DATE:20260502
DESCRIPTION:
LOCATION:
SUMMARY:School Lunch Hero Day
END:VEVENT
BEGIN:VEVENT
DTSTAMP:20260423T101222Z
UID:503d1d92-341a-44de-a049-0ae493fd4bee
DTSTART;VALUE=DATE:20260501
DTEND;VALUE=DATE:20260502
DESCRIPTION:
LOCATION:
SUMMARY:School Principal's Day
END:VEVENT
BEGIN:VEVENT
DTSTAMP:20260423T101222Z
UID:2b7fbc36-dc63-43b5-9748-95c869f9a45b
DTSTART:20260501T190000
DTEND:20260501T220000
DESCRIPTION:
LOCATION:Peacock's Barn
SUMMARY:8th Grade Formal
END:VEVENT
BEGIN:VEVENT
DTSTAMP:20260423T101222Z
UID:aec1cbe6-a2b2-49dd-a8e2-aef24690523e
DTSTART;VALUE=DATE:20260504
DTEND;VALUE=DATE:20260509
DESCRIPTION:
LOCATION:
SUMMARY:Teacher Appreciation Week
END:VEVENT
BEGIN:VEVENT
DTSTAMP:20260423T101222Z
UID:61413490-5b7f-427e-8197-c3dc1e508b40
DTSTART;VALUE=DATE:20260506
DTEND;VALUE=DATE:20260507
DESCRIPTION:
LOCATION:
SUMMARY:School Nurse Day
END:VEVENT
BEGIN:VEVENT
DTSTAMP:20260423T101222Z
UID:620c8068-41c2-41a0-ade1-74646bd0ad2e
DTSTART:20260506T183000
DTEND:20260506T193000
DESCRIPTION:
LOCATION:
SUMMARY:Spring Band Concert
END:VEVENT
BEGIN:VEVENT
DTSTAMP:20260423T101222Z
UID:be85818a-3366-469f-9cb6-923cdc837597
DTSTART;VALUE=DATE:20260512
DTEND;VALUE=DATE:20260513
DESCRIPTION:
LOCATION:
SUMMARY:Reading Review
END:VEVENT
BEGIN:VEVENT
DTSTAMP:20260423T101222Z
UID:3adf1bfd-d71a-4bf7-9996-afd1c9986e30
DTSTART;VALUE=DATE:20260513
DTEND;VALUE=DATE:20260516
DESCRIPTION:
LOCATION:
SUMMARY:EOG's
END:VEVENT
BEGIN:VEVENT
DTSTAMP:20260423T101222Z
UID:3aa9ceb1-c5b1-4820-8c0b-0b67b857d213
DTSTART;VALUE=DATE:20260513
DTEND;VALUE=DATE:20260514
DESCRIPTION:
LOCATION:
SUMMARY:Reading EOGs
END:VEVENT
BEGIN:VEVENT
DTSTAMP:20260423T101222Z
UID:88b64517-90d9-426f-bf85-32d3c398703c
DTSTART;VALUE=DATE:20260514
DTEND;VALUE=DATE:20260515
DESCRIPTION:
LOCATION:
SUMMARY:Math Review
END:VEVENT
BEGIN:VEVENT
DTSTAMP:20260423T101222Z
UID:b63e55fc-57c9-4d47-91bc-ffb445958b78
DTSTART;VALUE=DATE:20260515
DTEND;VALUE=DATE:20260516
DESCRIPTION:
LOCATION:
SUMMARY:Math EOGs & Math 1 EOC
END:VEVENT
BEGIN:VEVENT
DTSTAMP:20260423T101222Z
UID:ad2c96ac-3f06-44d3-9a9b-3899fd4cf2d3
DTSTART;VALUE=DATE:20260518
DTEND;VALUE=DATE:20260523
DESCRIPTION:
LOCATION:
SUMMARY:EOGs 
END:VEVENT
BEGIN:VEVENT
DTSTAMP:20260423T101222Z
UID:45954fc0-0599-4b2f-a7a4-fa3e033fd748
DTSTART;VALUE=DATE:20260518
DTEND;VALUE=DATE:20260519
DESCRIPTION:
LOCATION:
SUMMARY:Science Review (5th\, 8th)
END:VEVENT
BEGIN:VEVENT
DTSTAMP:20260423T101222Z
UID:99f847a3-0924-4188-a8d6-c1e4e7d8d053
DTSTART;VALUE=DATE:20260518
DTEND;VALUE=DATE:20260519
DESCRIPTION:
LOCATION:
SUMMARY:Speech Pathologist Day
END:VEVENT
BEGIN:VEVENT
DTSTAMP:20260423T101222Z
UID:89f6bb57-6e3c-4d92-b2b9-8b34390a988f
DTSTART;VALUE=DATE:20260519
DTEND;VALUE=DATE:20260520
DESCRIPTION:
LOCATION:
SUMMARY:Science EOG (5th\, 8th) and RtA (select 3rd)
END:VEVENT
BEGIN:VEVENT
DTSTAMP:20260423T101222Z
UID:4fc0821a-58c1-4375-aeb6-509f82872fa4
DTSTART;VALUE=DATE:20260520
DTEND;VALUE=DATE:20260521
DESCRIPTION:
LOCATION:
SUMMARY:Eng 1 Final Exam
END:VEVENT
BEGIN:VEVENT
DTSTAMP:20260423T101222Z
UID:8f8d1824-df5c-4c94-87de-57a3a04a072e
DTSTART:20260520T180000
DTEND:20260520T190000
DESCRIPTION:
LOCATION:
SUMMARY:Athletic Banquet
END:VEVENT
BEGIN:VEVENT
DTSTAMP:20260423T101222Z
UID:22874108-84e1-436b-9aeb-251241270252
DTSTART;VALUE=DATE:20260522
DTEND;VALUE=DATE:20260523
DESCRIPTION:K 8:45-9:15\n3-5 9:30-10:45\n1-2 11:00-12:00\n6-7 12:30-1:30\n\
 n*1st\, 2nd lunch at 12:25\, tables 1\,2
LOCATION:
SUMMARY:Grades K-7 Awards Day
END:VEVENT
BEGIN:VEVENT
DTSTAMP:20260423T101222Z
UID:8e594c90-a58b-46c5-b79e-6ec7f4024a36
DTSTART;VALUE=DATE:20260525
DTEND;VALUE=DATE:20260526
DESCRIPTION:
LOCATION:
SUMMARY:No School\; Memorial Day 
END:VEVENT
BEGIN:VEVENT
DTSTAMP:20260423T101222Z
UID:d0287743-75ca-46f2-a820-62fdbf04d946
DTSTART;VALUE=DATE:20260526
DTEND;VALUE=DATE:20260528
DESCRIPTION:
LOCATION:
SUMMARY:EOGs
END:VEVENT
BEGIN:VEVENT
DTSTAMP:20260423T101222Z
UID:28cffcf4-8653-4392-a911-17f79d7bc5a5
DTSTART:20260526T091500
DTEND:20260526T103000
DESCRIPTION:
LOCATION:
SUMMARY:8th Grade Promotion
END:VEVENT
BEGIN:VEVENT
DTSTAMP:20260423T101222Z
UID:81dd2d4d-22f5-423a-9269-a26c2460ba17
DTSTART:20260526T113000
DTEND:20260526T133000
DESCRIPTION:
LOCATION:
SUMMARY:8th Grade Cookout
END:VEVENT
BEGIN:VEVENT
DTSTAMP:20260423T101222Z
UID:5328d8e6-4ea8-430a-b557-501c2b94969c
DTSTART;VALUE=DATE:20260527
DTEND;VALUE=DATE:20260528
DESCRIPTION:
LOCATION:
SUMMARY:Early Dismissal
END:VEVENT
BEGIN:VEVENT
DTSTAMP:20260423T101222Z
UID:12145f1b-9b3f-49d3-8d85-8fce41d1e843
DTSTART;VALUE=DATE:20260527
DTEND;VALUE=DATE:20260528
DESCRIPTION:
LOCATION:
SUMMARY:Last Day of School
END:VEVENT
BEGIN:VEVENT
DTSTAMP:20260423T101222Z
UID:7876f74a-cdc0-435c-ba3c-d26bbdcf315b
DTSTART;VALUE=DATE:20260527
DTEND;VALUE=DATE:20260528
DESCRIPTION:
LOCATION:
SUMMARY:Q4 Report Cards Go Home
END:VEVENT
BEGIN:VEVENT
DTSTAMP:20260423T101222Z
UID:7716c82f-3cde-4bf0-8a3d-39c314947358
DTSTART;VALUE=DATE:20260601
DTEND;VALUE=DATE:20260603
DESCRIPTION:
LOCATION:
SUMMARY:Kindergarten Assessments
END:VEVENT
BEGIN:VEVENT
DTSTAMP:20260423T101222Z
UID:5249a7c6-2c98-4cfe-b5f4-021643cc9c13
DTSTART;VALUE=DATE:20260810
DTEND;VALUE=DATE:20260811
DESCRIPTION:
LOCATION:
SUMMARY:Kindergarten Assessments
END:VEVENT
BEGIN:VEVENT
DTSTAMP:20260423T101222Z
UID:8f19bc00-aa08-4568-9512-991fce55935a
DTSTART;VALUE=DATE:20260826
DTEND;VALUE=DATE:20260827
DESCRIPTION:
LOCATION:
SUMMARY:1/2 Kindergarten Start
END:VEVENT
BEGIN:VEVENT
DTSTAMP:20260423T101222Z
UID:9da9f2c9-eb12-43e2-a011-d449f856ad05
DTSTART;VALUE=DATE:20260827
DTEND;VALUE=DATE:20260828
DESCRIPTION:
LOCATION:
SUMMARY:1/2 Kindergarten Start
END:VEVENT
BEGIN:VEVENT
DTSTAMP:20260423T101222Z
UID:ae9d6ee8-7c5d-4eb1-b794-2247f15aec5e
DTSTART;VALUE=DATE:20260828
DTEND;VALUE=DATE:20260829
DESCRIPTION:
LOCATION:
SUMMARY:All Kindergarten Attend School
END:VEVENT
BEGIN:VEVENT
DTSTAMP:20260423T101222Z
UID:10ced0f9-85cb-4804-83f4-98cd63ef1aec
DTSTART;VALUE=DATE:20261103
DTEND;VALUE=DATE:20261104
DESCRIPTION:
LOCATION:
SUMMARY:General Elections Voting Site
END:VEVENT
END:VCALENDAR
