BEGIN:VCALENDAR
VERSION:2.0
PRODID:icalendar-ruby
CALSCALE:GREGORIAN
BEGIN:VTIMEZONE
TZID:America/New_York
BEGIN:DAYLIGHT
DTSTART:20260308T030000
TZOFFSETFROM:-0500
TZOFFSETTO:-0400
RRULE:FREQ=YEARLY;BYDAY=2SU;BYMONTH=3
TZNAME:EDT
END:DAYLIGHT
BEGIN:STANDARD
DTSTART:20261101T010000
TZOFFSETFROM:-0400
TZOFFSETTO:-0500
RRULE:FREQ=YEARLY;BYDAY=1SU;BYMONTH=11
TZNAME:EST
END:STANDARD
END:VTIMEZONE
BEGIN:VEVENT
DTSTAMP:20260423T160243Z
UID:990467e0-25d7-4220-89b2-0328d4f473e6
DTSTART;VALUE=DATE:20260424
DTEND;VALUE=DATE:20260425
DESCRIPTION:
LOCATION:
SUMMARY:Progress Reports
END:VEVENT
BEGIN:VEVENT
DTSTAMP:20260423T160243Z
UID:0235407b-21d2-4dc1-8694-d16883508200
DTSTART:20260505T073000
DTEND:20260506T134500
DESCRIPTION:
LOCATION:
SUMMARY:3rd-5th Grade SC Ready Reading
END:VEVENT
BEGIN:VEVENT
DTSTAMP:20260423T160243Z
UID:e972e03f-7210-4710-8ed4-d01112f39909
DTSTART:20260507T073000
DTEND:20260507T134500
DESCRIPTION:
LOCATION:
SUMMARY:3rd-5th Grade SC Ready Writing
END:VEVENT
BEGIN:VEVENT
DTSTAMP:20260423T160243Z
UID:530f78b8-3e3e-4e10-8f2c-5876b045ca32
DTSTART:20260512T073000
DTEND:20260513T134500
DESCRIPTION:
LOCATION:
SUMMARY:3rd-5th Grade SC Ready Math
END:VEVENT
BEGIN:VEVENT
DTSTAMP:20260423T160243Z
UID:061d6b4e-210e-4e5b-9f97-96d48e5ba1e2
DTSTART:20260514T073000
DTEND:20260514T134500
DESCRIPTION:
LOCATION:
SUMMARY:4th Grade SC Ready Science
END:VEVENT
BEGIN:VEVENT
DTSTAMP:20260423T160243Z
UID:454f2fbd-91ef-46af-93f1-d2ecb538373b
DTSTART;VALUE=DATE:20260525
DTEND;VALUE=DATE:20260526
DESCRIPTION:
LOCATION:
SUMMARY:Memorial Day (Schools and Offices Closed)
END:VEVENT
BEGIN:VEVENT
DTSTAMP:20260423T160243Z
UID:dd510b6e-ec89-4a78-bdf0-22937875e8b5
DTSTART;VALUE=DATE:20260601
DTEND;VALUE=DATE:20260602
DESCRIPTION:
LOCATION:
SUMMARY:Last Day of School/Half Day for All Students/Report Cards/End of Q4
END:VEVENT
BEGIN:VEVENT
DTSTAMP:20260423T160243Z
UID:dc40ed5e-459b-4246-bbfa-3c66484bedc5
DTSTART;VALUE=DATE:20260602
DTEND;VALUE=DATE:20260603
DESCRIPTION:
LOCATION:
SUMMARY:Last Day for Teachers/Teacher Workday
END:VEVENT
END:VCALENDAR
