BEGIN:VCALENDAR
VERSION:2.0
PRODID:icalendar-ruby
CALSCALE:GREGORIAN
BEGIN:VTIMEZONE
TZID:America/New_York
BEGIN:DAYLIGHT
DTSTART:20260308T030000
TZOFFSETFROM:-0500
TZOFFSETTO:-0400
RRULE:FREQ=YEARLY;BYDAY=2SU;BYMONTH=3
TZNAME:EDT
END:DAYLIGHT
BEGIN:STANDARD
DTSTART:20261101T010000
TZOFFSETFROM:-0400
TZOFFSETTO:-0500
RRULE:FREQ=YEARLY;BYDAY=1SU;BYMONTH=11
TZNAME:EST
END:STANDARD
END:VTIMEZONE
BEGIN:VEVENT
DTSTAMP:20260423T234732Z
UID:e62cc34c-dfeb-47a3-b88a-576850e512c1
DTSTART;VALUE=DATE:20260413
DTEND;VALUE=DATE:20260506
DESCRIPTION:
LOCATION:
SUMMARY:EOY K-2 Math Assessment
END:VEVENT
BEGIN:VEVENT
DTSTAMP:20260423T234732Z
UID:57b2596f-d473-4a01-9f46-a73e584af3ba
DTSTART;VALUE=DATE:20260422
DTEND;VALUE=DATE:20260506
DESCRIPTION:
LOCATION:
SUMMARY:EOY Mclass
END:VEVENT
BEGIN:VEVENT
DTSTAMP:20260423T234732Z
UID:b096494f-6a77-402b-9849-4fdc7bec5e80
DTSTART:20260425T160000
DTEND:20260425T170000
DESCRIPTION:
LOCATION:
SUMMARY:All County Chorus Concert
END:VEVENT
BEGIN:VEVENT
DTSTAMP:20260423T234732Z
UID:6bc2960f-cbe1-4b87-8a43-bad9567a3282
DTSTART:20260429T071500
DTEND:20260429T081500
DESCRIPTION:
LOCATION:
SUMMARY:EOG Test Training
END:VEVENT
BEGIN:VEVENT
DTSTAMP:20260423T234732Z
UID:1bcd4e4f-c8a0-4ac9-bbbd-8b5a66b00936
DTSTART;VALUE=DATE:20260501
DTEND;VALUE=DATE:20260502
DESCRIPTION:
LOCATION:
SUMMARY:NJHS Graduation Walk
END:VEVENT
BEGIN:VEVENT
DTSTAMP:20260423T234732Z
UID:b60b9953-962a-447a-9c11-43b2ca8d3de0
DTSTART:20260501T180000
DTEND:20260501T210000
DESCRIPTION:
LOCATION:
SUMMARY:Wilson Warbirds Game (PTA Event & Jazzy Cats Perform)
END:VEVENT
BEGIN:VEVENT
DTSTAMP:20260423T234732Z
UID:06331cae-e18c-4ac9-bad8-b546111b7059
DTSTART:20260511T173000
DTEND:20260511T183000
DESCRIPTION:
LOCATION:
SUMMARY:Kindergarten Readiness Night
END:VEVENT
BEGIN:VEVENT
DTSTAMP:20260423T234732Z
UID:01e0ce51-6a9a-465a-8756-c54e65f0c740
DTSTART;VALUE=DATE:20260513
DTEND;VALUE=DATE:20260514
DESCRIPTION:
LOCATION:
SUMMARY:Reading EOG
END:VEVENT
BEGIN:VEVENT
DTSTAMP:20260423T234732Z
UID:b0fee0eb-d468-4540-b803-b93b3ca49678
DTSTART;VALUE=DATE:20260515
DTEND;VALUE=DATE:20260516
DESCRIPTION:
LOCATION:
SUMMARY:Math EOG
END:VEVENT
BEGIN:VEVENT
DTSTAMP:20260423T234732Z
UID:45cd4b09-a29d-4a38-b2a2-dbc701147e2a
DTSTART;VALUE=DATE:20260519
DTEND;VALUE=DATE:20260520
DESCRIPTION:
LOCATION:
SUMMARY:Science EOG (5th Only) & RTA (3rd)
END:VEVENT
BEGIN:VEVENT
DTSTAMP:20260423T234732Z
UID:10ab9eee-def5-4c3f-9ff7-9d4d5fa61a5c
DTSTART;VALUE=DATE:20260522
DTEND;VALUE=DATE:20260523
DESCRIPTION:
LOCATION:
SUMMARY:K-4 Awards Day
END:VEVENT
BEGIN:VEVENT
DTSTAMP:20260423T234732Z
UID:e99de03e-e974-4403-8655-cf529482aea4
DTSTART;VALUE=DATE:20260525
DTEND;VALUE=DATE:20260526
DESCRIPTION:
LOCATION:
SUMMARY:No School
END:VEVENT
BEGIN:VEVENT
DTSTAMP:20260423T234732Z
UID:043276b9-4b92-47db-9ce2-e4bf5bc2c092
DTSTART;VALUE=DATE:20260526
DTEND;VALUE=DATE:20260527
DESCRIPTION:
LOCATION:
SUMMARY:5th Grade Awards/Celebration
END:VEVENT
BEGIN:VEVENT
DTSTAMP:20260423T234732Z
UID:1ff8b7b8-5313-4b1e-abab-b3ea3437b113
DTSTART;VALUE=DATE:20260527
DTEND;VALUE=DATE:20260528
DESCRIPTION:
LOCATION:
SUMMARY:PTA Celebration
END:VEVENT
BEGIN:VEVENT
DTSTAMP:20260423T234732Z
UID:dcd00b35-31f6-4850-8502-33e016bdfdab
DTSTART:20260527T135500
DTEND:20260527T141000
DESCRIPTION:
LOCATION:
SUMMARY:Last Day of School Early Dismissal 
END:VEVENT
END:VCALENDAR
