BEGIN:VCALENDAR
VERSION:2.0
PRODID:icalendar-ruby
CALSCALE:GREGORIAN
BEGIN:VTIMEZONE
TZID:America/New_York
BEGIN:DAYLIGHT
DTSTART:20260308T030000
TZOFFSETFROM:-0500
TZOFFSETTO:-0400
RRULE:FREQ=YEARLY;BYDAY=2SU;BYMONTH=3
TZNAME:EDT
END:DAYLIGHT
BEGIN:STANDARD
DTSTART:20261101T010000
TZOFFSETFROM:-0400
TZOFFSETTO:-0500
RRULE:FREQ=YEARLY;BYDAY=1SU;BYMONTH=11
TZNAME:EST
END:STANDARD
END:VTIMEZONE
BEGIN:VEVENT
DTSTAMP:20260423T101727Z
UID:1bb812d2-7ecb-4a50-8bfa-0353c7882ddf
DTSTART;VALUE=DATE:20260424
DTEND;VALUE=DATE:20260425
DESCRIPTION:
LOCATION:
SUMMARY:FIELD DAY
END:VEVENT
BEGIN:VEVENT
DTSTAMP:20260423T101727Z
UID:cea12ed3-69bc-48eb-af81-b1fa205b70c4
DTSTART;VALUE=DATE:20260504
DTEND;VALUE=DATE:20260509
DESCRIPTION:
LOCATION:
SUMMARY:Teacher Appreciation Week
END:VEVENT
BEGIN:VEVENT
DTSTAMP:20260423T101727Z
UID:69c16005-d383-48c4-bbe9-e55f133c11ac
DTSTART;VALUE=DATE:20260525
DTEND;VALUE=DATE:20260526
DESCRIPTION:
LOCATION:
SUMMARY:Memorial Day Holiday (no school)
END:VEVENT
BEGIN:VEVENT
DTSTAMP:20260423T101727Z
UID:58f4fba8-b1f4-480f-94ae-ec702335b7c5
DTSTART;VALUE=DATE:20260527
DTEND;VALUE=DATE:20260528
DESCRIPTION:
LOCATION:
SUMMARY:Last Day of School (early dismissal)
END:VEVENT
BEGIN:VEVENT
DTSTAMP:20260423T101727Z
UID:1047f8bb-1ef0-4cb0-b065-a1481e0a0127
DTSTART;VALUE=DATE:20260528
DTEND;VALUE=DATE:20260529
DESCRIPTION:
LOCATION:
SUMMARY:Required School Workday
END:VEVENT
BEGIN:VEVENT
DTSTAMP:20260423T101727Z
UID:fe14e30b-6563-4b5d-93a0-142955b596f6
DTSTART;VALUE=DATE:20260529
DTEND;VALUE=DATE:20260530
DESCRIPTION:
LOCATION:
SUMMARY:Required School Workday
END:VEVENT
BEGIN:VEVENT
DTSTAMP:20260423T101727Z
UID:74712eff-43f4-411a-a1a6-89d1b5da8704
DTSTART;VALUE=DATE:20260601
DTEND;VALUE=DATE:20260602
DESCRIPTION:
LOCATION:
SUMMARY:Required School Workday
END:VEVENT
BEGIN:VEVENT
DTSTAMP:20260423T101727Z
UID:dab41446-a718-4422-bb62-f5a05d3fe008
DTSTART;VALUE=DATE:20260602
DTEND;VALUE=DATE:20260603
DESCRIPTION:
LOCATION:
SUMMARY:Required School Workday
END:VEVENT
BEGIN:VEVENT
DTSTAMP:20260423T101727Z
UID:12fabff2-745d-42c8-960a-13817d7ca3b0
DTSTART;VALUE=DATE:20260603
DTEND;VALUE=DATE:20260604
DESCRIPTION:
LOCATION:
SUMMARY:Optional Teacher WD
END:VEVENT
BEGIN:VEVENT
DTSTAMP:20260423T101727Z
UID:6aab4619-6f85-4e9c-8a8d-2ee1f08326f1
DTSTART;VALUE=DATE:20260604
DTEND;VALUE=DATE:20260605
DESCRIPTION:
LOCATION:
SUMMARY:Optional Teacher WD
END:VEVENT
BEGIN:VEVENT
DTSTAMP:20260423T101727Z
UID:b4a1cc74-82d3-49f4-bb70-b830a2f84319
DTSTART;VALUE=DATE:20260605
DTEND;VALUE=DATE:20260606
DESCRIPTION:
LOCATION:
SUMMARY:Optional Teacher WD
END:VEVENT
END:VCALENDAR
