BEGIN:VCALENDAR
VERSION:2.0
PRODID:icalendar-ruby
CALSCALE:GREGORIAN
BEGIN:VTIMEZONE
TZID:America/New_York
BEGIN:DAYLIGHT
DTSTART:20260308T030000
TZOFFSETFROM:-0500
TZOFFSETTO:-0400
RRULE:FREQ=YEARLY;BYDAY=2SU;BYMONTH=3
TZNAME:EDT
END:DAYLIGHT
BEGIN:STANDARD
DTSTART:20261101T010000
TZOFFSETFROM:-0400
TZOFFSETTO:-0500
RRULE:FREQ=YEARLY;BYDAY=1SU;BYMONTH=11
TZNAME:EST
END:STANDARD
END:VTIMEZONE
BEGIN:VEVENT
DTSTAMP:20260423T101701Z
UID:21b9b633-b21f-4a0e-94b3-7f5cfce48e48
DTSTART;VALUE=DATE:20260424
DTEND;VALUE=DATE:20260425
DESCRIPTION:
LOCATION:
SUMMARY:Fun in the Sun Day
END:VEVENT
BEGIN:VEVENT
DTSTAMP:20260423T101701Z
UID:46a315b5-beaa-453a-a84c-784db12e13e3
DTSTART;VALUE=DATE:20260425
DTEND;VALUE=DATE:20260426
DESCRIPTION:
LOCATION:
SUMMARY:Spirit Day at Smith's Nursery (PTO)
END:VEVENT
BEGIN:VEVENT
DTSTAMP:20260423T101701Z
UID:56f36618-2589-4f73-bd54-6b53a820cb0f
DTSTART;VALUE=DATE:20260501
DTEND;VALUE=DATE:20260502
DESCRIPTION:
LOCATION:
SUMMARY:Fun in the Sun Rain Date
END:VEVENT
BEGIN:VEVENT
DTSTAMP:20260423T101701Z
UID:6fd99002-63dc-4a8c-a14d-7e6ee8ea10b2
DTSTART;VALUE=DATE:20260504
DTEND;VALUE=DATE:20260509
DESCRIPTION:
LOCATION:
SUMMARY:Teacher Appreciation Week
END:VEVENT
BEGIN:VEVENT
DTSTAMP:20260423T101701Z
UID:8cc22b34-d9ef-4af5-8359-10ee950e7235
DTSTART:20260504T180000
DTEND:20260504T190000
DESCRIPTION:
LOCATION:
SUMMARY:PTO
END:VEVENT
BEGIN:VEVENT
DTSTAMP:20260423T101701Z
UID:e262c653-bd9f-4c52-9239-7b452fb87647
DTSTART;VALUE=DATE:20260513
DTEND;VALUE=DATE:20260514
DESCRIPTION:
LOCATION:
SUMMARY:ELA EOG
END:VEVENT
BEGIN:VEVENT
DTSTAMP:20260423T101701Z
UID:7ca60525-7ebe-499e-8f90-2093dbd6baa0
DTSTART;VALUE=DATE:20260515
DTEND;VALUE=DATE:20260516
DESCRIPTION:
LOCATION:
SUMMARY:Math EOG
END:VEVENT
BEGIN:VEVENT
DTSTAMP:20260423T101701Z
UID:24fada82-9c3e-4388-b834-3ad14b488d4a
DTSTART;VALUE=DATE:20260518
DTEND;VALUE=DATE:20260528
DESCRIPTION:
LOCATION:
SUMMARY:EOG Make Up Testing
END:VEVENT
BEGIN:VEVENT
DTSTAMP:20260423T101701Z
UID:e9cca5ff-315f-4e9a-b0ad-8415f940062f
DTSTART;VALUE=DATE:20260520
DTEND;VALUE=DATE:20260528
DESCRIPTION:
LOCATION:
SUMMARY:EOG Retesting
END:VEVENT
END:VCALENDAR
