BEGIN:VCALENDAR
VERSION:2.0
PRODID:icalendar-ruby
CALSCALE:GREGORIAN
BEGIN:VTIMEZONE
TZID:America/New_York
BEGIN:DAYLIGHT
DTSTART:20260308T030000
TZOFFSETFROM:-0500
TZOFFSETTO:-0400
RRULE:FREQ=YEARLY;BYDAY=2SU;BYMONTH=3
TZNAME:EDT
END:DAYLIGHT
BEGIN:STANDARD
DTSTART:20261101T010000
TZOFFSETFROM:-0400
TZOFFSETTO:-0500
RRULE:FREQ=YEARLY;BYDAY=1SU;BYMONTH=11
TZNAME:EST
END:STANDARD
END:VTIMEZONE
BEGIN:VEVENT
DTSTAMP:20260419T125152Z
UID:0437357f-7c19-41c8-8507-a0da3948bab1
DTSTART;VALUE=DATE:20260504
DTEND;VALUE=DATE:20260509
DESCRIPTION:
LOCATION:
SUMMARY:Teacher Appreciation Week
END:VEVENT
BEGIN:VEVENT
DTSTAMP:20260419T125152Z
UID:c44f2aab-7d06-4c72-bb38-b7b98a352cf2
DTSTART:20260504T173000
DTEND:20260504T190000
DESCRIPTION:
LOCATION:
SUMMARY:Fine Arts Night
END:VEVENT
BEGIN:VEVENT
DTSTAMP:20260419T125152Z
UID:d7cb3f30-2362-4551-8c9f-fd876362a6fa
DTSTART;VALUE=DATE:20260513
DTEND;VALUE=DATE:20260514
DESCRIPTION:
LOCATION:
SUMMARY:Reading EOG for Grades 3-5
END:VEVENT
BEGIN:VEVENT
DTSTAMP:20260419T125152Z
UID:fb6e20d2-6fae-4b4b-a363-deefa6c0af93
DTSTART;VALUE=DATE:20260515
DTEND;VALUE=DATE:20260516
DESCRIPTION:
LOCATION:
SUMMARY:Math EOG for Grades 3-5
END:VEVENT
BEGIN:VEVENT
DTSTAMP:20260419T125152Z
UID:e9483ef5-82ca-443d-90bb-f7e45ef81491
DTSTART;VALUE=DATE:20260519
DTEND;VALUE=DATE:20260520
DESCRIPTION:
LOCATION:
SUMMARY:Science EOG for Grade 5
END:VEVENT
BEGIN:VEVENT
DTSTAMP:20260419T125152Z
UID:6ef38f6b-8cb0-4de9-bf19-bab887ade0cc
DTSTART:20260522T093000
DTEND:20260522T103000
DESCRIPTION:
LOCATION:
SUMMARY:Kindergarten Awards Ceremony
END:VEVENT
BEGIN:VEVENT
DTSTAMP:20260419T125152Z
UID:91abdf45-a833-4f88-8bcb-ff1534362514
DTSTART:20260522T114500
DTEND:20260522T124500
DESCRIPTION:
LOCATION:
SUMMARY:2nd Grade Awards Ceremony
END:VEVENT
BEGIN:VEVENT
DTSTAMP:20260419T125152Z
UID:ed379495-bbc1-41c8-bcd5-6abe1b586abb
DTSTART:20260522T134500
DTEND:20260522T144500
DESCRIPTION:
LOCATION:
SUMMARY:1st Grade Awards Ceremony
END:VEVENT
BEGIN:VEVENT
DTSTAMP:20260419T125152Z
UID:002e3b5c-28c8-43d5-aee2-146fda16ec3f
DTSTART;VALUE=DATE:20260525
DTEND;VALUE=DATE:20260526
DESCRIPTION:
LOCATION:
SUMMARY:Holiday- No School for Students and Staff
END:VEVENT
BEGIN:VEVENT
DTSTAMP:20260419T125152Z
UID:ad30079b-8c64-476e-a9c5-16cf8dfc55a9
DTSTART:20260526T114500
DTEND:20260526T124500
DESCRIPTION:
LOCATION:
SUMMARY:3rd Grade Awards Ceremony
END:VEVENT
BEGIN:VEVENT
DTSTAMP:20260419T125152Z
UID:f458d6a3-5ff9-48b0-94be-f6eb80986f96
DTSTART:20260526T134500
DTEND:20260526T144500
DESCRIPTION:
LOCATION:
SUMMARY:4th Grade Awards Ceremony
END:VEVENT
BEGIN:VEVENT
DTSTAMP:20260419T125152Z
UID:5dde1030-8564-4422-a8f9-ae66f7725742
DTSTART;VALUE=DATE:20260527
DTEND;VALUE=DATE:20260528
DESCRIPTION:
LOCATION:
SUMMARY:Early Dismissal at 1:55 PM
END:VEVENT
BEGIN:VEVENT
DTSTAMP:20260419T125152Z
UID:b0455e8b-3901-4b29-bfaf-65785f87a50b
DTSTART;VALUE=DATE:20260527
DTEND;VALUE=DATE:20260528
DESCRIPTION:
LOCATION:
SUMMARY:End of 4th Quarter
END:VEVENT
BEGIN:VEVENT
DTSTAMP:20260419T125152Z
UID:5064296f-08cf-4b71-af91-b8b9c902a87c
DTSTART;VALUE=DATE:20260527
DTEND;VALUE=DATE:20260528
DESCRIPTION:
LOCATION:
SUMMARY:Last Day of School
END:VEVENT
BEGIN:VEVENT
DTSTAMP:20260419T125152Z
UID:c53c7f23-fb05-4c52-9f93-9b5287494e50
DTSTART:20260527T110000
DTEND:20260527T120000
DESCRIPTION:
LOCATION:
SUMMARY:5th Grade Awards Ceremony
END:VEVENT
BEGIN:VEVENT
DTSTAMP:20260419T125152Z
UID:2787973c-87b1-4399-bf38-0bb00644a3f4
DTSTART;VALUE=DATE:20260528
DTEND;VALUE=DATE:20260530
DESCRIPTION:
LOCATION:
SUMMARY:Teacher Workday
END:VEVENT
BEGIN:VEVENT
DTSTAMP:20260419T125152Z
UID:a9472285-04b2-4559-9520-9c306ea886d9
DTSTART;VALUE=DATE:20260601
DTEND;VALUE=DATE:20260606
DESCRIPTION:
LOCATION:
SUMMARY:Teacher Workday
END:VEVENT
END:VCALENDAR
