BEGIN:VCALENDAR
VERSION:2.0
PRODID:icalendar-ruby
CALSCALE:GREGORIAN
BEGIN:VTIMEZONE
TZID:America/New_York
BEGIN:DAYLIGHT
DTSTART:20260308T030000
TZOFFSETFROM:-0500
TZOFFSETTO:-0400
RRULE:FREQ=YEARLY;BYDAY=2SU;BYMONTH=3
TZNAME:EDT
END:DAYLIGHT
BEGIN:STANDARD
DTSTART:20261101T010000
TZOFFSETFROM:-0400
TZOFFSETTO:-0500
RRULE:FREQ=YEARLY;BYDAY=1SU;BYMONTH=11
TZNAME:EST
END:STANDARD
END:VTIMEZONE
BEGIN:VEVENT
DTSTAMP:20260423T101640Z
UID:25c8a676-4b6e-4c8a-8b91-17fc1eee2dd8
DTSTART;VALUE=DATE:20260419
DTEND;VALUE=DATE:20260426
DESCRIPTION:
LOCATION:
SUMMARY:National Library Week
END:VEVENT
BEGIN:VEVENT
DTSTAMP:20260423T101640Z
UID:f3e54879-51a8-4482-9101-6bc958ae0918
DTSTART;VALUE=DATE:20260423
DTEND;VALUE=DATE:20260424
DESCRIPTION:
LOCATION:
SUMMARY:Spanish Language Day
END:VEVENT
BEGIN:VEVENT
DTSTAMP:20260423T101640Z
UID:5f071cdc-6029-4ae3-a4c4-28e257d6645c
DTSTART:20260423T173000
DTEND:20260423T183000
DESCRIPTION:
LOCATION:
SUMMARY:Kindergarten Readiness Night
END:VEVENT
BEGIN:VEVENT
DTSTAMP:20260423T101640Z
UID:89f4644c-25c1-497c-aab3-802e486e9c32
DTSTART;VALUE=DATE:20260424
DTEND;VALUE=DATE:20260425
DESCRIPTION:
LOCATION:
SUMMARY:1st Grade Field Trip
END:VEVENT
BEGIN:VEVENT
DTSTAMP:20260423T101640Z
UID:9034633a-ebf5-4101-bcf9-881cdc68683f
DTSTART;VALUE=DATE:20260424
DTEND;VALUE=DATE:20260502
DESCRIPTION:
LOCATION:
SUMMARY:PTA Coin War
END:VEVENT
BEGIN:VEVENT
DTSTAMP:20260423T101640Z
UID:da20b327-a258-42bc-81b8-5bbac7aa9f61
DTSTART;VALUE=DATE:20260501
DTEND;VALUE=DATE:20260508
DESCRIPTION:
LOCATION:
SUMMARY:National Physical Education and Sports Week
END:VEVENT
BEGIN:VEVENT
DTSTAMP:20260423T101640Z
UID:8a366270-7643-4321-acb9-77536faca2c5
DTSTART;VALUE=DATE:20260501
DTEND;VALUE=DATE:20260502
DESCRIPTION:
LOCATION:
SUMMARY:National School Lunch Hero Day
END:VEVENT
BEGIN:VEVENT
DTSTAMP:20260423T101640Z
UID:23b0205c-73a2-4f9c-a800-bcb0dc56a157
DTSTART;VALUE=DATE:20260501
DTEND;VALUE=DATE:20260502
DESCRIPTION:
LOCATION:
SUMMARY:National School Principals' Day
END:VEVENT
BEGIN:VEVENT
DTSTAMP:20260423T101640Z
UID:22ed3d32-8fbe-44cb-b256-4329d90c92b4
DTSTART:20260501T090000
DTEND:20260501T093000
DESCRIPTION:
LOCATION:
SUMMARY:SJHS Senior Walk
END:VEVENT
BEGIN:VEVENT
DTSTAMP:20260423T101640Z
UID:f19ff94a-1c04-41c1-b70e-659820c1e869
DTSTART;VALUE=DATE:20260504
DTEND;VALUE=DATE:20260509
DESCRIPTION:
LOCATION:
SUMMARY:National Teacher Appreciation Week
END:VEVENT
BEGIN:VEVENT
DTSTAMP:20260423T101640Z
UID:b7fc9354-75b1-45d2-8d1c-23c1bc53da72
DTSTART;VALUE=DATE:20260506
DTEND;VALUE=DATE:20260507
DESCRIPTION:
LOCATION:
SUMMARY:Field Day for Grades 3\, 4\, 5
END:VEVENT
BEGIN:VEVENT
DTSTAMP:20260423T101640Z
UID:6a86a044-8365-47be-bc20-bce4087e172b
DTSTART;VALUE=DATE:20260506
DTEND;VALUE=DATE:20260507
DESCRIPTION:Let's show appreciation for our school nurse\, Mrs. Kross!
LOCATION:
SUMMARY:National School Nurse Day
END:VEVENT
BEGIN:VEVENT
DTSTAMP:20260423T101640Z
UID:9fcc16ba-663d-41c5-8013-3834fb6545f4
DTSTART;VALUE=DATE:20260507
DTEND;VALUE=DATE:20260508
DESCRIPTION:
LOCATION:
SUMMARY:Field Day for Grades K\, 1\, 2
END:VEVENT
BEGIN:VEVENT
DTSTAMP:20260423T101640Z
UID:2c4fc08d-996b-4e1d-b6f4-5fe3c9b4f733
DTSTART;VALUE=DATE:20260508
DTEND;VALUE=DATE:20260509
DESCRIPTION:
LOCATION:
SUMMARY:Bronco Reward Day
END:VEVENT
BEGIN:VEVENT
DTSTAMP:20260423T101640Z
UID:a8b2726d-baf9-4769-a88b-1c6e6a729fc3
DTSTART:20260508T161500
DTEND:20260508T181500
DESCRIPTION:
LOCATION:
SUMMARY:PTA EOG Kickoff Glow Party for 3rd\, 4th\, and 5th
END:VEVENT
BEGIN:VEVENT
DTSTAMP:20260423T101640Z
UID:262a286e-d689-4e77-b99d-98e7516501c4
DTSTART;VALUE=DATE:20260510
DTEND;VALUE=DATE:20260511
DESCRIPTION:
LOCATION:
SUMMARY:Mother's Day
END:VEVENT
BEGIN:VEVENT
DTSTAMP:20260423T101640Z
UID:24657cb3-2819-4fb1-a9a8-4b85abdcedad
DTSTART:20260511T140000
DTEND:20260511T150000
DESCRIPTION:Come out to see our 1st grade students perform a patriotic play
  in honor of our country!
LOCATION:
SUMMARY:1st Grade Patriotic Play
END:VEVENT
BEGIN:VEVENT
DTSTAMP:20260423T101640Z
UID:55895ec8-f7d5-4628-8223-495a545fa1cb
DTSTART;VALUE=DATE:20260513
DTEND;VALUE=DATE:20260514
DESCRIPTION:
LOCATION:
SUMMARY:EOG Reading for Grades 3\, 4\, 5
END:VEVENT
BEGIN:VEVENT
DTSTAMP:20260423T101640Z
UID:92508a3a-0d53-4cb9-905c-0802d175802f
DTSTART;VALUE=DATE:20260515
DTEND;VALUE=DATE:20260516
DESCRIPTION:
LOCATION:
SUMMARY:EOG Math for Grades 3\, 4\, 5
END:VEVENT
BEGIN:VEVENT
DTSTAMP:20260423T101640Z
UID:150aada7-1a52-4a89-94e7-0199c9042003
DTSTART;VALUE=DATE:20260519
DTEND;VALUE=DATE:20260520
DESCRIPTION:
LOCATION:
SUMMARY:EOG Science for 5th Grade
END:VEVENT
BEGIN:VEVENT
DTSTAMP:20260423T101640Z
UID:5927f6c8-f7bd-4c58-9258-c63cc684e5e6
DTSTART:20260520T093000
DTEND:20260520T103000
DESCRIPTION:
LOCATION:
SUMMARY:Kindergarten Graduation - Lee\, Atkinson\, Capps
END:VEVENT
BEGIN:VEVENT
DTSTAMP:20260423T101640Z
UID:b2f4b4b4-12c6-4a96-9a99-83616dceedbd
DTSTART:20260520T140000
DTEND:20260520T150000
DESCRIPTION:
LOCATION:
SUMMARY:PreK Graduation
END:VEVENT
BEGIN:VEVENT
DTSTAMP:20260423T101640Z
UID:9cf07451-003d-42f5-8b0b-f114d8450247
DTSTART:20260521T093000
DTEND:20260521T103000
DESCRIPTION:
LOCATION:
SUMMARY:Kindergarten Graduation - Lewis\, Lightbourne\, Hebert\, Rhodes
END:VEVENT
BEGIN:VEVENT
DTSTAMP:20260423T101640Z
UID:ad80f78b-9243-4194-8c70-9a87bceb2777
DTSTART:20260522T093000
DTEND:20260522T101500
DESCRIPTION:
LOCATION:
SUMMARY:2nd Grade Awards Ceremony
END:VEVENT
BEGIN:VEVENT
DTSTAMP:20260423T101640Z
UID:904bc397-669c-477b-9439-f7d668184408
DTSTART:20260522T133000
DTEND:20260522T141500
DESCRIPTION:
LOCATION:
SUMMARY:1st Grade Awards Ceremony
END:VEVENT
BEGIN:VEVENT
DTSTAMP:20260423T101640Z
UID:5c650e5b-93c8-45b5-ba57-953615724b95
DTSTART;VALUE=DATE:20260525
DTEND;VALUE=DATE:20260526
DESCRIPTION:
LOCATION:
SUMMARY:Memorial Day Holiday - NO School
END:VEVENT
BEGIN:VEVENT
DTSTAMP:20260423T101640Z
UID:5fa137b9-7837-42f9-9219-7c5d815510de
DTSTART:20260526T093000
DTEND:20260526T101500
DESCRIPTION:
LOCATION:
SUMMARY:4th Grade Awards Ceremony
END:VEVENT
BEGIN:VEVENT
DTSTAMP:20260423T101640Z
UID:1a58c0e5-0f28-43f0-8fe3-9b1d6c5f0e8f
DTSTART:20260526T133000
DTEND:20260526T141500
DESCRIPTION:
LOCATION:
SUMMARY:3rd Grade Awards Ceremony
END:VEVENT
BEGIN:VEVENT
DTSTAMP:20260423T101640Z
UID:882a3c3d-019c-4de3-b012-221da61b09ac
DTSTART;VALUE=DATE:20260527
DTEND;VALUE=DATE:20260528
DESCRIPTION:
LOCATION:
SUMMARY:Last Day of School - Report Cards Go Home
END:VEVENT
BEGIN:VEVENT
DTSTAMP:20260423T101640Z
UID:9950ee32-fe65-408e-997d-7f1908fda9a1
DTSTART:20260527T093000
DTEND:20260527T103000
DESCRIPTION:
LOCATION:
SUMMARY:5th Grade Graduation
END:VEVENT
BEGIN:VEVENT
DTSTAMP:20260423T101640Z
UID:53d766ea-19db-4989-8814-1cf14bebac9d
DTSTART:20260527T135500
DTEND:20260527T142500
DESCRIPTION:
LOCATION:
SUMMARY:Early Dismissal
END:VEVENT
END:VCALENDAR
