BEGIN:VCALENDAR
VERSION:2.0
PRODID:icalendar-ruby
CALSCALE:GREGORIAN
BEGIN:VTIMEZONE
TZID:America/New_York
BEGIN:DAYLIGHT
DTSTART:20260308T030000
TZOFFSETFROM:-0500
TZOFFSETTO:-0400
RRULE:FREQ=YEARLY;BYDAY=2SU;BYMONTH=3
TZNAME:EDT
END:DAYLIGHT
BEGIN:STANDARD
DTSTART:20261101T010000
TZOFFSETFROM:-0400
TZOFFSETTO:-0500
RRULE:FREQ=YEARLY;BYDAY=1SU;BYMONTH=11
TZNAME:EST
END:STANDARD
END:VTIMEZONE
BEGIN:VEVENT
DTSTAMP:20260419T234959Z
UID:79e5ad0c-d0ba-4764-8388-3144ef74014d
DTSTART:20260429T152500
DTEND:20260429T162500
DESCRIPTION:
LOCATION:
SUMMARY:HES: CARE Club
END:VEVENT
BEGIN:VEVENT
DTSTAMP:20260419T234959Z
UID:885a744f-0ef4-4eab-a21f-c054b173ceea
DTSTART:20260430T080000
DTEND:20260430T085000
DESCRIPTION:
LOCATION:
SUMMARY:HES: Peer Leaders
END:VEVENT
BEGIN:VEVENT
DTSTAMP:20260419T234959Z
UID:0b41c450-a87e-47b6-96bd-9978eee2ba39
DTSTART:20260501T144000
DTEND:20260501T151500
DESCRIPTION:
LOCATION:
SUMMARY:HES: Whole School Meeting
END:VEVENT
BEGIN:VEVENT
DTSTAMP:20260419T234959Z
UID:e516e010-f8c5-47b5-9a35-6e8ae897b2f4
DTSTART;VALUE=DATE:20260504
DTEND;VALUE=DATE:20260506
DESCRIPTION:
LOCATION:
SUMMARY:HES: Gr 5 MCAS
END:VEVENT
BEGIN:VEVENT
DTSTAMP:20260419T234959Z
UID:76f81474-62c3-4615-9ffa-81f881a68540
DTSTART:20260504T143000
DTEND:20260504T151500
DESCRIPTION:
LOCATION:
SUMMARY:HES: GR 2 Poetry Celebration
END:VEVENT
BEGIN:VEVENT
DTSTAMP:20260419T234959Z
UID:f12123b9-ed12-4c93-8cff-2f0a88f55d83
DTSTART;VALUE=DATE:20260507
DTEND;VALUE=DATE:20260509
DESCRIPTION:
LOCATION:
SUMMARY:HES: Gr 4 Math MCAS
END:VEVENT
BEGIN:VEVENT
DTSTAMP:20260419T234959Z
UID:b426de78-b67d-4afb-b736-349f9204950f
DTSTART:20260508T093000
DTEND:20260508T133000
DESCRIPTION:
LOCATION:
SUMMARY:HES: Gr 2 Manomet Science Center Field Trip
END:VEVENT
BEGIN:VEVENT
DTSTAMP:20260419T234959Z
UID:e2e43dd4-d755-4d5b-9a35-015c2bc1ab49
DTSTART:20260508T144500
DTEND:20260508T151500
DESCRIPTION:
LOCATION:
SUMMARY:HES: Experiences
END:VEVENT
BEGIN:VEVENT
DTSTAMP:20260419T234959Z
UID:32467ebe-4213-4853-b9f7-91a846ee0474
DTSTART;VALUE=DATE:20260512
DTEND;VALUE=DATE:20260514
DESCRIPTION:
LOCATION:
SUMMARY:HES: Gr 3 Math MCAS 
END:VEVENT
BEGIN:VEVENT
DTSTAMP:20260419T234959Z
UID:e6e539e8-6c3c-428d-ad90-7e9aec3d5e82
DTSTART:20260512T091500
DTEND:20260512T154500
DESCRIPTION:
LOCATION:
SUMMARY:HES: Grade 5 Gillette Field Trip
END:VEVENT
BEGIN:VEVENT
DTSTAMP:20260419T234959Z
UID:b3c931f8-cc5c-416f-830b-d15873e06bef
DTSTART:20260512T163000
DTEND:20260512T173000
DESCRIPTION:
LOCATION:
SUMMARY:HES: Student Council
END:VEVENT
BEGIN:VEVENT
DTSTAMP:20260419T234959Z
UID:26405f5e-62d5-4d63-926b-072bbf14c20f
DTSTART:20260512T180000
DTEND:20260512T190000
DESCRIPTION:
LOCATION:
SUMMARY:HES: PTA
END:VEVENT
BEGIN:VEVENT
DTSTAMP:20260419T234959Z
UID:9e007303-b79b-43dd-b16a-1f808fdc8f95
DTSTART:20260513T133000
DTEND:20260513T140000
DESCRIPTION:
LOCATION:
SUMMARY:HES: Reading Incentive
END:VEVENT
BEGIN:VEVENT
DTSTAMP:20260419T234959Z
UID:27be0bfe-ae18-4def-aa71-257e31bfafb8
DTSTART:20260513T152500
DTEND:20260513T162500
DESCRIPTION:
LOCATION:
SUMMARY:HES: CARE Club
END:VEVENT
BEGIN:VEVENT
DTSTAMP:20260419T234959Z
UID:b173a6c7-d28f-43c1-a861-e3bb063b3b14
DTSTART;VALUE=DATE:20260514
DTEND;VALUE=DATE:20260516
DESCRIPTION:
LOCATION:
SUMMARY:HES: Gr 5 Science MCAS
END:VEVENT
BEGIN:VEVENT
DTSTAMP:20260419T234959Z
UID:5f03f3f8-a778-4746-a0d2-81ae506e85f9
DTSTART:20260529T093000
DTEND:20260529T143000
DESCRIPTION:
LOCATION:
SUMMARY:HES: Gr 1 Franklin Park Zoo Field Trip
END:VEVENT
BEGIN:VEVENT
DTSTAMP:20260419T234959Z
UID:e33ed82b-606e-490e-b676-cf5943cd62ac
DTSTART:20260601T144000
DTEND:20260601T151500
DESCRIPTION:
LOCATION:
SUMMARY:HES: Whole School Meeting
END:VEVENT
BEGIN:VEVENT
DTSTAMP:20260419T234959Z
UID:c9293dbf-b3b3-4900-ae84-275a9032e32d
DTSTART:20260602T091000
DTEND:20260602T111500
DESCRIPTION:
LOCATION:
SUMMARY:HES: 5th Grade Tour PCIS
END:VEVENT
BEGIN:VEVENT
DTSTAMP:20260419T234959Z
UID:7811b209-7a79-48b6-a9a9-00e61a033f7b
DTSTART:20260602T120000
DTEND:20260602T140000
DESCRIPTION:<ul><li><strong>12:15 PM</strong> – Arrival at PCIS</li><li>
 <strong>12:20–1:20 PM</strong> – Lunch in the cafeteria and PCIS pres
 entation</li><li><strong>1:20–1:40 PM (approx.)</strong> – Building t
 ours</li></ul>
LOCATION:
SUMMARY:HES: PCIS Visit (new time)
END:VEVENT
BEGIN:VEVENT
DTSTAMP:20260419T234959Z
UID:edf5052d-8f00-4881-be5b-15288dd584b4
DTSTART;VALUE=DATE:20260603
DTEND;VALUE=DATE:20260604
DESCRIPTION:
LOCATION:
SUMMARY:HES: GR 2 Water Safety
END:VEVENT
BEGIN:VEVENT
DTSTAMP:20260419T234959Z
UID:b6c4b667-b9a5-4fff-8820-a002fd682a9f
DTSTART:20260603T133000
DTEND:20260603T140000
DESCRIPTION:
LOCATION:
SUMMARY:HES: Reading Incentive
END:VEVENT
BEGIN:VEVENT
DTSTAMP:20260419T234959Z
UID:b7d4bac7-619a-456e-8c5a-cddd25d47d91
DTSTART:20260603T180000
DTEND:20260603T190000
DESCRIPTION:
LOCATION:
SUMMARY:HES: VPA Night
END:VEVENT
BEGIN:VEVENT
DTSTAMP:20260419T234959Z
UID:2dde64ac-2c40-4718-9d16-ebf7c3085db3
DTSTART:20260605T123000
DTEND:20260605T143000
DESCRIPTION:
LOCATION:
SUMMARY:HES: Gr 2 Public Library Field Trip
END:VEVENT
BEGIN:VEVENT
DTSTAMP:20260419T234959Z
UID:2a4a99e6-35f8-4e7e-93ad-3ee07fb8b3fe
DTSTART:20260605T144500
DTEND:20260605T151500
DESCRIPTION:
LOCATION:
SUMMARY:HES: Experiences
END:VEVENT
BEGIN:VEVENT
DTSTAMP:20260419T234959Z
UID:0eb82e82-a1da-4035-9efc-3ee7ae314c5b
DTSTART:20260608T091500
DTEND:20260608T143000
DESCRIPTION:
LOCATION:
SUMMARY:Gr 4 Museum of Science Field Trip
END:VEVENT
BEGIN:VEVENT
DTSTAMP:20260419T234959Z
UID:f3be7d26-23ef-440d-9a6c-22eadfcb1b66
DTSTART:20260608T093000
DTEND:20260608T140000
DESCRIPTION:
LOCATION:
SUMMARY:Gr K Boston Children's Museum Field Trip
END:VEVENT
BEGIN:VEVENT
DTSTAMP:20260419T234959Z
UID:b01c6c65-a318-4489-9a42-063eed1fc6ef
DTSTART:20260608T170000
DTEND:20260608T183000
DESCRIPTION:
LOCATION:
SUMMARY:PPS:ELPAC Meeting
END:VEVENT
BEGIN:VEVENT
DTSTAMP:20260419T234959Z
UID:ba35dace-4ae9-46fb-90f8-7e3c71b26bd8
DTSTART:20260609T163000
DTEND:20260609T173000
DESCRIPTION:
LOCATION:
SUMMARY:HES: Student Council
END:VEVENT
BEGIN:VEVENT
DTSTAMP:20260419T234959Z
UID:fbc5d710-7b8a-4669-985e-1bcb6eb7d11d
DTSTART:20260609T180000
DTEND:20260609T190000
DESCRIPTION:
LOCATION:
SUMMARY:HES: PTA
END:VEVENT
BEGIN:VEVENT
DTSTAMP:20260419T234959Z
UID:130481c5-2fba-4038-aec9-c5eae796b7e2
DTSTART;VALUE=DATE:20260611
DTEND;VALUE=DATE:20260612
DESCRIPTION:
LOCATION:
SUMMARY:HES: Field Day
END:VEVENT
BEGIN:VEVENT
DTSTAMP:20260419T234959Z
UID:79f5c2ec-4850-4902-b239-9f9edbc26113
DTSTART;VALUE=DATE:20260623
DTEND;VALUE=DATE:20260624
DESCRIPTION:
LOCATION:
SUMMARY:HES: Enrichment Day
END:VEVENT
BEGIN:VEVENT
DTSTAMP:20260419T234959Z
UID:2eea2625-5447-4aa5-b9c1-cd8525a57d5b
DTSTART;VALUE=DATE:20260624
DTEND;VALUE=DATE:20260625
DESCRIPTION:
LOCATION:
SUMMARY:HES: Beach Day
END:VEVENT
BEGIN:VEVENT
DTSTAMP:20260419T234959Z
UID:1bd6e427-6c5d-4522-9cce-4d98bdd1a4fe
DTSTART:20260626T143000
DTEND:20260626T150000
DESCRIPTION:
LOCATION:
SUMMARY:HES: Whole School Awards (Time TBD)
END:VEVENT
END:VCALENDAR
