BEGIN:VCALENDAR
VERSION:2.0
PRODID:icalendar-ruby
CALSCALE:GREGORIAN
BEGIN:VTIMEZONE
TZID:America/New_York
BEGIN:DAYLIGHT
DTSTART:20260308T030000
TZOFFSETFROM:-0500
TZOFFSETTO:-0400
RRULE:FREQ=YEARLY;BYDAY=2SU;BYMONTH=3
TZNAME:EDT
END:DAYLIGHT
BEGIN:STANDARD
DTSTART:20261101T010000
TZOFFSETFROM:-0400
TZOFFSETTO:-0500
RRULE:FREQ=YEARLY;BYDAY=1SU;BYMONTH=11
TZNAME:EST
END:STANDARD
END:VTIMEZONE
BEGIN:VEVENT
DTSTAMP:20260420T010322Z
UID:c650cf70-5000-4db5-86c7-c4c59778c1a2
DTSTART:20260506T083000
DTEND:20260506T090000
DESCRIPTION:
LOCATION:
SUMMARY:PSMS - Honors Celebration Grade 6
END:VEVENT
BEGIN:VEVENT
DTSTAMP:20260420T010322Z
UID:1d8e0255-2ad5-4f7d-bbd0-3d8a33dccbbf
DTSTART:20260506T091500
DTEND:20260506T094500
DESCRIPTION:
LOCATION:
SUMMARY:PSMS - Honors Celebration Grade 8
END:VEVENT
BEGIN:VEVENT
DTSTAMP:20260420T010322Z
UID:f77cf12e-3d1e-49cc-a665-948eb71c7e23
DTSTART:20260506T100000
DTEND:20260506T103000
DESCRIPTION:
LOCATION:
SUMMARY:PSMS - Honors Celebration Grade 7
END:VEVENT
BEGIN:VEVENT
DTSTAMP:20260420T010322Z
UID:6bda4daa-b938-4c56-bc34-8927899d8e1a
DTSTART:20260519T183000
DTEND:20260519T193000
DESCRIPTION:
LOCATION:
SUMMARY:PSMS Spring Chorus Concert
END:VEVENT
BEGIN:VEVENT
DTSTAMP:20260420T010322Z
UID:b09fee6a-9a39-4379-897a-d40349347e8f
DTSTART:20260529T083000
DTEND:20260529T140000
DESCRIPTION:
LOCATION:
SUMMARY:PSMS - MA 2026 Civics Showcase - Select Students
END:VEVENT
BEGIN:VEVENT
DTSTAMP:20260420T010322Z
UID:c499bd3a-b910-47a6-bdfd-30e3d9229a15
DTSTART:20260604T084000
DTEND:20260604T144000
DESCRIPTION:
LOCATION:
SUMMARY:PSMS - Grade 6 NamasDay
END:VEVENT
BEGIN:VEVENT
DTSTAMP:20260420T010322Z
UID:c6e427ec-c930-4df5-af11-0252d59ed60d
DTSTART:20260604T183000
DTEND:20260604T193000
DESCRIPTION:
LOCATION:
SUMMARY:PSMS Orchestra & Band Concert
END:VEVENT
BEGIN:VEVENT
DTSTAMP:20260420T010322Z
UID:41301cbd-1960-427a-93e2-f03afe8afe89
DTSTART:20260605T070000
DTEND:20260605T230000
DESCRIPTION:Band & Orchestra\nMr Alger
LOCATION:
SUMMARY:PSMS - Band & Orchestra Field - Trip Trills & Thrills Festival / Si
 x Flags
END:VEVENT
BEGIN:VEVENT
DTSTAMP:20260420T010322Z
UID:98f61430-0014-4416-89b0-1d23c31536f2
DTSTART:20260610T083000
DTEND:20260610T133000
DESCRIPTION:
LOCATION:
SUMMARY:PSMS - Enos/Previti Whydah Pirate Museum Field Trip
END:VEVENT
BEGIN:VEVENT
DTSTAMP:20260420T010322Z
UID:1326e95b-8d2f-4dc0-98cf-c67cddcb46ae
DTSTART:20260610T093000
DTEND:20260610T133000
DESCRIPTION:
LOCATION:
SUMMARY:PSMS - White/McCartin Community Service Learning Trip
END:VEVENT
BEGIN:VEVENT
DTSTAMP:20260420T010322Z
UID:01204890-1bd1-45f6-b24a-f22804000641
DTSTART:20260617T082000
DTEND:20260617T133000
DESCRIPTION:
LOCATION:
SUMMARY:PSMS - Grade 8\, 3rd Floor EMK Field Trip
END:VEVENT
BEGIN:VEVENT
DTSTAMP:20260420T010322Z
UID:d91453fa-ccc2-43e3-b376-a25e5985cc26
DTSTART:20260618T082000
DTEND:20260618T133000
DESCRIPTION:
LOCATION:
SUMMARY:PSMS - Grade 8\, 2nd Floor EMK Field Trip
END:VEVENT
END:VCALENDAR
