BEGIN:VCALENDAR
VERSION:2.0
PRODID:icalendar-ruby
CALSCALE:GREGORIAN
BEGIN:VTIMEZONE
TZID:America/New_York
BEGIN:DAYLIGHT
DTSTART:20260308T030000
TZOFFSETFROM:-0500
TZOFFSETTO:-0400
RRULE:FREQ=YEARLY;BYDAY=2SU;BYMONTH=3
TZNAME:EDT
END:DAYLIGHT
BEGIN:STANDARD
DTSTART:20261101T010000
TZOFFSETFROM:-0400
TZOFFSETTO:-0500
RRULE:FREQ=YEARLY;BYDAY=1SU;BYMONTH=11
TZNAME:EST
END:STANDARD
END:VTIMEZONE
BEGIN:VEVENT
DTSTAMP:20260424T025845Z
UID:4b15797b-8c2a-4939-820d-0a382ef6565a
DTSTART;VALUE=DATE:20260423
DTEND;VALUE=DATE:20260424
DESCRIPTION:
LOCATION:
SUMMARY:FCM: Spring Band Concert
END:VEVENT
BEGIN:VEVENT
DTSTAMP:20260424T025845Z
UID:13a4c4b3-95b2-4a3a-8a69-e3d917c61749
DTSTART:20260424T080000
DTEND:20260424T110000
DESCRIPTION:Sports Physicals for Student Athletes through ReGenesis Health 
 Care. <br>$25 Dollars due at the time of the physical\, along with physic
 al forms. <br><br>For Information\, <a href="https://aptg.co/KXQcdr">CLIC
 K HERE</a><br><br>For Consent Form\, <a href="https://aptg.co/pQt0lH">CLIC
 K HERE</a><br><br>For Physical Form\, <a href="https://aptg.co/Vhx0_J">CL
 ICK HERE</a>
LOCATION:
SUMMARY:Sports Physicals
END:VEVENT
BEGIN:VEVENT
DTSTAMP:20260424T025845Z
UID:4ecb8754-db4d-41c2-abcd-7f9e245593b8
DTSTART;VALUE=DATE:20260430
DTEND;VALUE=DATE:20260501
DESCRIPTION:
LOCATION:
SUMMARY:FCM: Band to Carowinds
END:VEVENT
BEGIN:VEVENT
DTSTAMP:20260424T025845Z
UID:d6e91c03-643a-4c35-8f6a-e0b22cb27162
DTSTART;VALUE=DATE:20260505
DTEND;VALUE=DATE:20260506
DESCRIPTION:
LOCATION:
SUMMARY:SC Ready Reading
END:VEVENT
BEGIN:VEVENT
DTSTAMP:20260424T025845Z
UID:eaf1b426-7784-493f-aa71-2bb9fb1b6c54
DTSTART;VALUE=DATE:20260508
DTEND;VALUE=DATE:20260509
DESCRIPTION:
LOCATION:
SUMMARY:SCREADY Writing 
END:VEVENT
BEGIN:VEVENT
DTSTAMP:20260424T025845Z
UID:50435612-ee86-4075-9a75-76356d92c560
DTSTART;VALUE=DATE:20260512
DTEND;VALUE=DATE:20260513
DESCRIPTION:
LOCATION:
SUMMARY:SCREADY Math
END:VEVENT
BEGIN:VEVENT
DTSTAMP:20260424T025845Z
UID:7c421795-0171-46b6-8c9b-d269ead8638f
DTSTART;VALUE=DATE:20260514
DTEND;VALUE=DATE:20260515
DESCRIPTION:
LOCATION:
SUMMARY:Honors Geometry Final Exam
END:VEVENT
BEGIN:VEVENT
DTSTAMP:20260424T025845Z
UID:bac02f41-db3c-4e0a-ba70-65ff1dfa8359
DTSTART;VALUE=DATE:20260514
DTEND;VALUE=DATE:20260515
DESCRIPTION:
LOCATION:
SUMMARY:SCREADY Science 6th Grade
END:VEVENT
BEGIN:VEVENT
DTSTAMP:20260424T025845Z
UID:cbe322cf-9c01-4fdc-ae89-172b795d739c
DTSTART;VALUE=DATE:20260519
DTEND;VALUE=DATE:20260520
DESCRIPTION:
LOCATION:
SUMMARY:FCM: Q4 House Celebration Day
END:VEVENT
BEGIN:VEVENT
DTSTAMP:20260424T025845Z
UID:ffdb060a-5a72-43bb-a00b-bbcd417c0491
DTSTART;VALUE=DATE:20260521
DTEND;VALUE=DATE:20260522
DESCRIPTION:
LOCATION:
SUMMARY:FCM: 6th/7th Grade Awards
END:VEVENT
BEGIN:VEVENT
DTSTAMP:20260424T025845Z
UID:55b282c8-8129-4d23-8b8a-3307fa4e7cc5
DTSTART;VALUE=DATE:20260522
DTEND;VALUE=DATE:20260523
DESCRIPTION:
LOCATION:
SUMMARY:FCM: 8th Grade Awards
END:VEVENT
END:VCALENDAR
