BEGIN:VCALENDAR
VERSION:2.0
PRODID:icalendar-ruby
CALSCALE:GREGORIAN
BEGIN:VTIMEZONE
TZID:America/New_York
BEGIN:DAYLIGHT
DTSTART:20260308T030000
TZOFFSETFROM:-0500
TZOFFSETTO:-0400
RRULE:FREQ=YEARLY;BYDAY=2SU;BYMONTH=3
TZNAME:EDT
END:DAYLIGHT
BEGIN:STANDARD
DTSTART:20261101T010000
TZOFFSETFROM:-0400
TZOFFSETTO:-0500
RRULE:FREQ=YEARLY;BYDAY=1SU;BYMONTH=11
TZNAME:EST
END:STANDARD
END:VTIMEZONE
BEGIN:VEVENT
DTSTAMP:20260423T130006Z
UID:9d1f728b-0e45-4e2b-9d91-e187776cc9a3
DTSTART:20260423T173000
DTEND:20260423T193000
DESCRIPTION:
LOCATION:
SUMMARY:BSE- Buzzy's Big Time Bash (Spring Carnival)
END:VEVENT
BEGIN:VEVENT
DTSTAMP:20260423T130006Z
UID:e88955e1-cc2b-4182-8d89-a7e4fa177c0c
DTSTART;VALUE=DATE:20260501
DTEND;VALUE=DATE:20260502
DESCRIPTION:
LOCATION:
SUMMARY:BSE- Q4 HIVE Five Day
END:VEVENT
BEGIN:VEVENT
DTSTAMP:20260423T130006Z
UID:c3ca9ca6-77bc-426a-8a11-6de15a4f8704
DTSTART;VALUE=DATE:20260504
DTEND;VALUE=DATE:20260509
DESCRIPTION:
LOCATION:
SUMMARY:BSE- Teacher Appreciation Week
END:VEVENT
BEGIN:VEVENT
DTSTAMP:20260423T130006Z
UID:2f9eaffc-c8d9-4471-8ead-e68cccc2ed72
DTSTART:20260507T173000
DTEND:20260507T193000
DESCRIPTION:
LOCATION:
SUMMARY:BSE- Kick Off To Kindergarten
END:VEVENT
BEGIN:VEVENT
DTSTAMP:20260423T130006Z
UID:9c851cfa-2265-41be-9a9c-d9586982a187
DTSTART:20260518T081500
DTEND:20260518T091500
DESCRIPTION:
LOCATION:
SUMMARY:BSE- PCD AM Awards Day
END:VEVENT
BEGIN:VEVENT
DTSTAMP:20260423T130006Z
UID:d6274e16-ce8a-4a25-807d-09b887b9d05c
DTSTART:20260518T083000
DTEND:20260518T093000
DESCRIPTION:
LOCATION:
SUMMARY:BSE- K5 Awards Day
END:VEVENT
BEGIN:VEVENT
DTSTAMP:20260423T130006Z
UID:d55d39f7-7de4-4e8a-a913-f5f47eb5dce6
DTSTART:20260518T123000
DTEND:20260518T133000
DESCRIPTION:
LOCATION:
SUMMARY:BSE- PCD PM Awards Day
END:VEVENT
BEGIN:VEVENT
DTSTAMP:20260423T130006Z
UID:d22ff163-ac2b-4c68-bc62-4f9ba890e297
DTSTART:20260518T130000
DTEND:20260518T140000
DESCRIPTION:
LOCATION:
SUMMARY:BSE- 2nd Grade Awards Day
END:VEVENT
BEGIN:VEVENT
DTSTAMP:20260423T130006Z
UID:8ce1bbfa-c68c-4ee9-976c-0ed5f1cf549b
DTSTART:20260519T080000
DTEND:20260519T090000
DESCRIPTION:
LOCATION:
SUMMARY:BSE- 4th Grade Awards Day
END:VEVENT
BEGIN:VEVENT
DTSTAMP:20260423T130006Z
UID:948545b1-fe07-4fe1-9c1e-7e652c9de4e9
DTSTART:20260519T093000
DTEND:20260519T103000
DESCRIPTION:
LOCATION:
SUMMARY:BSE- 3rd Grade Awards Day
END:VEVENT
BEGIN:VEVENT
DTSTAMP:20260423T130006Z
UID:191df5e9-78cc-4134-87e8-e788ad752a44
DTSTART:20260519T130000
DTEND:20260519T140000
DESCRIPTION:
LOCATION:
SUMMARY:BSE- 1st Grade Awards Day
END:VEVENT
BEGIN:VEVENT
DTSTAMP:20260423T130006Z
UID:a1e0eace-8be0-4f5f-94c7-f4174fa46e63
DTSTART:20260520T080000
DTEND:20260520T090000
DESCRIPTION:
LOCATION:
SUMMARY:BSE- 5th Grade Awards Day
END:VEVENT
BEGIN:VEVENT
DTSTAMP:20260423T130006Z
UID:b029b678-b391-4992-8aed-b3cc1da3ead1
DTSTART:20260520T130000
DTEND:20260520T140000
DESCRIPTION:
LOCATION:
SUMMARY:BSE- 4K Awards Day
END:VEVENT
END:VCALENDAR
