BEGIN:VCALENDAR
VERSION:2.0
PRODID:icalendar-ruby
CALSCALE:GREGORIAN
BEGIN:VTIMEZONE
TZID:America/New_York
BEGIN:DAYLIGHT
DTSTART:20260308T030000
TZOFFSETFROM:-0500
TZOFFSETTO:-0400
RRULE:FREQ=YEARLY;BYDAY=2SU;BYMONTH=3
TZNAME:EDT
END:DAYLIGHT
BEGIN:STANDARD
DTSTART:20261101T010000
TZOFFSETFROM:-0400
TZOFFSETTO:-0500
RRULE:FREQ=YEARLY;BYDAY=1SU;BYMONTH=11
TZNAME:EST
END:STANDARD
END:VTIMEZONE
BEGIN:VEVENT
DTSTAMP:20260424T132454Z
UID:652b0b5b-5ac2-4464-b88a-60d7b46eaed5
DTSTART;VALUE=DATE:20260424
DTEND;VALUE=DATE:20260425
DESCRIPTION:
LOCATION:
SUMMARY:LES PTO Volunteer Lunch
END:VEVENT
BEGIN:VEVENT
DTSTAMP:20260424T132454Z
UID:8c871d58-5444-4a72-852b-19945555981d
DTSTART;VALUE=DATE:20260427
DTEND;VALUE=DATE:20260428
DESCRIPTION:
LOCATION:
SUMMARY:LES Student Laptops/Chargers Returned to School
END:VEVENT
BEGIN:VEVENT
DTSTAMP:20260424T132454Z
UID:b642c2ea-6bc7-4eda-818a-d1153d54f3f8
DTSTART;VALUE=DATE:20260428
DTEND;VALUE=DATE:20260429
DESCRIPTION:
LOCATION:
SUMMARY:National Superhero Day
END:VEVENT
BEGIN:VEVENT
DTSTAMP:20260424T132454Z
UID:35709d29-e082-4a75-bafc-b225e0526e0d
DTSTART;VALUE=DATE:20260430
DTEND;VALUE=DATE:20260501
DESCRIPTION:
LOCATION:
SUMMARY:LES Pelican's SnoBalls
END:VEVENT
BEGIN:VEVENT
DTSTAMP:20260424T132454Z
UID:fbc09b77-9297-425e-b857-557309493af7
DTSTART:20260430T163000
DTEND:20260430T180000
DESCRIPTION:
LOCATION:
SUMMARY:Fifth Grade Lion Luau
END:VEVENT
BEGIN:VEVENT
DTSTAMP:20260424T132454Z
UID:fb3a6cc0-f8da-45c8-be25-42a813b01005
DTSTART;VALUE=DATE:20260501
DTEND;VALUE=DATE:20260502
DESCRIPTION:
LOCATION:
SUMMARY:LES Last Day for Library Check Out
END:VEVENT
BEGIN:VEVENT
DTSTAMP:20260424T132454Z
UID:a0f31582-4c1c-4e32-9561-51df649628df
DTSTART;VALUE=DATE:20260501
DTEND;VALUE=DATE:20260502
DESCRIPTION:
LOCATION:
SUMMARY:LES Principal's Day
END:VEVENT
BEGIN:VEVENT
DTSTAMP:20260424T132454Z
UID:750be03d-5ca9-4707-8c22-010c9d66e016
DTSTART;VALUE=DATE:20260501
DTEND;VALUE=DATE:20260502
DESCRIPTION:
LOCATION:
SUMMARY:LES School Lunch Hero Day
END:VEVENT
BEGIN:VEVENT
DTSTAMP:20260424T132454Z
UID:1da10267-718f-4c5c-ae5f-8bc90964a352
DTSTART;VALUE=DATE:20260504
DTEND;VALUE=DATE:20260509
DESCRIPTION:
LOCATION:
SUMMARY:LES Teacher Appreciation Week
END:VEVENT
BEGIN:VEVENT
DTSTAMP:20260424T132454Z
UID:d1b3ef3c-e77f-4455-9975-6a841c6490e0
DTSTART;VALUE=DATE:20260505
DTEND;VALUE=DATE:20260506
DESCRIPTION:
LOCATION:
SUMMARY:SC Ready- Reading Part A
END:VEVENT
BEGIN:VEVENT
DTSTAMP:20260424T132454Z
UID:424d2324-a6f3-4f35-a727-ec1f2df7e585
DTSTART;VALUE=DATE:20260506
DTEND;VALUE=DATE:20260507
DESCRIPTION:
LOCATION:
SUMMARY:LES School Nurse Day
END:VEVENT
BEGIN:VEVENT
DTSTAMP:20260424T132454Z
UID:9f15617d-ceb5-4b70-997b-5729e60f2dc1
DTSTART;VALUE=DATE:20260506
DTEND;VALUE=DATE:20260507
DESCRIPTION:
LOCATION:
SUMMARY:SC Ready-Reading Part B
END:VEVENT
BEGIN:VEVENT
DTSTAMP:20260424T132454Z
UID:3236ad95-a0a6-4a53-be2a-39a9253607ca
DTSTART;VALUE=DATE:20260507
DTEND;VALUE=DATE:20260508
DESCRIPTION:
LOCATION:
SUMMARY:LES Pelican's SnoBalls
END:VEVENT
BEGIN:VEVENT
DTSTAMP:20260424T132454Z
UID:58d88f48-b158-4d38-8d43-efcebf3698b6
DTSTART;VALUE=DATE:20260507
DTEND;VALUE=DATE:20260508
DESCRIPTION:
LOCATION:
SUMMARY:SC Ready- Make-up Day
END:VEVENT
BEGIN:VEVENT
DTSTAMP:20260424T132454Z
UID:a59fa8ef-970d-4817-b633-2b9a733a4623
DTSTART;VALUE=DATE:20260508
DTEND;VALUE=DATE:20260509
DESCRIPTION:
LOCATION:
SUMMARY:SC Ready- Writing
END:VEVENT
BEGIN:VEVENT
DTSTAMP:20260424T132454Z
UID:7f032205-f654-4d7d-b386-f30c7bbbb2df
DTSTART;VALUE=DATE:20260511
DTEND;VALUE=DATE:20260512
DESCRIPTION:
LOCATION:
SUMMARY:SC Ready Make-up Testing
END:VEVENT
BEGIN:VEVENT
DTSTAMP:20260424T132454Z
UID:e2c2b091-0d23-412c-bc4d-393f37a1f9db
DTSTART;VALUE=DATE:20260512
DTEND;VALUE=DATE:20260513
DESCRIPTION:
LOCATION:
SUMMARY:SC Ready Math- Day 1
END:VEVENT
BEGIN:VEVENT
DTSTAMP:20260424T132454Z
UID:780c56ac-915a-44cb-a5a3-8f79ac0bfff6
DTSTART:20260512T150000
DTEND:20260512T160000
DESCRIPTION:
LOCATION:
SUMMARY:SIC Meeting
END:VEVENT
BEGIN:VEVENT
DTSTAMP:20260424T132454Z
UID:70b56928-4b4b-4f9a-895b-890d62080e63
DTSTART;VALUE=DATE:20260513
DTEND;VALUE=DATE:20260514
DESCRIPTION:
LOCATION:
SUMMARY:SC Ready Math- Day 2
END:VEVENT
BEGIN:VEVENT
DTSTAMP:20260424T132454Z
UID:1d78efc0-002e-4cb5-95c8-04043d9e742c
DTSTART;VALUE=DATE:20260514
DTEND;VALUE=DATE:20260515
DESCRIPTION:
LOCATION:
SUMMARY:LES Awards Day-K4
END:VEVENT
BEGIN:VEVENT
DTSTAMP:20260424T132454Z
UID:c9db0980-00db-4a60-9d54-5bafd41fd750
DTSTART;VALUE=DATE:20260514
DTEND;VALUE=DATE:20260515
DESCRIPTION:
LOCATION:
SUMMARY:LES Yearbook Signing Day
END:VEVENT
BEGIN:VEVENT
DTSTAMP:20260424T132454Z
UID:fb2a88af-3b9b-4359-8b12-d6cedcc2016e
DTSTART;VALUE=DATE:20260514
DTEND;VALUE=DATE:20260515
DESCRIPTION:
LOCATION:
SUMMARY:SC Ready-Science
END:VEVENT
BEGIN:VEVENT
DTSTAMP:20260424T132454Z
UID:e18c8f35-43a1-4fb7-8dc0-1c5f652a0cea
DTSTART:20260514T100000
DTEND:20260514T113000
DESCRIPTION:
LOCATION:
SUMMARY:5th Grade Awards Ceremony 
END:VEVENT
BEGIN:VEVENT
DTSTAMP:20260424T132454Z
UID:e2111afb-7cc6-4d55-a551-1f6939cfa325
DTSTART;VALUE=DATE:20260515
DTEND;VALUE=DATE:20260516
DESCRIPTION:
LOCATION:
SUMMARY:LES Lions Class' Awards
END:VEVENT
BEGIN:VEVENT
DTSTAMP:20260424T132454Z
UID:83d0ea4a-0812-4b04-a689-3c5dd1e49724
DTSTART:20260515T080000
DTEND:20260515T090000
DESCRIPTION:
LOCATION:
SUMMARY:LES Awards Day- K5
END:VEVENT
BEGIN:VEVENT
DTSTAMP:20260424T132454Z
UID:ba72ec5a-caad-4d84-b2f9-188cca50a853
DTSTART:20260515T093000
DTEND:20260515T103000
DESCRIPTION:
LOCATION:
SUMMARY:LES Awards Day- K5
END:VEVENT
BEGIN:VEVENT
DTSTAMP:20260424T132454Z
UID:0b9ecd78-0b4f-4ffb-919d-cad69400175e
DTSTART:20260518T090000
DTEND:20260518T093000
DESCRIPTION:
LOCATION:
SUMMARY:LES Grad Walk
END:VEVENT
BEGIN:VEVENT
DTSTAMP:20260424T132454Z
UID:706b7e11-a162-4cbe-8071-05854edc41cf
DTSTART:20260518T103000
DTEND:20260518T120000
DESCRIPTION:
LOCATION:
SUMMARY:LES Awards Day-1st Grade
END:VEVENT
BEGIN:VEVENT
DTSTAMP:20260424T132454Z
UID:db92b867-22ef-4de0-a5df-cc306ee5f51d
DTSTART:20260519T080000
DTEND:20260519T093000
DESCRIPTION:
LOCATION:
SUMMARY:LES Awards Day- 2nd Grade
END:VEVENT
BEGIN:VEVENT
DTSTAMP:20260424T132454Z
UID:7e6aed94-0efb-4fda-994e-f6954a26ffbd
DTSTART:20260519T100000
DTEND:20260519T113000
DESCRIPTION:
LOCATION:
SUMMARY:LES Awards Day- 3rd Grade
END:VEVENT
BEGIN:VEVENT
DTSTAMP:20260424T132454Z
UID:58646ff1-a6eb-4c3a-bfbf-871eea2e0f5d
DTSTART;VALUE=DATE:20260520
DTEND;VALUE=DATE:20260521
DESCRIPTION:
LOCATION:
SUMMARY:LES- Last Day for Boys and Girls Club
END:VEVENT
BEGIN:VEVENT
DTSTAMP:20260424T132454Z
UID:1fe3bdfe-6533-43a9-a37e-a94d5517298c
DTSTART:20260520T080000
DTEND:20260520T093000
DESCRIPTION:
LOCATION:
SUMMARY:LES Awards Day-4th Grade
END:VEVENT
BEGIN:VEVENT
DTSTAMP:20260424T132454Z
UID:67fcdb4b-1fe9-4027-a9c8-31229f348980
DTSTART;VALUE=DATE:20260521
DTEND;VALUE=DATE:20260522
DESCRIPTION:
LOCATION:
SUMMARY:LES 1/2 Day- dismiss at 11:30
END:VEVENT
BEGIN:VEVENT
DTSTAMP:20260424T132454Z
UID:f13bf9d8-ce5c-4f1d-8e31-f5ebd41eabfb
DTSTART;VALUE=DATE:20260522
DTEND;VALUE=DATE:20260523
DESCRIPTION:
LOCATION:
SUMMARY:Last Student Day
END:VEVENT
BEGIN:VEVENT
DTSTAMP:20260424T132454Z
UID:7e238a42-2630-4835-8053-58102759beb6
DTSTART;VALUE=DATE:20260522
DTEND;VALUE=DATE:20260523
DESCRIPTION:
LOCATION:
SUMMARY:LES 1/2 Day- dismiss at 11:30
END:VEVENT
BEGIN:VEVENT
DTSTAMP:20260424T132454Z
UID:c30f3ab0-4bdb-47df-9272-3b403f0ca9a5
DTSTART;VALUE=DATE:20260525
DTEND;VALUE=DATE:20260526
DESCRIPTION:
LOCATION:
SUMMARY:Memorial Day- no school
END:VEVENT
END:VCALENDAR
