BEGIN:VCALENDAR
VERSION:2.0
PRODID:icalendar-ruby
CALSCALE:GREGORIAN
BEGIN:VTIMEZONE
TZID:America/New_York
BEGIN:DAYLIGHT
DTSTART:20260308T030000
TZOFFSETFROM:-0500
TZOFFSETTO:-0400
RRULE:FREQ=YEARLY;BYDAY=2SU;BYMONTH=3
TZNAME:EDT
END:DAYLIGHT
BEGIN:STANDARD
DTSTART:20261101T010000
TZOFFSETFROM:-0400
TZOFFSETTO:-0500
RRULE:FREQ=YEARLY;BYDAY=1SU;BYMONTH=11
TZNAME:EST
END:STANDARD
END:VTIMEZONE
BEGIN:VEVENT
DTSTAMP:20260423T205955Z
UID:a49c5e44-1972-426d-b506-9f2e5bb08bdd
DTSTART;VALUE=DATE:20260505
DTEND;VALUE=DATE:20260506
DESCRIPTION:
LOCATION:
SUMMARY:SC Ready - Reading Day 1 - 8:30am
END:VEVENT
BEGIN:VEVENT
DTSTAMP:20260423T205955Z
UID:2ea3fed9-5589-4f6a-b1c9-958e3586cba9
DTSTART;VALUE=DATE:20260506
DTEND;VALUE=DATE:20260507
DESCRIPTION:
LOCATION:
SUMMARY:SC Ready - Reading Day 2 - 8:30am
END:VEVENT
BEGIN:VEVENT
DTSTAMP:20260423T205955Z
UID:36ae808e-465e-4022-81d7-a6655b22413c
DTSTART;VALUE=DATE:20260508
DTEND;VALUE=DATE:20260509
DESCRIPTION:
LOCATION:
SUMMARY:SC Ready - Writing - 8:30am
END:VEVENT
BEGIN:VEVENT
DTSTAMP:20260423T205955Z
UID:73b8433f-703b-4c4e-a8e0-f58324721ab6
DTSTART;VALUE=DATE:20260512
DTEND;VALUE=DATE:20260513
DESCRIPTION:
LOCATION:
SUMMARY:SC Ready- Math Day 1 - 8:30am
END:VEVENT
BEGIN:VEVENT
DTSTAMP:20260423T205955Z
UID:f76b45d9-58e6-4ef1-aad5-adcd6265ed8f
DTSTART;VALUE=DATE:20260513
DTEND;VALUE=DATE:20260514
DESCRIPTION:
LOCATION:
SUMMARY:SC Ready- Math Day 2 - 8:30am
END:VEVENT
BEGIN:VEVENT
DTSTAMP:20260423T205955Z
UID:723c0cde-b78f-4479-8ba0-9506737da030
DTSTART;VALUE=DATE:20260514
DTEND;VALUE=DATE:20260515
DESCRIPTION:
LOCATION:
SUMMARY:SC Ready - Science (4th Only) - 8:30am
END:VEVENT
BEGIN:VEVENT
DTSTAMP:20260423T205955Z
UID:95a1c409-d57d-453f-9334-4254fc747f6d
DTSTART;VALUE=DATE:20260521
DTEND;VALUE=DATE:20260522
DESCRIPTION:
LOCATION:
SUMMARY:Student Half Day
END:VEVENT
BEGIN:VEVENT
DTSTAMP:20260423T205955Z
UID:3228f340-37b0-4656-a767-1121436ee917
DTSTART;VALUE=DATE:20260522
DTEND;VALUE=DATE:20260523
DESCRIPTION:
LOCATION:
SUMMARY:Last Student Day/Student Half Day
END:VEVENT
BEGIN:VEVENT
DTSTAMP:20260423T205955Z
UID:98655f59-7beb-471c-a6f1-2a18152f6fef
DTSTART;VALUE=DATE:20260525
DTEND;VALUE=DATE:20260526
DESCRIPTION:
LOCATION:
SUMMARY:Memorial Day Holiday
END:VEVENT
BEGIN:VEVENT
DTSTAMP:20260423T205955Z
UID:8becee9e-58b7-452e-9531-8c07f49351e8
DTSTART;VALUE=DATE:20260526
DTEND;VALUE=DATE:20260527
DESCRIPTION:
LOCATION:
SUMMARY:Staff Development Day/Report Cards
END:VEVENT
END:VCALENDAR
