BEGIN:VCALENDAR
VERSION:2.0
PRODID:icalendar-ruby
CALSCALE:GREGORIAN
BEGIN:VTIMEZONE
TZID:America/New_York
BEGIN:DAYLIGHT
DTSTART:20260308T030000
TZOFFSETFROM:-0500
TZOFFSETTO:-0400
RRULE:FREQ=YEARLY;BYDAY=2SU;BYMONTH=3
TZNAME:EDT
END:DAYLIGHT
BEGIN:STANDARD
DTSTART:20261101T010000
TZOFFSETFROM:-0400
TZOFFSETTO:-0500
RRULE:FREQ=YEARLY;BYDAY=1SU;BYMONTH=11
TZNAME:EST
END:STANDARD
END:VTIMEZONE
BEGIN:VEVENT
DTSTAMP:20260421T101137Z
UID:87363761-f8f5-40e8-aa74-8fcfb34388be
DTSTART:20260512T180000
DTEND:20260512T200000
DESCRIPTION:<html><head><meta http-equiv="Content-Type" content="text/html\
 ; charset=utf-8"></head><body><div class="cal_bf0a"><div><div></div></div>
 </div></body></html>
LOCATION:MCBOE Conference Room
SUMMARY:BOE Meeting [In-person]
END:VEVENT
BEGIN:VEVENT
DTSTAMP:20260421T101137Z
UID:73e683cd-7643-4e68-840a-52566dcc5541
DTSTART;VALUE=DATE:20260525
DTEND;VALUE=DATE:20260526
DESCRIPTION:
LOCATION:
SUMMARY:Memorial Day (No School)
END:VEVENT
BEGIN:VEVENT
DTSTAMP:20260421T101137Z
UID:fede14b6-5d05-4a9c-afec-438f2d003a67
DTSTART;VALUE=DATE:20260529
DTEND;VALUE=DATE:20260530
DESCRIPTION:
LOCATION:
SUMMARY:Last Day of School
END:VEVENT
BEGIN:VEVENT
DTSTAMP:20260421T101137Z
UID:6616a471-2fb5-4249-ab23-06f6b9706529
DTSTART:20260529T190000
DTEND:20260529T193000
DESCRIPTION:
LOCATION:
SUMMARY:MCHS Graduation 
END:VEVENT
BEGIN:VEVENT
DTSTAMP:20260421T101137Z
UID:fd27edcb-fcc7-4364-b570-32b0133c23a5
DTSTART;VALUE=DATE:20260601
DTEND;VALUE=DATE:20260604
DESCRIPTION:
LOCATION:
SUMMARY:Post Planning
END:VEVENT
BEGIN:VEVENT
DTSTAMP:20260421T101137Z
UID:08f8bf6b-1424-47b9-8320-72733aa74fd0
DTSTART;VALUE=DATE:20260612
DTEND;VALUE=DATE:20260613
DESCRIPTION:
LOCATION:
SUMMARY:District Offices Closed
END:VEVENT
BEGIN:VEVENT
DTSTAMP:20260421T101137Z
UID:05a45632-eae6-4f75-bb91-a7af8eb21b3b
DTSTART:20260616T180000
DTEND:20260616T200000
DESCRIPTION:<html><head><meta http-equiv="Content-Type" content="text/html\
 ; charset=utf-8"></head><body><div class="cal_e7d3"><div><div></div></div>
 </div></body></html>
LOCATION:MCBOE Conference Room
SUMMARY:BOE Meeting [In-person]
END:VEVENT
BEGIN:VEVENT
DTSTAMP:20260421T101137Z
UID:0eaf5003-63fa-4264-9410-6d8d0d9d856c
DTSTART;VALUE=DATE:20260618
DTEND;VALUE=DATE:20260619
DESCRIPTION:
LOCATION:
SUMMARY:District Offices Closed
END:VEVENT
BEGIN:VEVENT
DTSTAMP:20260421T101137Z
UID:f76d3ebe-a9d0-4048-8900-9155fafcbb5f
DTSTART;VALUE=DATE:20260619
DTEND;VALUE=DATE:20260620
DESCRIPTION:
LOCATION:
SUMMARY:Juneteenth
END:VEVENT
BEGIN:VEVENT
DTSTAMP:20260421T101137Z
UID:6676dc9d-0687-4789-a88b-95c40eb89899
DTSTART;VALUE=DATE:20260626
DTEND;VALUE=DATE:20260627
DESCRIPTION:
LOCATION:
SUMMARY:District Offices Closed
END:VEVENT
BEGIN:VEVENT
DTSTAMP:20260421T101137Z
UID:6dfcff52-e9fd-49a5-b352-c25b728c137a
DTSTART;VALUE=DATE:20260703
DTEND;VALUE=DATE:20260704
DESCRIPTION:
LOCATION:
SUMMARY:District Offices Closed
END:VEVENT
BEGIN:VEVENT
DTSTAMP:20260421T101137Z
UID:6f8ce25d-b7c2-45a0-bc1b-d737229011d3
DTSTART;VALUE=DATE:20260706
DTEND;VALUE=DATE:20260711
DESCRIPTION:
LOCATION:
SUMMARY:District Offices Closed
END:VEVENT
BEGIN:VEVENT
DTSTAMP:20260421T101137Z
UID:7760c702-8759-4f1d-b42d-cd4a4a8f6f5f
DTSTART;VALUE=DATE:20260717
DTEND;VALUE=DATE:20260718
DESCRIPTION:
LOCATION:
SUMMARY:District Offices Closed
END:VEVENT
BEGIN:VEVENT
DTSTAMP:20260421T101137Z
UID:60d6766b-23a4-43ff-a76a-183667bf8b17
DTSTART:20260721T180000
DTEND:20260721T200000
DESCRIPTION:<html><head><meta http-equiv="Content-Type" content="text/html\
 ; charset=utf-8"></head><body><div class="cal_e7d3"><div><div></div></div>
 </div></body></html>
LOCATION:MCBOE Conference Room
SUMMARY:BOE Meeting [In-person]
END:VEVENT
BEGIN:VEVENT
DTSTAMP:20260421T101137Z
UID:1b8fdb1f-4748-4505-a5ee-a7ad1533e308
DTSTART;VALUE=DATE:20260723
DTEND;VALUE=DATE:20260725
DESCRIPTION:
LOCATION:
SUMMARY:New Employee Orientation
END:VEVENT
BEGIN:VEVENT
DTSTAMP:20260421T101137Z
UID:b0c58ed3-ab4a-445b-af3a-de02f30a4a42
DTSTART;VALUE=DATE:20260727
DTEND;VALUE=DATE:20260802
DESCRIPTION:
LOCATION:
SUMMARY:Preplanning
END:VEVENT
BEGIN:VEVENT
DTSTAMP:20260421T101137Z
UID:1134c180-19fa-4f92-9d09-9b96003fc8e9
DTSTART;VALUE=DATE:20260803
DTEND;VALUE=DATE:20260804
DESCRIPTION:
LOCATION:
SUMMARY:First Day for Students
END:VEVENT
BEGIN:VEVENT
DTSTAMP:20260421T101137Z
UID:762bfa3a-8427-48a2-b1d9-332c02b6731d
DTSTART:20260811T180000
DTEND:20260811T200000
DESCRIPTION:<html><head><meta http-equiv="Content-Type" content="text/html\
 ; charset=utf-8"></head><body><div class="cal_e7d3"><div><div></div></div>
 </div></body></html>
LOCATION:MCBOE Conference Room
SUMMARY:BOE Meeting [In-person]
END:VEVENT
BEGIN:VEVENT
DTSTAMP:20260421T101137Z
UID:7507c1cd-469a-43e3-b2ae-8de8ecc7b86b
DTSTART;VALUE=DATE:20260907
DTEND;VALUE=DATE:20260908
DESCRIPTION:
LOCATION:
SUMMARY:Labor Day
END:VEVENT
BEGIN:VEVENT
DTSTAMP:20260421T101137Z
UID:5e8b19c2-2a09-4f38-b8c7-afee9f451e90
DTSTART:20260908T180000
DTEND:20260908T200000
DESCRIPTION:<html><head><meta http-equiv="Content-Type" content="text/html\
 ; charset=utf-8"></head><body><div class="cal_e7d3"><div><div></div></div>
 </div></body></html>
LOCATION:MCBOE Conference Room
SUMMARY:BOE Meeting [In-person]
END:VEVENT
BEGIN:VEVENT
DTSTAMP:20260421T101137Z
UID:40026afb-f517-4cf2-932c-4b681b68f54f
DTSTART:20261006T180000
DTEND:20261006T200000
DESCRIPTION:<html><head><meta http-equiv="Content-Type" content="text/html\
 ; charset=utf-8"></head><body><div class="cal_e7d3"><div><div></div></div>
 </div></body></html>
LOCATION:MCBOE Conference Room
SUMMARY:BOE Meeting [In-person]
END:VEVENT
BEGIN:VEVENT
DTSTAMP:20260421T101137Z
UID:299294c5-4715-45f1-a25b-ea37e5481145
DTSTART:20261110T180000
DTEND:20261110T200000
DESCRIPTION:<html><head><meta http-equiv="Content-Type" content="text/html\
 ; charset=utf-8"></head><body><div class="cal_e73"><div><div></div></div><
 /div></body></html>
LOCATION:MCBOE Conference Room
SUMMARY:BOE Meeting [In-person]
END:VEVENT
END:VCALENDAR
