BEGIN:VCALENDAR
VERSION:2.0
PRODID:icalendar-ruby
CALSCALE:GREGORIAN
BEGIN:VTIMEZONE
TZID:America/Chicago
BEGIN:DAYLIGHT
DTSTART:20260308T030000
TZOFFSETFROM:-0600
TZOFFSETTO:-0500
RRULE:FREQ=YEARLY;BYDAY=2SU;BYMONTH=3
TZNAME:CDT
END:DAYLIGHT
BEGIN:STANDARD
DTSTART:20261101T010000
TZOFFSETFROM:-0500
TZOFFSETTO:-0600
RRULE:FREQ=YEARLY;BYDAY=1SU;BYMONTH=11
TZNAME:CST
END:STANDARD
END:VTIMEZONE
BEGIN:VEVENT
DTSTAMP:20260426T023715Z
UID:4192193e-1941-422d-80ac-aaf440bb62f8
DTSTART:20260425T183000
DTEND:20260425T193000
DESCRIPTION:
LOCATION:
SUMMARY:LCHS Prom - Grand March
END:VEVENT
BEGIN:VEVENT
DTSTAMP:20260426T023715Z
UID:b7ddc9a6-0d71-4b61-80fb-0c70d360a3dc
DTSTART;VALUE=DATE:20260427
DTEND;VALUE=DATE:20260428
DESCRIPTION:
LOCATION:
SUMMARY:EOC - Alg. 1\, Alg. 2\, Geometry
END:VEVENT
BEGIN:VEVENT
DTSTAMP:20260426T023715Z
UID:a81c14ba-13ff-45fc-b1e9-1e1efd842833
DTSTART;VALUE=DATE:20260428
DTEND;VALUE=DATE:20260429
DESCRIPTION:
LOCATION:
SUMMARY:EOC - Alg. 1\, Alg. 2\, Geometry
END:VEVENT
BEGIN:VEVENT
DTSTAMP:20260426T023715Z
UID:34c6ce03-1846-4827-9802-8f9ffe2aabbc
DTSTART;VALUE=DATE:20260429
DTEND;VALUE=DATE:20260430
DESCRIPTION:
LOCATION:
SUMMARY:EOC - US History
END:VEVENT
BEGIN:VEVENT
DTSTAMP:20260426T023715Z
UID:c60554c0-6296-4d4a-b1e6-a39006e510f6
DTSTART;VALUE=DATE:20260430
DTEND;VALUE=DATE:20260501
DESCRIPTION:
LOCATION:
SUMMARY:EOC - US History 
END:VEVENT
BEGIN:VEVENT
DTSTAMP:20260426T023715Z
UID:9fdb6c42-6c34-42a2-a85d-efbc1e2bae36
DTSTART;VALUE=DATE:20260501
DTEND;VALUE=DATE:20260502
DESCRIPTION:
LOCATION:
SUMMARY:School Principal's Day
END:VEVENT
BEGIN:VEVENT
DTSTAMP:20260426T023715Z
UID:79753095-fe58-4bc3-a87c-653375ae3d01
DTSTART:20260501T090000
DTEND:20260501T100000
DESCRIPTION:
LOCATION:
SUMMARY:Senior Awards Day -
END:VEVENT
BEGIN:VEVENT
DTSTAMP:20260426T023715Z
UID:9b3a148a-7ce8-4886-ab11-67eafee08bc9
DTSTART;VALUE=DATE:20260504
DTEND;VALUE=DATE:20260509
DESCRIPTION:
LOCATION:
SUMMARY:Teacher Appreciation Week
END:VEVENT
BEGIN:VEVENT
DTSTAMP:20260426T023715Z
UID:fd35a412-8950-4646-b588-20b69a33fab1
DTSTART;VALUE=DATE:20260506
DTEND;VALUE=DATE:20260507
DESCRIPTION:
LOCATION:
SUMMARY:School Nurse Day
END:VEVENT
BEGIN:VEVENT
DTSTAMP:20260426T023715Z
UID:aee273b8-a2e6-4361-ba98-029ec171be72
DTSTART;VALUE=DATE:20260512
DTEND;VALUE=DATE:20260514
DESCRIPTION:
LOCATION:
SUMMARY:Chromebook Takeup 
END:VEVENT
BEGIN:VEVENT
DTSTAMP:20260426T023715Z
UID:d5fa0be3-706d-453d-89f5-d54688e36c51
DTSTART;VALUE=DATE:20260519
DTEND;VALUE=DATE:20260520
DESCRIPTION:
LOCATION:
SUMMARY:Final Exams
END:VEVENT
BEGIN:VEVENT
DTSTAMP:20260426T023715Z
UID:f2b4cc5e-5d08-420a-a657-c7df9d3f6b46
DTSTART;VALUE=DATE:20260520
DTEND;VALUE=DATE:20260521
DESCRIPTION:
LOCATION:
SUMMARY:Final Exams
END:VEVENT
BEGIN:VEVENT
DTSTAMP:20260426T023715Z
UID:f7f968f0-e620-48ed-a9bb-d4a969201612
DTSTART;VALUE=DATE:20260521
DTEND;VALUE=DATE:20260522
DESCRIPTION:
LOCATION:
SUMMARY:Staff Development - No School
END:VEVENT
BEGIN:VEVENT
DTSTAMP:20260426T023715Z
UID:3837f7ea-1b4b-46d3-a6fd-e2e5e04153bf
DTSTART;VALUE=DATE:20260522
DTEND;VALUE=DATE:20260523
DESCRIPTION:
LOCATION:
SUMMARY:Last Day of School for Students 1/2 Day
END:VEVENT
BEGIN:VEVENT
DTSTAMP:20260426T023715Z
UID:4bcca766-42f5-4ca5-89f5-aaca1de8609d
DTSTART;VALUE=DATE:20260522
DTEND;VALUE=DATE:20260523
DESCRIPTION:
LOCATION:
SUMMARY:Report Cards
END:VEVENT
BEGIN:VEVENT
DTSTAMP:20260426T023715Z
UID:a5740861-33a6-4705-9422-1b4f92e1e326
DTSTART:20260522T193000
DTEND:20260522T203000
DESCRIPTION:
LOCATION:
SUMMARY:Graduation
END:VEVENT
END:VCALENDAR
