BEGIN:VCALENDAR
VERSION:2.0
PRODID:icalendar-ruby
CALSCALE:GREGORIAN
BEGIN:VTIMEZONE
TZID:America/Los_Angeles
BEGIN:DAYLIGHT
DTSTART:20260308T030000
TZOFFSETFROM:-0800
TZOFFSETTO:-0700
RRULE:FREQ=YEARLY;BYDAY=2SU;BYMONTH=3
TZNAME:PDT
END:DAYLIGHT
BEGIN:STANDARD
DTSTART:20261101T010000
TZOFFSETFROM:-0700
TZOFFSETTO:-0800
RRULE:FREQ=YEARLY;BYDAY=1SU;BYMONTH=11
TZNAME:PST
END:STANDARD
END:VTIMEZONE
BEGIN:VEVENT
DTSTAMP:20260420T031430Z
UID:a50ff4c3-f3ff-4556-88d9-973859c5a884
DTSTART:20260422T084000
DTEND:20260422T131500
DESCRIPTION:<p>Every Wednesday School lets out at 1:15 PM instead of 2:25 P
 M</p>
LOCATION:4950 Sunburst Ave\, Joshua Tree\, CA 92252\, USA
SUMMARY:Early Release Every Wednesday 
END:VEVENT
BEGIN:VEVENT
DTSTAMP:20260420T031430Z
UID:677573d9-0572-46c2-bb21-877c26384adc
DTSTART:20260429T084000
DTEND:20260429T131500
DESCRIPTION:<p>Every Wednesday School lets out at 1:15 PM instead of 2:25 P
 M</p>
LOCATION:4950 Sunburst Ave\, Joshua Tree\, CA 92252\, USA
SUMMARY:Early Release Every Wednesday 
END:VEVENT
BEGIN:VEVENT
DTSTAMP:20260420T031430Z
UID:eef4c5f6-c9ef-4d9a-8560-7172f113c8a1
DTSTART:20260506T084000
DTEND:20260506T131500
DESCRIPTION:<p>Every Wednesday School lets out at 1:15 PM instead of 2:25 P
 M</p>
LOCATION:4950 Sunburst Ave\, Joshua Tree\, CA 92252\, USA
SUMMARY:Early Release Every Wednesday 
END:VEVENT
BEGIN:VEVENT
DTSTAMP:20260420T031430Z
UID:5ce21cf1-3dae-4726-9c6b-a4289f77cd7e
DTSTART:20260509T080000
DTEND:20260509T121500
DESCRIPTION:<p>Make up one absence by attending a Saturday School </p>
LOCATION:
SUMMARY:Saturday School 
END:VEVENT
BEGIN:VEVENT
DTSTAMP:20260420T031430Z
UID:a94389fe-48ce-47fe-bde9-5964929694f6
DTSTART:20260513T084000
DTEND:20260513T131500
DESCRIPTION:<p>Every Wednesday School lets out at 1:15 PM instead of 2:25 P
 M</p>
LOCATION:4950 Sunburst Ave\, Joshua Tree\, CA 92252\, USA
SUMMARY:Early Release Every Wednesday 
END:VEVENT
BEGIN:VEVENT
DTSTAMP:20260420T031430Z
UID:f0226cd6-e878-47f7-ab4e-2ebf7d85de7d
DTSTART:20260520T084000
DTEND:20260520T131500
DESCRIPTION:<p>Every Wednesday School lets out at 1:15 PM instead of 2:25 P
 M</p>
LOCATION:4950 Sunburst Ave\, Joshua Tree\, CA 92252\, USA
SUMMARY:Early Release Every Wednesday 
END:VEVENT
BEGIN:VEVENT
DTSTAMP:20260420T031430Z
UID:b96f3274-edac-4cf5-b661-b08cfc25c529
DTSTART:20260527T084000
DTEND:20260527T131500
DESCRIPTION:<p>Every Wednesday School lets out at 1:15 PM instead of 2:25 P
 M</p>
LOCATION:4950 Sunburst Ave\, Joshua Tree\, CA 92252\, USA
SUMMARY:Early Release Every Wednesday 
END:VEVENT
BEGIN:VEVENT
DTSTAMP:20260420T031430Z
UID:0c9be6d9-0c70-440e-b855-3feb9ef83fbe
DTSTART:20260603T084000
DTEND:20260603T131500
DESCRIPTION:<p>Every Wednesday School lets out at 1:15 PM instead of 2:25 P
 M</p>
LOCATION:4950 Sunburst Ave\, Joshua Tree\, CA 92252\, USA
SUMMARY:Early Release Every Wednesday 
END:VEVENT
END:VCALENDAR
