BEGIN:VCALENDAR
VERSION:2.0
PRODID:icalendar-ruby
CALSCALE:GREGORIAN
BEGIN:VTIMEZONE
TZID:America/New_York
BEGIN:DAYLIGHT
DTSTART:20260308T030000
TZOFFSETFROM:-0500
TZOFFSETTO:-0400
RRULE:FREQ=YEARLY;BYDAY=2SU;BYMONTH=3
TZNAME:EDT
END:DAYLIGHT
BEGIN:STANDARD
DTSTART:20261101T010000
TZOFFSETFROM:-0400
TZOFFSETTO:-0500
RRULE:FREQ=YEARLY;BYDAY=1SU;BYMONTH=11
TZNAME:EST
END:STANDARD
END:VTIMEZONE
BEGIN:VEVENT
DTSTAMP:20260425T195708Z
UID:e0c91571-c65c-4110-b5a6-3f7f2da6dbc1
DTSTART;VALUE=DATE:20260425
DTEND;VALUE=DATE:20260426
DESCRIPTION:
LOCATION:
SUMMARY:Men's Volleyball @ Swansboro Round Robin
END:VEVENT
BEGIN:VEVENT
DTSTAMP:20260425T195708Z
UID:9333fd2b-f4a7-47a1-9428-5e091ecb971b
DTSTART:20260427T163000
DTEND:20260427T173000
DESCRIPTION:
LOCATION:
SUMMARY:Soccer @ Greenwood
END:VEVENT
BEGIN:VEVENT
DTSTAMP:20260425T195708Z
UID:ceba6719-0e7b-4125-b58f-1a33edc47aec
DTSTART:20260427T173000
DTEND:20260427T183000
DESCRIPTION:
LOCATION:
SUMMARY:Baseball/Softball vs. Greenwood
END:VEVENT
BEGIN:VEVENT
DTSTAMP:20260425T195708Z
UID:68adcb07-b8bf-4f56-a8a6-683722f018b3
DTSTART:20260429T110000
DTEND:20260429T130000
DESCRIPTION:
LOCATION:
SUMMARY:Career Fair (Grades 10-12)
END:VEVENT
BEGIN:VEVENT
DTSTAMP:20260425T195708Z
UID:ee11e576-1c6d-48c3-a8c0-de00cc6ac9a8
DTSTART:20260429T173000
DTEND:20260429T183000
DESCRIPTION:
LOCATION:
SUMMARY:8th Grade Parent/Student WCC Info Night
END:VEVENT
BEGIN:VEVENT
DTSTAMP:20260425T195708Z
UID:4bb5449c-c3e5-43a5-9fa5-5a477c59ec47
DTSTART:20260430T173000
DTEND:20260430T183000
DESCRIPTION:
LOCATION:
SUMMARY:Baseball/Softball vs. Grantham
END:VEVENT
BEGIN:VEVENT
DTSTAMP:20260425T195708Z
UID:2d7f4cae-8cdb-4a9e-8ba7-e2aa8b4cf3cc
DTSTART;VALUE=DATE:20260501
DTEND;VALUE=DATE:20260502
DESCRIPTION:
LOCATION:
SUMMARY:Progress Reports
END:VEVENT
BEGIN:VEVENT
DTSTAMP:20260425T195708Z
UID:db1c470b-fa5c-46da-96bb-84d46972290b
DTSTART;VALUE=DATE:20260501
DTEND;VALUE=DATE:20260502
DESCRIPTION:
LOCATION:
SUMMARY:Prom
END:VEVENT
BEGIN:VEVENT
DTSTAMP:20260425T195708Z
UID:422edf7d-69eb-468f-826e-7b33d8390f64
DTSTART:20260504T163000
DTEND:20260504T173000
DESCRIPTION:
LOCATION:
SUMMARY:Baseball/Softball @ Rosewood
END:VEVENT
BEGIN:VEVENT
DTSTAMP:20260425T195708Z
UID:7afd31f1-1369-4e00-888a-d65e0563466c
DTSTART:20260504T163000
DTEND:20260504T173000
DESCRIPTION:
LOCATION:
SUMMARY:Soccer vs. Rosewood
END:VEVENT
BEGIN:VEVENT
DTSTAMP:20260425T195708Z
UID:cbcb237d-026b-4ea0-b307-9b494c0ede14
DTSTART:20260504T170000
DTEND:20260504T173000
DESCRIPTION:
LOCATION:PLC meeting room
SUMMARY:PTO Meeting
END:VEVENT
BEGIN:VEVENT
DTSTAMP:20260425T195708Z
UID:cce9fa56-f279-4e1e-901e-932e9e655711
DTSTART:20260506T170000
DTEND:20260506T173000
DESCRIPTION:
LOCATION:PLC meeting room
SUMMARY:PTO Meeting
END:VEVENT
BEGIN:VEVENT
DTSTAMP:20260425T195708Z
UID:4ed3c11f-3df1-44f6-abac-0460581ab9a2
DTSTART:20260506T173000
DTEND:20260506T190000
DESCRIPTION:
LOCATION:
SUMMARY:Baseball vs. Mt. Olive
END:VEVENT
BEGIN:VEVENT
DTSTAMP:20260425T195708Z
UID:622b56cb-d3bc-4d14-b84a-d4a711daaa96
DTSTART:20260507T163000
DTEND:20260507T173000
DESCRIPTION:
LOCATION:
SUMMARY:Soccer @ Mt. Olive
END:VEVENT
BEGIN:VEVENT
DTSTAMP:20260425T195708Z
UID:db4c2fdc-3c8b-4ee5-9958-dd795eed23ea
DTSTART;VALUE=DATE:20260508
DTEND;VALUE=DATE:20260509
DESCRIPTION:
LOCATION:
SUMMARY:Exams
END:VEVENT
BEGIN:VEVENT
DTSTAMP:20260425T195708Z
UID:44ee4905-4515-41ec-b00d-cc9fd48bacc6
DTSTART;VALUE=DATE:20260511
DTEND;VALUE=DATE:20260512
DESCRIPTION:
LOCATION:
SUMMARY:Exams
END:VEVENT
BEGIN:VEVENT
DTSTAMP:20260425T195708Z
UID:b57e6a78-88ac-4bae-b0ca-af6b927c9fd4
DTSTART:20260511T163000
DTEND:20260511T173000
DESCRIPTION:
LOCATION:
SUMMARY:Baseball/Softball @ Grantham
END:VEVENT
BEGIN:VEVENT
DTSTAMP:20260425T195708Z
UID:a86830db-460b-4a5e-9d93-6e0ac4030a08
DTSTART:20260511T163000
DTEND:20260511T173000
DESCRIPTION:
LOCATION:
SUMMARY:Soccer vs. Grantham
END:VEVENT
BEGIN:VEVENT
DTSTAMP:20260425T195708Z
UID:7a0c7ee7-c148-4fc6-99fa-701a70a058c3
DTSTART;VALUE=DATE:20260512
DTEND;VALUE=DATE:20260513
DESCRIPTION:
LOCATION:
SUMMARY:Exams
END:VEVENT
BEGIN:VEVENT
DTSTAMP:20260425T195708Z
UID:590ee1a6-8f11-4f1c-9c85-bdee2bdfd04b
DTSTART:20260512T170000
DTEND:20260512T180000
DESCRIPTION:
LOCATION:
SUMMARY:Parent Advisory Committee Mtg
END:VEVENT
BEGIN:VEVENT
DTSTAMP:20260425T195708Z
UID:b827bef9-fc7e-425c-b64a-884d1e332b52
DTSTART;VALUE=DATE:20260513
DTEND;VALUE=DATE:20260514
DESCRIPTION:
LOCATION:
SUMMARY:Exams
END:VEVENT
BEGIN:VEVENT
DTSTAMP:20260425T195708Z
UID:9b2c1efa-a823-4124-ade4-4155165d171f
DTSTART;VALUE=DATE:20260514
DTEND;VALUE=DATE:20260515
DESCRIPTION:
LOCATION:
SUMMARY:Exams
END:VEVENT
BEGIN:VEVENT
DTSTAMP:20260425T195708Z
UID:9a2d66ee-a632-493c-9890-79cc87f4add2
DTSTART;VALUE=DATE:20260515
DTEND;VALUE=DATE:20260516
DESCRIPTION:
LOCATION:
SUMMARY:Exams
END:VEVENT
BEGIN:VEVENT
DTSTAMP:20260425T195708Z
UID:2ed9d670-9cc9-45ec-9b35-fe69df9675ba
DTSTART;VALUE=DATE:20260518
DTEND;VALUE=DATE:20260519
DESCRIPTION:
LOCATION:
SUMMARY:Exams
END:VEVENT
BEGIN:VEVENT
DTSTAMP:20260425T195708Z
UID:fb2cb568-daf9-49cc-bea7-652b41843c9a
DTSTART;VALUE=DATE:20260518
DTEND;VALUE=DATE:20260519
DESCRIPTION:
LOCATION:
SUMMARY:Last Day of School
END:VEVENT
BEGIN:VEVENT
DTSTAMP:20260425T195708Z
UID:1722b7f3-6a01-4d0d-9834-b3e63ad93cd2
DTSTART;VALUE=DATE:20260519
DTEND;VALUE=DATE:20260520
DESCRIPTION:
LOCATION:
SUMMARY:DWD
END:VEVENT
BEGIN:VEVENT
DTSTAMP:20260425T195708Z
UID:b40f5947-ed71-4612-babd-cffc071c358e
DTSTART:20260519T100000
DTEND:20260519T110000
DESCRIPTION:
LOCATION:
SUMMARY:Graduation Practice
END:VEVENT
BEGIN:VEVENT
DTSTAMP:20260425T195708Z
UID:831e0a80-6415-4b17-adf2-15f8631a2764
DTSTART;VALUE=DATE:20260520
DTEND;VALUE=DATE:20260521
DESCRIPTION:
LOCATION:
SUMMARY:DWD
END:VEVENT
BEGIN:VEVENT
DTSTAMP:20260425T195708Z
UID:205272e3-996d-46c2-bf7d-cbf856f66c2a
DTSTART:20260520T100000
DTEND:20260520T110000
DESCRIPTION:
LOCATION:
SUMMARY:Graduation Practice
END:VEVENT
BEGIN:VEVENT
DTSTAMP:20260425T195708Z
UID:ad5fbac4-1851-4ef6-a9f6-0e1d635c8669
DTSTART:20260520T180000
DTEND:20260520T190000
DESCRIPTION:
LOCATION:
SUMMARY:Graduation
END:VEVENT
BEGIN:VEVENT
DTSTAMP:20260425T195708Z
UID:335e7347-5e20-4ac9-b2d7-25bb7d89fae1
DTSTART;VALUE=DATE:20260521
DTEND;VALUE=DATE:20260522
DESCRIPTION:
LOCATION:
SUMMARY:DWD
END:VEVENT
BEGIN:VEVENT
DTSTAMP:20260425T195708Z
UID:86b32c47-3bf6-48c1-b5e2-3d73aedcbd26
DTSTART;VALUE=DATE:20260522
DTEND;VALUE=DATE:20260523
DESCRIPTION:
LOCATION:
SUMMARY:TWD
END:VEVENT
BEGIN:VEVENT
DTSTAMP:20260425T195708Z
UID:8da7cc08-fc1f-4af2-a7b3-dec0ce365b2b
DTSTART;VALUE=DATE:20260526
DTEND;VALUE=DATE:20260527
DESCRIPTION:
LOCATION:
SUMMARY:TWD
END:VEVENT
BEGIN:VEVENT
DTSTAMP:20260425T195708Z
UID:b10ab100-7c6e-4a13-a973-4b53fac6f2f1
DTSTART;VALUE=DATE:20260527
DTEND;VALUE=DATE:20260528
DESCRIPTION:
LOCATION:
SUMMARY:TWD
END:VEVENT
BEGIN:VEVENT
DTSTAMP:20260425T195708Z
UID:f1905e24-83b1-4c62-9919-55d2922866dc
DTSTART;VALUE=DATE:20260528
DTEND;VALUE=DATE:20260529
DESCRIPTION:
LOCATION:
SUMMARY:TWD
END:VEVENT
END:VCALENDAR
