BEGIN:VCALENDAR
VERSION:2.0
PRODID:icalendar-ruby
CALSCALE:GREGORIAN
BEGIN:VTIMEZONE
TZID:America/New_York
BEGIN:DAYLIGHT
DTSTART:20260308T030000
TZOFFSETFROM:-0500
TZOFFSETTO:-0400
RRULE:FREQ=YEARLY;BYDAY=2SU;BYMONTH=3
TZNAME:EDT
END:DAYLIGHT
BEGIN:STANDARD
DTSTART:20261101T010000
TZOFFSETFROM:-0400
TZOFFSETTO:-0500
RRULE:FREQ=YEARLY;BYDAY=1SU;BYMONTH=11
TZNAME:EST
END:STANDARD
END:VTIMEZONE
BEGIN:VEVENT
DTSTAMP:20260423T153835Z
UID:fb46ab23-0d79-4ce4-80d5-942f27f61dc7
DTSTART;VALUE=DATE:20260423
DTEND;VALUE=DATE:20260424
DESCRIPTION:
LOCATION:
SUMMARY:JV/Varsity Baseball HOME vs Greene Central
END:VEVENT
BEGIN:VEVENT
DTSTAMP:20260423T153835Z
UID:c5a79eac-f234-4789-8c88-c1b919ef4421
DTSTART;VALUE=DATE:20260423
DTEND;VALUE=DATE:20260424
DESCRIPTION:
LOCATION:
SUMMARY:Softball BYE
END:VEVENT
BEGIN:VEVENT
DTSTAMP:20260423T153835Z
UID:213c5e03-cf6f-4c24-9fdd-b6ee3df37683
DTSTART;VALUE=DATE:20260423
DTEND;VALUE=DATE:20260424
DESCRIPTION:
LOCATION:
SUMMARY:Women's Soccer BYE
END:VEVENT
BEGIN:VEVENT
DTSTAMP:20260423T153835Z
UID:0fde8684-ab71-43f8-8a19-cafdb0b22ded
DTSTART;VALUE=DATE:20260424
DTEND;VALUE=DATE:20260430
DESCRIPTION:
LOCATION:
SUMMARY:DECA International Conference - Atlanta GA
END:VEVENT
BEGIN:VEVENT
DTSTAMP:20260423T153835Z
UID:1eb1d594-38b7-4f5f-bcbf-81b6a1e5ff49
DTSTART;VALUE=DATE:20260424
DTEND;VALUE=DATE:20260425
DESCRIPTION:
LOCATION:
SUMMARY:FFA Regional Rally @ UMO
END:VEVENT
BEGIN:VEVENT
DTSTAMP:20260423T153835Z
UID:9841ff50-8ed1-42a0-aabc-756c077e6e3a
DTSTART;VALUE=DATE:20260424
DTEND;VALUE=DATE:20260425
DESCRIPTION:
LOCATION:
SUMMARY:Unified Track Meet AWAY @ So. Johnston
END:VEVENT
BEGIN:VEVENT
DTSTAMP:20260423T153835Z
UID:879a618d-7962-4026-947d-e709de52d93b
DTSTART:20260424T163000
DTEND:20260424T203000
DESCRIPTION:
LOCATION:
SUMMARY:JV/Varsity Baseball AWAY @ Grace Christian
END:VEVENT
BEGIN:VEVENT
DTSTAMP:20260423T153835Z
UID:3f1a897d-2426-4aff-b7f7-593f92fbd916
DTSTART:20260424T170000
DTEND:20260424T190000
DESCRIPTION:
LOCATION:
SUMMARY:Softball HOME vs Greene Central
END:VEVENT
BEGIN:VEVENT
DTSTAMP:20260423T153835Z
UID:2c12946e-5c11-437a-b1d9-e59d5a41136a
DTSTART;VALUE=DATE:20260427
DTEND;VALUE=DATE:20260428
DESCRIPTION:
LOCATION:
SUMMARY:Men's Tennis Playoffs - TBA
END:VEVENT
BEGIN:VEVENT
DTSTAMP:20260423T153835Z
UID:7192e802-b045-4323-921a-ced9ff92884f
DTSTART:20260427T180000
DTEND:20260427T200000
DESCRIPTION:
LOCATION:
SUMMARY:Softball AWAY @ Ayden Grifton HS
END:VEVENT
BEGIN:VEVENT
DTSTAMP:20260423T153835Z
UID:10ea1414-f8fd-4217-b025-fac12e69ee0a
DTSTART:20260427T183000
DTEND:20260427T200000
DESCRIPTION:
LOCATION:
SUMMARY:Women's Soccer HOME vs Fike*
END:VEVENT
BEGIN:VEVENT
DTSTAMP:20260423T153835Z
UID:77453748-ccf8-4a8c-8bfc-6bfeda2073f8
DTSTART:20260428T160000
DTEND:20260428T210000
DESCRIPTION:
LOCATION:
SUMMARY:JV/Varsity Baseball HOME vs Fike*
END:VEVENT
BEGIN:VEVENT
DTSTAMP:20260423T153835Z
UID:6a3f863e-f25d-4943-8892-33e2eb57a45c
DTSTART:20260428T180000
DTEND:20260428T200000
DESCRIPTION:
LOCATION:
SUMMARY:Softball HOME vs Fike*
END:VEVENT
BEGIN:VEVENT
DTSTAMP:20260423T153835Z
UID:4676105b-8159-4c16-a729-2c91c374e521
DTSTART:20260429T153000
DTEND:20260429T173000
DESCRIPTION:
LOCATION:
SUMMARY:Men's/Women's Track Conference Meet AWAY @ Rocky Mount
END:VEVENT
BEGIN:VEVENT
DTSTAMP:20260423T153835Z
UID:cd22c5dc-6dc0-4e64-a7e0-9e7e9c02ef51
DTSTART:20260430T103000
DTEND:20260430T130000
DESCRIPTION:
LOCATION:
SUMMARY:Herff Jones Senior Class Supply Meeting
END:VEVENT
BEGIN:VEVENT
DTSTAMP:20260423T153835Z
UID:b737ce64-3060-4c39-840b-35bd1a4ed81a
DTSTART:20260430T180000
DTEND:20260430T200000
DESCRIPTION:
LOCATION:
SUMMARY:Softball AWAY @ So. Wayne*
END:VEVENT
BEGIN:VEVENT
DTSTAMP:20260423T153835Z
UID:2b59e8c5-3483-4f6c-b8e7-d31c95e7b1ee
DTSTART:20260430T180000
DTEND:20260430T210000
DESCRIPTION:
LOCATION:
SUMMARY:Varsity Baseball AWAY @ So. Wayne*
END:VEVENT
BEGIN:VEVENT
DTSTAMP:20260423T153835Z
UID:a93914d1-990f-4102-8def-47b7432d6785
DTSTART:20260430T180000
DTEND:20260430T200000
DESCRIPTION:
LOCATION:
SUMMARY:Women's Soccer AWAY @ So. Wayne*
END:VEVENT
BEGIN:VEVENT
DTSTAMP:20260423T153835Z
UID:c71fdaee-4d96-4a5e-b941-467ab7dc8009
DTSTART;VALUE=DATE:20260501
DTEND;VALUE=DATE:20260502
DESCRIPTION:
LOCATION:
SUMMARY:5A Men's Tennis Regional Playoffs AWAY @ Barton College
END:VEVENT
BEGIN:VEVENT
DTSTAMP:20260423T153835Z
UID:20718e8e-e983-4837-aadb-67f8841cbce6
DTSTART:20260501T133000
DTEND:20260501T143000
DESCRIPTION:
LOCATION:
SUMMARY:NHS Induction Ceremony
END:VEVENT
BEGIN:VEVENT
DTSTAMP:20260423T153835Z
UID:45a10896-52bb-4792-9081-4f11375fa932
DTSTART:20260501T160000
DTEND:20260501T210000
DESCRIPTION:
LOCATION:
SUMMARY:JV/Varsity Baseball AWAY @ Terry Sanford
END:VEVENT
BEGIN:VEVENT
DTSTAMP:20260423T153835Z
UID:d1548988-767d-4c21-8c72-260493b8d2d8
DTSTART:20260502T080000
DTEND:20260502T120000
DESCRIPTION:
LOCATION:
SUMMARY:Mock AP Pre-Cal Practice Test
END:VEVENT
BEGIN:VEVENT
DTSTAMP:20260423T153835Z
UID:021cd8ef-0a4c-4ea7-8be9-4798685ee668
DTSTART;VALUE=DATE:20260504
DTEND;VALUE=DATE:20260505
DESCRIPTION:
LOCATION:
SUMMARY:Final Progress Report Sem. 2
END:VEVENT
BEGIN:VEVENT
DTSTAMP:20260423T153835Z
UID:934f03d9-3c07-4e03-bcc5-2c89f6ae0d64
DTSTART;VALUE=DATE:20260504
DTEND;VALUE=DATE:20260505
DESCRIPTION:
LOCATION:
SUMMARY:WCPS Board Meeting
END:VEVENT
BEGIN:VEVENT
DTSTAMP:20260423T153835Z
UID:9c1a2fd9-eb75-4460-bc9d-580391b7a22d
DTSTART:20260504T080000
DTEND:20260504T113000
DESCRIPTION:
LOCATION:
SUMMARY:AP Exam - Biology
END:VEVENT
BEGIN:VEVENT
DTSTAMP:20260423T153835Z
UID:09cfee19-b5b0-421b-ad0a-027315a7e995
DTSTART:20260504T183000
DTEND:20260504T203000
DESCRIPTION:
LOCATION:
SUMMARY:Women's Soccer AWAY @ Hunt*
END:VEVENT
BEGIN:VEVENT
DTSTAMP:20260423T153835Z
UID:832f767a-46df-4cd1-909f-ed27e346bbaf
DTSTART:20260505T120000
DTEND:20260505T153000
DESCRIPTION:
LOCATION:
SUMMARY:AP Exam - US Gov and Politics
END:VEVENT
BEGIN:VEVENT
DTSTAMP:20260423T153835Z
UID:f9e02180-5666-4b64-8847-3a18dee80bee
DTSTART:20260506T080000
DTEND:20260506T120000
DESCRIPTION:
LOCATION:
SUMMARY:AP Exam - English Lit and Composition
END:VEVENT
BEGIN:VEVENT
DTSTAMP:20260423T153835Z
UID:506d6bd6-5100-4a55-a4cf-dc319da5741a
DTSTART:20260506T180000
DTEND:20260506T200000
DESCRIPTION:
LOCATION:
SUMMARY:Women's Soccer HOME vs So. Nash*
END:VEVENT
BEGIN:VEVENT
DTSTAMP:20260423T153835Z
UID:f63cc940-fa17-46db-b710-a6269057c8ac
DTSTART:20260507T080000
DTEND:20260507T120000
DESCRIPTION:
LOCATION:
SUMMARY:AP Exam - World History: Modern
END:VEVENT
BEGIN:VEVENT
DTSTAMP:20260423T153835Z
UID:ec5c5599-a241-4da7-af1e-75cc3e3ba3a6
DTSTART;VALUE=DATE:20260508
DTEND;VALUE=DATE:20260509
DESCRIPTION:
LOCATION:
SUMMARY:5A Men's Tennis State Playoffs AWAY @ Burlington Tennis Center TBA
END:VEVENT
BEGIN:VEVENT
DTSTAMP:20260423T153835Z
UID:7b231d23-ddaa-403d-a367-7321b4567dab
DTSTART:20260508T080000
DTEND:20260508T120000
DESCRIPTION:
LOCATION:
SUMMARY:AP Test - US History
END:VEVENT
BEGIN:VEVENT
DTSTAMP:20260423T153835Z
UID:e50ed317-f9ff-4778-895a-ee3e8bc44227
DTSTART:20260509T083000
DTEND:20260509T123000
DESCRIPTION:
LOCATION:
SUMMARY:Mock AP Earth/Env. Test
END:VEVENT
BEGIN:VEVENT
DTSTAMP:20260423T153835Z
UID:a2033758-4320-4324-96fc-9296546efda7
DTSTART:20260509T100000
DTEND:20260509T170000
DESCRIPTION:
LOCATION:
SUMMARY:Men's/Women's Track Regional Championships AWAY @ Rocky Mount
END:VEVENT
BEGIN:VEVENT
DTSTAMP:20260423T153835Z
UID:82896e33-f518-4a2a-a9f8-f0054276fc76
DTSTART;VALUE=DATE:20260510
DTEND;VALUE=DATE:20260511
DESCRIPTION:
LOCATION:
SUMMARY:Mother's Day
END:VEVENT
BEGIN:VEVENT
DTSTAMP:20260423T153835Z
UID:5a50aa9a-ae51-45f5-ace4-cd764e37a4ac
DTSTART:20260511T080000
DTEND:20260511T120000
DESCRIPTION:
LOCATION:
SUMMARY:AP Test - Calculus
END:VEVENT
BEGIN:VEVENT
DTSTAMP:20260423T153835Z
UID:8bc21bb3-9a40-4778-a557-b894b523edc0
DTSTART:20260511T120000
DTEND:20260511T153000
DESCRIPTION:
LOCATION:
SUMMARY:AP Test - Seminar
END:VEVENT
BEGIN:VEVENT
DTSTAMP:20260423T153835Z
UID:b90259c4-94c4-44f7-85d4-d26638017347
DTSTART:20260512T080000
DTEND:20260512T120000
DESCRIPTION:
LOCATION:
SUMMARY:AP Test - Pre-Calculus
END:VEVENT
BEGIN:VEVENT
DTSTAMP:20260423T153835Z
UID:695af5e1-ef51-4933-8660-4ded7407937e
DTSTART:20260512T143000
DTEND:20260512T173000
DESCRIPTION:
LOCATION:
SUMMARY:Cheer Tryouts 2026-2027 Squad
END:VEVENT
BEGIN:VEVENT
DTSTAMP:20260423T153835Z
UID:04260426-a9db-44ca-9c7c-bbc3bc1953ad
DTSTART:20260513T143000
DTEND:20260513T173000
DESCRIPTION:
LOCATION:
SUMMARY:Cheer Tryouts 2026-2027 Squad
END:VEVENT
BEGIN:VEVENT
DTSTAMP:20260423T153835Z
UID:14b5badd-1484-4a16-8c50-c3e4decbc1ba
DTSTART:20260514T120000
DTEND:20260514T153000
DESCRIPTION:
LOCATION:
SUMMARY:AP Test - Computer Science Principles
END:VEVENT
BEGIN:VEVENT
DTSTAMP:20260423T153835Z
UID:ff23c197-5f82-4953-b34f-f2af59625c37
DTSTART:20260514T143000
DTEND:20260514T173000
DESCRIPTION:
LOCATION:
SUMMARY:Cheer Tryouts 2026-2027 Squad
END:VEVENT
BEGIN:VEVENT
DTSTAMP:20260423T153835Z
UID:d6a21794-86de-4448-85bc-6b1cd1791052
DTSTART:20260514T180000
DTEND:20260514T200000
DESCRIPTION:
LOCATION:
SUMMARY:FAA End of Year Banquet
END:VEVENT
BEGIN:VEVENT
DTSTAMP:20260423T153835Z
UID:5426640a-006f-466b-a169-ec988ea9efe2
DTSTART:20260515T080000
DTEND:20260515T120000
DESCRIPTION:
LOCATION:
SUMMARY:AP Test - Environmental Science
END:VEVENT
BEGIN:VEVENT
DTSTAMP:20260423T153835Z
UID:8feec7d3-7a51-4204-b179-c2e5a2105d4d
DTSTART:20260515T093000
DTEND:20260515T173000
DESCRIPTION:
LOCATION:
SUMMARY:Men's/Women's Track State Championships AWAY @ A&T University - Gre
 ensboro
END:VEVENT
BEGIN:VEVENT
DTSTAMP:20260423T153835Z
UID:b1c92e56-b058-469a-8eab-81c7decb1b4b
DTSTART:20260515T120000
DTEND:20260515T153000
DESCRIPTION:
LOCATION:
SUMMARY:AP Test - Computer Science A
END:VEVENT
BEGIN:VEVENT
DTSTAMP:20260423T153835Z
UID:381a7c01-838a-4ce6-9cf4-7da97376239b
DTSTART:20260515T143000
DTEND:20260515T173000
DESCRIPTION:
LOCATION:
SUMMARY:Cheer Tryouts 2026-2027 Squad
END:VEVENT
BEGIN:VEVENT
DTSTAMP:20260423T153835Z
UID:f1aab672-63a0-4cf7-9cc3-306fd579be41
DTSTART;VALUE=DATE:20260519
DTEND;VALUE=DATE:20260520
DESCRIPTION:
LOCATION:
SUMMARY:Power Puff Game
END:VEVENT
BEGIN:VEVENT
DTSTAMP:20260423T153835Z
UID:77a91e1e-ef2b-48b5-999d-a95c217aa005
DTSTART:20260520T110000
DTEND:20260520T130000
DESCRIPTION:
LOCATION:
SUMMARY:Senior Picnic
END:VEVENT
BEGIN:VEVENT
DTSTAMP:20260423T153835Z
UID:f0787b07-d236-4407-af0b-8c233f9d083a
DTSTART:20260520T180000
DTEND:20260520T200000
DESCRIPTION:
LOCATION:
SUMMARY:Senior Awards Night
END:VEVENT
BEGIN:VEVENT
DTSTAMP:20260423T153835Z
UID:2a51b33c-0e69-4996-b71e-d91eb0e8caf0
DTSTART:20260521T080000
DTEND:20260521T090000
DESCRIPTION:
LOCATION:
SUMMARY:CBA Awards Day - Underclassmen
END:VEVENT
BEGIN:VEVENT
DTSTAMP:20260423T153835Z
UID:d0557e0d-f119-443b-a874-3d78b431519d
DTSTART:20260522T073000
DTEND:20260522T090000
DESCRIPTION:
LOCATION:
SUMMARY:Senior Portrait
END:VEVENT
BEGIN:VEVENT
DTSTAMP:20260423T153835Z
UID:1fca534b-44a7-4f10-8ca7-b8645a3ebfc0
DTSTART;VALUE=DATE:20260525
DTEND;VALUE=DATE:20260526
DESCRIPTION:
LOCATION:
SUMMARY:Holiday - Schools Closed
END:VEVENT
BEGIN:VEVENT
DTSTAMP:20260423T153835Z
UID:cbc1d89b-360a-4a9b-b7aa-679c410248aa
DTSTART;VALUE=DATE:20260526
DTEND;VALUE=DATE:20260527
DESCRIPTION:
LOCATION:
SUMMARY:Biology Check-Ins (Ecology)
END:VEVENT
BEGIN:VEVENT
DTSTAMP:20260423T153835Z
UID:e625f999-c6bb-49cd-9df6-e8e93efabe53
DTSTART;VALUE=DATE:20260528
DTEND;VALUE=DATE:20260530
DESCRIPTION:
LOCATION:
SUMMARY:Non-State Exams
END:VEVENT
BEGIN:VEVENT
DTSTAMP:20260423T153835Z
UID:dde84c49-3700-41d8-9b6f-acb373c5baa1
DTSTART;VALUE=DATE:20260601
DTEND;VALUE=DATE:20260606
DESCRIPTION:
LOCATION:
SUMMARY:Semester 2 Final Exams
END:VEVENT
BEGIN:VEVENT
DTSTAMP:20260423T153835Z
UID:a61b0347-6dd4-4c41-bbbf-9f00f0c09b4b
DTSTART;VALUE=DATE:20260601
DTEND;VALUE=DATE:20260602
DESCRIPTION:
LOCATION:
SUMMARY:WCPS Board Meeting
END:VEVENT
BEGIN:VEVENT
DTSTAMP:20260423T153835Z
UID:12a87057-22e0-40fd-b791-d72c9023a7b9
DTSTART;VALUE=DATE:20260605
DTEND;VALUE=DATE:20260606
DESCRIPTION:
LOCATION:
SUMMARY:Last Day of School
END:VEVENT
BEGIN:VEVENT
DTSTAMP:20260423T153835Z
UID:09151daa-ef53-41a3-911b-62c98364abe6
DTSTART;VALUE=DATE:20260608
DTEND;VALUE=DATE:20260612
DESCRIPTION:
LOCATION:
SUMMARY:DWD - No School for Students
END:VEVENT
BEGIN:VEVENT
DTSTAMP:20260423T153835Z
UID:4f72ac6f-39b5-4e6c-a969-b9b82fd4b4fd
DTSTART:20260608T090000
DTEND:20260608T120000
DESCRIPTION:
LOCATION:
SUMMARY:Graduation Practice MANDATORY
END:VEVENT
BEGIN:VEVENT
DTSTAMP:20260423T153835Z
UID:0bf7c694-969b-4a2b-9eef-a22255ee6146
DTSTART:20260608T170000
DTEND:20260608T183000
DESCRIPTION:
LOCATION:
SUMMARY:Football Summer Conditioning
END:VEVENT
BEGIN:VEVENT
DTSTAMP:20260423T153835Z
UID:29f5accb-c1ab-478a-8f9d-ce919c31d274
DTSTART:20260609T090000
DTEND:20260609T120000
DESCRIPTION:
LOCATION:
SUMMARY:Graduation of the class of 2026
END:VEVENT
BEGIN:VEVENT
DTSTAMP:20260423T153835Z
UID:e56921e8-5a95-4e2d-be5e-45a3458c6427
DTSTART:20260609T170000
DTEND:20260609T183000
DESCRIPTION:
LOCATION:
SUMMARY:Football Summer Conditioning
END:VEVENT
BEGIN:VEVENT
DTSTAMP:20260423T153835Z
UID:bb014eb8-4eb8-4b6e-9945-6e717723c528
DTSTART:20260610T170000
DTEND:20260610T183000
DESCRIPTION:
LOCATION:
SUMMARY:Football Summer Conditioning
END:VEVENT
BEGIN:VEVENT
DTSTAMP:20260423T153835Z
UID:d1d241e6-fafc-447c-8742-ef7c7b934581
DTSTART;VALUE=DATE:20260611
DTEND;VALUE=DATE:20260612
DESCRIPTION:
LOCATION:
SUMMARY:Football 7 vs 7 TBA
END:VEVENT
BEGIN:VEVENT
DTSTAMP:20260423T153835Z
UID:e118a727-3bcf-4fbb-8a6c-796cfbe79e18
DTSTART:20260615T170000
DTEND:20260615T183000
DESCRIPTION:
LOCATION:
SUMMARY:Football Summer Conditioning
END:VEVENT
BEGIN:VEVENT
DTSTAMP:20260423T153835Z
UID:38206044-9080-4d20-818e-68c2c441a6a8
DTSTART:20260616T170000
DTEND:20260616T183000
DESCRIPTION:
LOCATION:
SUMMARY:Football Summer Conditioning
END:VEVENT
BEGIN:VEVENT
DTSTAMP:20260423T153835Z
UID:df9b0cb1-3d87-4c71-afac-43efdb03ecc0
DTSTART:20260617T170000
DTEND:20260617T183000
DESCRIPTION:
LOCATION:
SUMMARY:Football Summer Conditioning
END:VEVENT
BEGIN:VEVENT
DTSTAMP:20260423T153835Z
UID:7461bb89-8ba3-4a6f-841d-4ae5a9e9885d
DTSTART;VALUE=DATE:20260618
DTEND;VALUE=DATE:20260621
DESCRIPTION:
LOCATION:
SUMMARY:Football FCA Camp
END:VEVENT
BEGIN:VEVENT
DTSTAMP:20260423T153835Z
UID:84425a43-6f6c-42fc-840a-5b29320eddd6
DTSTART:20260622T170000
DTEND:20260622T183000
DESCRIPTION:
LOCATION:
SUMMARY:Football Summer Conditioning
END:VEVENT
BEGIN:VEVENT
DTSTAMP:20260423T153835Z
UID:dc35b030-ae40-428a-91b9-54a85dca0c32
DTSTART:20260623T170000
DTEND:20260623T183000
DESCRIPTION:
LOCATION:
SUMMARY:Football Summer Conditioning
END:VEVENT
BEGIN:VEVENT
DTSTAMP:20260423T153835Z
UID:c15fb5cd-d5ed-4f7f-827e-4b6e4af573da
DTSTART:20260624T170000
DTEND:20260624T183000
DESCRIPTION:
LOCATION:
SUMMARY:Football Summer Conditioning
END:VEVENT
BEGIN:VEVENT
DTSTAMP:20260423T153835Z
UID:641dac8a-19cd-458f-ae91-818f0c41220b
DTSTART;VALUE=DATE:20260625
DTEND;VALUE=DATE:20260626
DESCRIPTION:
LOCATION:
SUMMARY:Football 7 vs 7 TBA
END:VEVENT
BEGIN:VEVENT
DTSTAMP:20260423T153835Z
UID:21c12f90-f10a-46c4-b9c2-b039970f5754
DTSTART;VALUE=DATE:20260629
DTEND;VALUE=DATE:20260704
DESCRIPTION:
LOCATION:
SUMMARY:Athletic Dead Period
END:VEVENT
BEGIN:VEVENT
DTSTAMP:20260423T153835Z
UID:5936b4d6-dfa1-47e8-b6c4-40ca1bcd8b0b
DTSTART:20260706T170000
DTEND:20260706T183000
DESCRIPTION:
LOCATION:
SUMMARY:Football Summer Conditioning
END:VEVENT
BEGIN:VEVENT
DTSTAMP:20260423T153835Z
UID:6038fcdf-c3c3-48b7-bc87-57d14e50262b
DTSTART:20260707T170000
DTEND:20260707T183000
DESCRIPTION:
LOCATION:
SUMMARY:Football Summer Conditioning
END:VEVENT
BEGIN:VEVENT
DTSTAMP:20260423T153835Z
UID:c9482954-679c-43bf-94d7-d05ef7c5c9a5
DTSTART:20260708T170000
DTEND:20260708T183000
DESCRIPTION:
LOCATION:
SUMMARY:Football Summer Conditioning
END:VEVENT
BEGIN:VEVENT
DTSTAMP:20260423T153835Z
UID:0c01b930-24da-4b72-9947-e6e961461b4a
DTSTART;VALUE=DATE:20260709
DTEND;VALUE=DATE:20260710
DESCRIPTION:
LOCATION:
SUMMARY:Football 7 vs 7 TBA
END:VEVENT
BEGIN:VEVENT
DTSTAMP:20260423T153835Z
UID:923111c4-d840-44d5-92d7-f2d7c72f410c
DTSTART:20260713T170000
DTEND:20260713T183000
DESCRIPTION:
LOCATION:
SUMMARY:Football Summer Conditioning
END:VEVENT
BEGIN:VEVENT
DTSTAMP:20260423T153835Z
UID:dd4bf6a7-7237-47ac-ae79-a34c5cd168a9
DTSTART:20260714T170000
DTEND:20260714T183000
DESCRIPTION:
LOCATION:
SUMMARY:Football Summer Conditioning
END:VEVENT
BEGIN:VEVENT
DTSTAMP:20260423T153835Z
UID:ba49eb7b-58ec-4051-8a43-84a4875f24bd
DTSTART:20260715T170000
DTEND:20260715T183000
DESCRIPTION:
LOCATION:
SUMMARY:Football Summer Conditioning
END:VEVENT
BEGIN:VEVENT
DTSTAMP:20260423T153835Z
UID:4f9d5b4c-10af-4505-860d-83325277ad3d
DTSTART:20260716T170000
DTEND:20260716T183000
DESCRIPTION:
LOCATION:
SUMMARY:Football 7 vs 7 TBA
END:VEVENT
BEGIN:VEVENT
DTSTAMP:20260423T153835Z
UID:3f83361a-9844-4a9f-b159-d934f31d17b2
DTSTART;VALUE=DATE:20260720
DTEND;VALUE=DATE:20260725
DESCRIPTION:
LOCATION:
SUMMARY:Athletic Dead Period
END:VEVENT
BEGIN:VEVENT
DTSTAMP:20260423T153835Z
UID:ca9f49b9-2101-482f-bf90-fe9195b490e9
DTSTART:20260727T170000
DTEND:20260727T183000
DESCRIPTION:
LOCATION:
SUMMARY:Football Summer Conditioning
END:VEVENT
BEGIN:VEVENT
DTSTAMP:20260423T153835Z
UID:ebb652f9-1840-4c1d-b7e9-9b47af944e10
DTSTART:20260728T170000
DTEND:20260728T183000
DESCRIPTION:
LOCATION:
SUMMARY:Football Summer Conditioning
END:VEVENT
BEGIN:VEVENT
DTSTAMP:20260423T153835Z
UID:d1b4f81b-b222-4679-9c32-4eb5f3130a1e
DTSTART;VALUE=DATE:20260729
DTEND;VALUE=DATE:20260730
DESCRIPTION:
LOCATION:
SUMMARY:Fall Sports Tryouts 
END:VEVENT
BEGIN:VEVENT
DTSTAMP:20260423T153835Z
UID:06581acb-b796-44ab-bd06-82b4562e303f
DTSTART;VALUE=DATE:20260807
DTEND;VALUE=DATE:20260808
DESCRIPTION:
LOCATION:
SUMMARY:Football Scrimmage TBA
END:VEVENT
BEGIN:VEVENT
DTSTAMP:20260423T153835Z
UID:563bbdfe-f098-4ca2-81c9-974ec5bff915
DTSTART:20260820T183000
DTEND:20260820T210000
DESCRIPTION:
LOCATION:
SUMMARY:JV Football HOME vs RWHS
END:VEVENT
BEGIN:VEVENT
DTSTAMP:20260423T153835Z
UID:32976c42-c914-4bb0-b533-cb626d9fad89
DTSTART:20260821T190000
DTEND:20260821T220000
DESCRIPTION:
LOCATION:
SUMMARY:Varsity Football AWAY @ RWHS
END:VEVENT
BEGIN:VEVENT
DTSTAMP:20260423T153835Z
UID:9b840264-9bf5-46ed-897b-3804871b6081
DTSTART:20260827T183000
DTEND:20260827T220000
DESCRIPTION:
LOCATION:
SUMMARY:JV Football AWAY @ EWHS
END:VEVENT
BEGIN:VEVENT
DTSTAMP:20260423T153835Z
UID:739fb57e-742c-437f-981b-440944e53d61
DTSTART:20260828T190000
DTEND:20260828T220000
DESCRIPTION:
LOCATION:
SUMMARY:Varsity Football HOME vs EWHS
END:VEVENT
BEGIN:VEVENT
DTSTAMP:20260423T153835Z
UID:9bad4c4c-8cf5-44a0-b0f6-508dba7c4ab0
DTSTART;VALUE=DATE:20260903
DTEND;VALUE=DATE:20260904
DESCRIPTION:
LOCATION:
SUMMARY:JV Football BYE
END:VEVENT
BEGIN:VEVENT
DTSTAMP:20260423T153835Z
UID:7affcca6-f29a-41db-99bc-599810101ad1
DTSTART;VALUE=DATE:20260904
DTEND;VALUE=DATE:20260905
DESCRIPTION:
LOCATION:
SUMMARY:Varsity Football BYE
END:VEVENT
BEGIN:VEVENT
DTSTAMP:20260423T153835Z
UID:c09b1e1b-5afe-4f33-9f29-85b9e6ac2371
DTSTART;VALUE=DATE:20260907
DTEND;VALUE=DATE:20260908
DESCRIPTION:
LOCATION:
SUMMARY:Labor Day HOLIDAY
END:VEVENT
BEGIN:VEVENT
DTSTAMP:20260423T153835Z
UID:597e31ec-6535-48ea-a146-bbba85364209
DTSTART:20260910T183000
DTEND:20260910T210000
DESCRIPTION:
LOCATION:
SUMMARY:JV Football HOME vs GHS
END:VEVENT
BEGIN:VEVENT
DTSTAMP:20260423T153835Z
UID:100d4d4a-1cb9-4899-bef8-a276fd21bd47
DTSTART:20260911T190000
DTEND:20260911T220000
DESCRIPTION:
LOCATION:
SUMMARY:Varsity Football HOME vs GHS
END:VEVENT
BEGIN:VEVENT
DTSTAMP:20260423T153835Z
UID:c42895c8-7371-41b3-a915-58baf1e2c33b
DTSTART:20260917T183000
DTEND:20260917T210000
DESCRIPTION:
LOCATION:
SUMMARY:JV Football AWAY @ Hunt
END:VEVENT
BEGIN:VEVENT
DTSTAMP:20260423T153835Z
UID:e7ab3a88-b280-4ef5-b0b0-1df24de3732a
DTSTART:20260918T190000
DTEND:20260918T220000
DESCRIPTION:
LOCATION:
SUMMARY:Varsity Football HOME vs Hunt
END:VEVENT
BEGIN:VEVENT
DTSTAMP:20260423T153835Z
UID:0c3d1a7c-8ced-4bfe-9e1b-35ba1de0e825
DTSTART:20260924T183000
DTEND:20260924T210000
DESCRIPTION:
LOCATION:
SUMMARY:JV Football HOME vs So. Nash
END:VEVENT
BEGIN:VEVENT
DTSTAMP:20260423T153835Z
UID:f053cb81-3dc8-4009-85bf-191d9f05295e
DTSTART:20260925T190000
DTEND:20260925T220000
DESCRIPTION:
LOCATION:
SUMMARY:Varsity Football AWAY @ So. Nash
END:VEVENT
BEGIN:VEVENT
DTSTAMP:20260423T153835Z
UID:4172b3ba-ba3f-4e79-a905-785e9f843318
DTSTART:20261001T183000
DTEND:20261001T210000
DESCRIPTION:
LOCATION:
SUMMARY:JV Football AWAY @ No. Nash
END:VEVENT
BEGIN:VEVENT
DTSTAMP:20260423T153835Z
UID:e195163d-7d23-482e-beae-17fa4569659f
DTSTART:20261002T190000
DTEND:20261002T220000
DESCRIPTION:
LOCATION:
SUMMARY:Varsity Football HOME vs No. Nash
END:VEVENT
BEGIN:VEVENT
DTSTAMP:20260423T153835Z
UID:76452df7-5dba-4dd2-a0bc-68899c3a6ea6
DTSTART:20261008T183000
DTEND:20261008T210000
DESCRIPTION:
LOCATION:
SUMMARY:JV Football HOME vs Rocky Mount
END:VEVENT
BEGIN:VEVENT
DTSTAMP:20260423T153835Z
UID:c1abb0c7-a547-474d-98c5-dc4b55d4ad3a
DTSTART:20261009T190000
DTEND:20261009T220000
DESCRIPTION:
LOCATION:
SUMMARY:Varsity Football HOME vs Rocky Mount
END:VEVENT
BEGIN:VEVENT
DTSTAMP:20260423T153835Z
UID:493ab202-1b48-43a2-8523-996eebdc7941
DTSTART:20261015T183000
DTEND:20261015T210000
DESCRIPTION:
LOCATION:
SUMMARY:JV Football AWAY @ James Kenan
END:VEVENT
BEGIN:VEVENT
DTSTAMP:20260423T153835Z
UID:e5b8de88-4a92-4898-960d-1ffdb8cba18f
DTSTART:20261016T190000
DTEND:20261016T220000
DESCRIPTION:
LOCATION:
SUMMARY:Varsity Football HOME vs James Kenan
END:VEVENT
BEGIN:VEVENT
DTSTAMP:20260423T153835Z
UID:82a90924-6348-4c81-8cd7-4ecf619fd267
DTSTART:20261022T183000
DTEND:20261022T210000
DESCRIPTION:
LOCATION:
SUMMARY:JV Football AWAY @ Fike
END:VEVENT
BEGIN:VEVENT
DTSTAMP:20260423T153835Z
UID:0cdc7c7d-2aab-45e2-90b5-174c735bfeb9
DTSTART:20261023T190000
DTEND:20261023T220000
DESCRIPTION:
LOCATION:
SUMMARY:Varsity Football HOME vs Fike
END:VEVENT
BEGIN:VEVENT
DTSTAMP:20260423T153835Z
UID:c08cf2a7-3498-4ad7-88ba-1c41dbf65da8
DTSTART:20261029T183000
DTEND:20261029T220000
DESCRIPTION:
LOCATION:
SUMMARY:JV Football HOME vs So. Wayne
END:VEVENT
BEGIN:VEVENT
DTSTAMP:20260423T153835Z
UID:60af96f6-ca9a-43e0-ae9e-3e960a6213a8
DTSTART:20261030T190000
DTEND:20261030T220000
DESCRIPTION:
LOCATION:
SUMMARY:Varsity Football AWAY @ So. Wayne
END:VEVENT
BEGIN:VEVENT
DTSTAMP:20260423T153835Z
UID:47f78e29-0886-4de0-a7da-79f01d9a7a34
DTSTART;VALUE=DATE:20261101
DTEND;VALUE=DATE:20261102
DESCRIPTION:
LOCATION:
SUMMARY:Change clocks BACK 1 Hour
END:VEVENT
BEGIN:VEVENT
DTSTAMP:20260423T153835Z
UID:ab2d8fe5-b6c2-470b-809c-1c25f5fb324a
DTSTART;VALUE=DATE:20261106
DTEND;VALUE=DATE:20261107
DESCRIPTION:
LOCATION:
SUMMARY:First Round Football State Playoffs
END:VEVENT
END:VCALENDAR
