BEGIN:VCALENDAR
VERSION:2.0
PRODID:icalendar-ruby
CALSCALE:GREGORIAN
BEGIN:VTIMEZONE
TZID:America/New_York
BEGIN:DAYLIGHT
DTSTART:20260308T030000
TZOFFSETFROM:-0500
TZOFFSETTO:-0400
RRULE:FREQ=YEARLY;BYDAY=2SU;BYMONTH=3
TZNAME:EDT
END:DAYLIGHT
BEGIN:STANDARD
DTSTART:20261101T010000
TZOFFSETFROM:-0400
TZOFFSETTO:-0500
RRULE:FREQ=YEARLY;BYDAY=1SU;BYMONTH=11
TZNAME:EST
END:STANDARD
END:VTIMEZONE
BEGIN:VEVENT
DTSTAMP:20260425T130900Z
UID:89aeda82-aeb1-496e-9bc8-e36071da9afa
DTSTART:20260427T163000
DTEND:20260427T183000
DESCRIPTION:
LOCATION:
SUMMARY:Baseball/Softball AWAY @ WSE
END:VEVENT
BEGIN:VEVENT
DTSTAMP:20260425T130900Z
UID:d653a961-3086-4394-bacb-6c970a1d110e
DTSTART:20260427T163000
DTEND:20260427T183000
DESCRIPTION:
LOCATION:
SUMMARY:Girls Soccer HOME vs WSE
END:VEVENT
BEGIN:VEVENT
DTSTAMP:20260425T130900Z
UID:890e0118-c4cc-4a15-9d67-da9b7d1f0581
DTSTART:20260429T163000
DTEND:20260429T183000
DESCRIPTION:
LOCATION:
SUMMARY:Baseball/Softball HOME vs RWMS
END:VEVENT
BEGIN:VEVENT
DTSTAMP:20260425T130900Z
UID:009a204a-2cdc-432a-9f25-dfd486e58637
DTSTART:20260430T163000
DTEND:20260430T183000
DESCRIPTION:
LOCATION:
SUMMARY:Girls Soccer AWAY @ RWMS
END:VEVENT
BEGIN:VEVENT
DTSTAMP:20260425T130900Z
UID:33c36aea-cea6-4fa9-9e2e-247387b362e7
DTSTART:20260504T163000
DTEND:20260504T183000
DESCRIPTION:
LOCATION:
SUMMARY:Baseball/Softball AWAY @ Grantham Middle School
END:VEVENT
BEGIN:VEVENT
DTSTAMP:20260425T130900Z
UID:e79c69ab-5b00-478d-abdd-895de3ff860a
DTSTART:20260504T163000
DTEND:20260504T183000
DESCRIPTION:
LOCATION:
SUMMARY:Girls Soccer HOME vs Grantham Middle School
END:VEVENT
BEGIN:VEVENT
DTSTAMP:20260425T130900Z
UID:3bd6fa33-6739-4c8c-9b2c-78ae9a34548c
DTSTART;VALUE=DATE:20260506
DTEND;VALUE=DATE:20260507
DESCRIPTION:
LOCATION:
SUMMARY:Baseball/Softball BYE
END:VEVENT
BEGIN:VEVENT
DTSTAMP:20260425T130900Z
UID:45435156-32ac-436e-b304-c23ede50e261
DTSTART;VALUE=DATE:20260507
DTEND;VALUE=DATE:20260508
DESCRIPTION:
LOCATION:
SUMMARY:Girls Soccer BYE
END:VEVENT
BEGIN:VEVENT
DTSTAMP:20260425T130900Z
UID:b5b6a7f7-9c9e-45f8-99ae-0064a09f6063
DTSTART:20260511T163000
DTEND:20260511T183000
DESCRIPTION:
LOCATION:
SUMMARY:Baseball/Softball HOME vs Mount Olive Middle
END:VEVENT
BEGIN:VEVENT
DTSTAMP:20260425T130900Z
UID:aa2b8460-4b2f-4d8e-acf1-8edc99131c0b
DTSTART:20260511T163000
DTEND:20260511T183000
DESCRIPTION:
LOCATION:
SUMMARY:Girls Soccer AWAY @ Mount Olive Middle
END:VEVENT
BEGIN:VEVENT
DTSTAMP:20260425T130900Z
UID:d30536e6-1379-499f-9a7c-438d20d70bd8
DTSTART;VALUE=DATE:20260513
DTEND;VALUE=DATE:20260514
DESCRIPTION:
LOCATION:
SUMMARY:EARLY DISMISSAL
END:VEVENT
BEGIN:VEVENT
DTSTAMP:20260425T130900Z
UID:74c8a20c-2195-4944-a036-2b62d08f62fa
DTSTART;VALUE=DATE:20260525
DTEND;VALUE=DATE:20260526
DESCRIPTION:
LOCATION:
SUMMARY:Memorial Day Holiday - NO SCHOOL
END:VEVENT
BEGIN:VEVENT
DTSTAMP:20260425T130900Z
UID:bcf46a47-bdf3-4bbb-a21c-6b6c07f2a90b
DTSTART;VALUE=DATE:20260605
DTEND;VALUE=DATE:20260606
DESCRIPTION:
LOCATION:
SUMMARY:Last Day of School - Early Dismissal
END:VEVENT
END:VCALENDAR
