BEGIN:VCALENDAR
VERSION:2.0
PRODID:icalendar-ruby
CALSCALE:GREGORIAN
BEGIN:VTIMEZONE
TZID:America/New_York
BEGIN:DAYLIGHT
DTSTART:20260308T030000
TZOFFSETFROM:-0500
TZOFFSETTO:-0400
RRULE:FREQ=YEARLY;BYDAY=2SU;BYMONTH=3
TZNAME:EDT
END:DAYLIGHT
BEGIN:STANDARD
DTSTART:20261101T010000
TZOFFSETFROM:-0400
TZOFFSETTO:-0500
RRULE:FREQ=YEARLY;BYDAY=1SU;BYMONTH=11
TZNAME:EST
END:STANDARD
END:VTIMEZONE
BEGIN:VEVENT
DTSTAMP:20260425T130647Z
UID:bcbbb83e-289e-4a3d-9eb7-7eed5f1aeb40
DTSTART;VALUE=DATE:20260525
DTEND;VALUE=DATE:20260526
DESCRIPTION:<p>All WCPS buildings will be closed in observance of Memorial 
 Day.</p><p>Todos los edificios de WCPS estarán cerrados en conmemoración
  del Día de los Conmemorativos.</p>
LOCATION:
SUMMARY:Memorial Day / Día de Conmemorativos
END:VEVENT
BEGIN:VEVENT
DTSTAMP:20260425T130647Z
UID:cf149b49-f203-4b17-893a-e74845354c26
DTSTART;VALUE=DATE:20260605
DTEND;VALUE=DATE:20260606
DESCRIPTION:<p></p><p>This is the last day of school. Report cards will go 
 home on this day. All traditional WCPS schools will dismiss 2 hours earlie
 r than normal.</p><p>Hoy es el último día de clases. Las boletas de cali
 ficaciones se enviarán a casa este día. Todas las escuelas tradicionales
  de WCPS saldrán 2 horas antes de lo normal.</p>
LOCATION:
SUMMARY:Last Day of School \; Report Card Distribution\;  Early Dismissal /
  Último Día de Clases\; Distribución de Boletas de Calificaciones\; Sal
 ida Temprana
END:VEVENT
BEGIN:VEVENT
DTSTAMP:20260425T130647Z
UID:5ba4637e-11b9-4d48-b7a2-2c386111b1d6
DTSTART;VALUE=DATE:20260608
DTEND;VALUE=DATE:20260612
DESCRIPTION:<p>All WCPS buildings will be closed for students. </p><p>Todos
  los edificios de WCPS estarán cerrados para los estudiantes.</p>
LOCATION:
SUMMARY:Teacher Workdays  / Días de Trabajo Por Maestros
END:VEVENT
END:VCALENDAR
