BEGIN:VCALENDAR
VERSION:2.0
PRODID:icalendar-ruby
CALSCALE:GREGORIAN
BEGIN:VTIMEZONE
TZID:America/Chicago
BEGIN:DAYLIGHT
DTSTART:20260308T030000
TZOFFSETFROM:-0600
TZOFFSETTO:-0500
RRULE:FREQ=YEARLY;BYDAY=2SU;BYMONTH=3
TZNAME:CDT
END:DAYLIGHT
BEGIN:STANDARD
DTSTART:20261101T010000
TZOFFSETFROM:-0500
TZOFFSETTO:-0600
RRULE:FREQ=YEARLY;BYDAY=1SU;BYMONTH=11
TZNAME:CST
END:STANDARD
END:VTIMEZONE
BEGIN:VEVENT
DTSTAMP:20260424T173133Z
UID:a039920d-077f-4426-928b-86b4e1f96200
DTSTART;VALUE=DATE:20260424
DTEND;VALUE=DATE:20260425
DESCRIPTION:
LOCATION:
SUMMARY:2026/2027 Section Leader/Drum Major Applications Due
END:VEVENT
BEGIN:VEVENT
DTSTAMP:20260424T173133Z
UID:bbc21cde-16e5-4a10-8ada-f39ee4f6a537
DTSTART;VALUE=DATE:20260424
DTEND;VALUE=DATE:20260425
DESCRIPTION:
LOCATION:
SUMMARY:HS Tennis vs OKC @ OKC TC
END:VEVENT
BEGIN:VEVENT
DTSTAMP:20260424T173133Z
UID:e273ad31-a903-48e7-8ba1-7a2d4d9d5db2
DTSTART;VALUE=DATE:20260425
DTEND;VALUE=DATE:20260426
DESCRIPTION:
LOCATION:
SUMMARY:HS Tennis @ Duncan
END:VEVENT
BEGIN:VEVENT
DTSTAMP:20260424T173133Z
UID:9e594018-fd3b-4249-b3fa-60e3eff32ff4
DTSTART;VALUE=DATE:20260427
DTEND;VALUE=DATE:20260428
DESCRIPTION:
LOCATION:
SUMMARY:HS Boys Golf @ Regionals (TBA)
END:VEVENT
BEGIN:VEVENT
DTSTAMP:20260424T173133Z
UID:3f065a3e-1085-4ac0-ae12-2e9cfb570b6e
DTSTART;VALUE=DATE:20260428
DTEND;VALUE=DATE:20260429
DESCRIPTION:
LOCATION:
SUMMARY:HS Tennis @ Durant
END:VEVENT
BEGIN:VEVENT
DTSTAMP:20260424T173133Z
UID:7058d0bb-7685-455f-9815-4cd4b03b3e40
DTSTART;VALUE=DATE:20260430
DTEND;VALUE=DATE:20260501
DESCRIPTION:
LOCATION:
SUMMARY:Drum Major Auditions
END:VEVENT
BEGIN:VEVENT
DTSTAMP:20260424T173133Z
UID:83ca3bd9-8b0c-4c80-9963-299419ebb425
DTSTART;VALUE=DATE:20260501
DTEND;VALUE=DATE:20260502
DESCRIPTION:
LOCATION:
SUMMARY:HS Girls Tennis @ Shawnee
END:VEVENT
BEGIN:VEVENT
DTSTAMP:20260424T173133Z
UID:4d44cff4-8124-4395-9fba-87cb93fb6b17
DTSTART;VALUE=DATE:20260501
DTEND;VALUE=DATE:20260502
DESCRIPTION:
LOCATION:
SUMMARY:No School
END:VEVENT
BEGIN:VEVENT
DTSTAMP:20260424T173133Z
UID:af0b3195-e16c-4825-b9bd-2664b85ac3c9
DTSTART;VALUE=DATE:20260502
DTEND;VALUE=DATE:20260503
DESCRIPTION:
LOCATION:
SUMMARY:HS Boys Tennis @ Shawnee
END:VEVENT
BEGIN:VEVENT
DTSTAMP:20260424T173133Z
UID:67720f38-fdc3-42ea-bc98-e10ed8c8186f
DTSTART;VALUE=DATE:20260504
DTEND;VALUE=DATE:20260505
DESCRIPTION:
LOCATION:
SUMMARY:HS Girls Golf @ State-Dornick Hills
END:VEVENT
BEGIN:VEVENT
DTSTAMP:20260424T173133Z
UID:6fbd2902-4b4d-4246-8b69-ac3e47e9d52e
DTSTART;VALUE=DATE:20260504
DTEND;VALUE=DATE:20260505
DESCRIPTION:
LOCATION:
SUMMARY:HS Girls Tennis @ Regionals (TBA)
END:VEVENT
BEGIN:VEVENT
DTSTAMP:20260424T173133Z
UID:675c58fd-7d51-4a58-92ca-c20dd6bb3ee0
DTSTART;VALUE=DATE:20260507
DTEND;VALUE=DATE:20260508
DESCRIPTION:
LOCATION:
SUMMARY:Drumline Auditions- Bandroom
END:VEVENT
BEGIN:VEVENT
DTSTAMP:20260424T173133Z
UID:01cd87ae-d123-423d-9ea4-64c5fc2b054b
DTSTART:20260507T081500
DTEND:20260507T141500
DESCRIPTION:
LOCATION:
SUMMARY:3rd Grade trip to Chisholm Trail
END:VEVENT
BEGIN:VEVENT
DTSTAMP:20260424T173133Z
UID:ee3f6c2a-ac4d-4699-839c-0c2aeba28b83
DTSTART;VALUE=DATE:20260508
DTEND;VALUE=DATE:20260510
DESCRIPTION:
LOCATION:
SUMMARY:HS Girls State Tennis Tournament OKC TC
END:VEVENT
BEGIN:VEVENT
DTSTAMP:20260424T173133Z
UID:521a1007-5da6-4863-9e4a-de61ab315b35
DTSTART;VALUE=DATE:20260508
DTEND;VALUE=DATE:20260509
DESCRIPTION:
LOCATION:
SUMMARY:No School
END:VEVENT
BEGIN:VEVENT
DTSTAMP:20260424T173133Z
UID:273b04f9-2eae-42f0-8acd-80a0e63cede8
DTSTART;VALUE=DATE:20260511
DTEND;VALUE=DATE:20260512
DESCRIPTION:
LOCATION:
SUMMARY:HS Boys Golf @ State-Winter Creek
END:VEVENT
BEGIN:VEVENT
DTSTAMP:20260424T173133Z
UID:2e792439-575f-437a-a28b-3d9ffe2bad1f
DTSTART;VALUE=DATE:20260511
DTEND;VALUE=DATE:20260512
DESCRIPTION:
LOCATION:
SUMMARY:HS Boys Tennis @ Regionals (TBA)
END:VEVENT
BEGIN:VEVENT
DTSTAMP:20260424T173133Z
UID:6e74e016-3894-4f5f-b96f-ee8566b921ee
DTSTART:20260512T183000
DTEND:20260512T203000
DESCRIPTION:
LOCATION:
SUMMARY:PVIS/PVJH Spring Concert- PVHS Auditorium 
END:VEVENT
BEGIN:VEVENT
DTSTAMP:20260424T173133Z
UID:e73f02e9-d449-4bde-9f81-c56848e57330
DTSTART;VALUE=DATE:20260514
DTEND;VALUE=DATE:20260515
DESCRIPTION:
LOCATION:
SUMMARY:FFA Banquet (Fairgrounds) 6:30
END:VEVENT
BEGIN:VEVENT
DTSTAMP:20260424T173133Z
UID:1363fd49-8492-4bf2-af23-0ed91805d766
DTSTART:20260514T183000
DTEND:20260514T203000
DESCRIPTION:
LOCATION:
SUMMARY:PVHS Bands Spring Concert- PVHS Auditorium 
END:VEVENT
BEGIN:VEVENT
DTSTAMP:20260424T173133Z
UID:f29bd83c-ad78-4278-8bbe-9f9a48d7e784
DTSTART;VALUE=DATE:20260515
DTEND;VALUE=DATE:20260516
DESCRIPTION:
LOCATION:
SUMMARY:HS Boys State Tennis Tournament OKC TC
END:VEVENT
BEGIN:VEVENT
DTSTAMP:20260424T173133Z
UID:460d6f88-ff65-4011-a1a1-e11399c56834
DTSTART:20260519T173000
DTEND:20260519T183000
DESCRIPTION:
LOCATION:
SUMMARY:PAC Athletic Banquet  (FAIRGROUNDS)
END:VEVENT
BEGIN:VEVENT
DTSTAMP:20260424T173133Z
UID:7edf3dc9-ade4-4ca8-9b16-df01ed129cce
DTSTART;VALUE=DATE:20260521
DTEND;VALUE=DATE:20260522
DESCRIPTION:
LOCATION:
SUMMARY:Last Day of Classes
END:VEVENT
BEGIN:VEVENT
DTSTAMP:20260424T173133Z
UID:9b1e33e1-fa30-40b7-a43b-1eb4e49d33e3
DTSTART:20260521T183000
DTEND:20260521T213000
DESCRIPTION:
LOCATION:
SUMMARY:Band Banquet- Trinity Baptist Church
END:VEVENT
BEGIN:VEVENT
DTSTAMP:20260424T173133Z
UID:6ed43b28-ef56-4a90-b97a-270b81c9afde
DTSTART;VALUE=DATE:20260522
DTEND;VALUE=DATE:20260523
DESCRIPTION:
LOCATION:
SUMMARY:Graduation
END:VEVENT
BEGIN:VEVENT
DTSTAMP:20260424T173133Z
UID:1080d13f-327c-41ac-ba4a-d76746300f56
DTSTART;VALUE=DATE:20260522
DTEND;VALUE=DATE:20260523
DESCRIPTION:
LOCATION:
SUMMARY:Professional Day
END:VEVENT
END:VCALENDAR
