BEGIN:VCALENDAR
VERSION:2.0
PRODID:icalendar-ruby
CALSCALE:GREGORIAN
BEGIN:VTIMEZONE
TZID:America/New_York
BEGIN:DAYLIGHT
DTSTART:20260308T030000
TZOFFSETFROM:-0500
TZOFFSETTO:-0400
RRULE:FREQ=YEARLY;BYDAY=2SU;BYMONTH=3
TZNAME:EDT
END:DAYLIGHT
BEGIN:STANDARD
DTSTART:20261101T010000
TZOFFSETFROM:-0400
TZOFFSETTO:-0500
RRULE:FREQ=YEARLY;BYDAY=1SU;BYMONTH=11
TZNAME:EST
END:STANDARD
END:VTIMEZONE
BEGIN:VEVENT
DTSTAMP:20260425T033110Z
UID:58c997ad-ef47-4803-8221-a87c7091cbc4
DTSTART:20260424T120000
DTEND:20260424T130000
DESCRIPTION:
LOCATION:1100 E Main St\, Endicott\, NY 13760\, USA
SUMMARY:Food Center OPEN
END:VEVENT
BEGIN:VEVENT
DTSTAMP:20260425T033110Z
UID:f38a4b6e-6d0c-42a9-878a-c940aba31856
DTSTART:20260424T150000
DTEND:20260424T210000
DESCRIPTION:
LOCATION:Johnson City High School
SUMMARY:NYSSMA Solo and Small Ensemble Festival
END:VEVENT
BEGIN:VEVENT
DTSTAMP:20260425T033110Z
UID:00e77d1a-f88f-4f2f-9ee8-30bdcbe89d53
DTSTART:20260425T080000
DTEND:20260425T170000
DESCRIPTION:
LOCATION:Johnson City High School
SUMMARY:NYSSMA Solo and Small Ensemble Festival
END:VEVENT
BEGIN:VEVENT
DTSTAMP:20260425T033110Z
UID:eeb9052f-6897-477d-acd4-8dc1edaeec01
DTSTART:20260429T120000
DTEND:20260429T130000
DESCRIPTION:
LOCATION:1100 E Main St\, Endicott\, NY 13760\, USA
SUMMARY:Food Center OPEN
END:VEVENT
BEGIN:VEVENT
DTSTAMP:20260425T033110Z
UID:4214d118-4b2a-436a-bf19-e302fbdc4819
DTSTART:20260430T173000
DTEND:20260430T183000
DESCRIPTION:
LOCATION:1201 Union Center Maine Hwy\, Endicott\, NY 13760\, USA
SUMMARY:West Corners Food Pantry OPEN
END:VEVENT
BEGIN:VEVENT
DTSTAMP:20260425T033110Z
UID:1f6ac5cd-5814-475a-81f7-93832aab6b6f
DTSTART:20260501T120000
DTEND:20260501T130000
DESCRIPTION:
LOCATION:1100 E Main St\, Endicott\, NY 13760\, USA
SUMMARY:Food Center OPEN
END:VEVENT
BEGIN:VEVENT
DTSTAMP:20260425T033110Z
UID:50702a70-76b6-4b57-819f-4bc33fb0488d
DTSTART:20260502T120000
DTEND:20260502T150000
DESCRIPTION:
LOCATION:UEHS
SUMMARY:Spring Fest 2026
END:VEVENT
BEGIN:VEVENT
DTSTAMP:20260425T033110Z
UID:326ab598-1e78-43cc-9427-4a3f5d183fa7
DTSTART:20260505T180000
DTEND:20260505T193000
DESCRIPTION:
LOCATION:District Office
SUMMARY:Meet the Candidates
END:VEVENT
BEGIN:VEVENT
DTSTAMP:20260425T033110Z
UID:eccb1d31-81af-4359-bebc-2090d39e568e
DTSTART:20260506T170000
DTEND:20260506T183000
DESCRIPTION:
LOCATION:1100 E Main St\, Endicott\, NY 13760\, USA
SUMMARY:Food Center OPEN
END:VEVENT
BEGIN:VEVENT
DTSTAMP:20260425T033110Z
UID:d0b320b5-f26b-4965-8864-9e8326d001a3
DTSTART:20260507T173000
DTEND:20260507T183000
DESCRIPTION:
LOCATION:1201 Union Center Maine Hwy\, Endicott\, NY 13760\, USA
SUMMARY:West Corners Food Pantry OPEN
END:VEVENT
BEGIN:VEVENT
DTSTAMP:20260425T033110Z
UID:5e5cbce4-3c0d-4f52-9c69-f0003717640c
DTSTART:20260507T183000
DTEND:20260507T200000
DESCRIPTION:
LOCATION:TBD
SUMMARY:Crawford Stahl Music Honors Recital
END:VEVENT
BEGIN:VEVENT
DTSTAMP:20260425T033110Z
UID:a3cd2e40-ce92-4da7-bdb1-874c395950de
DTSTART:20260508T120000
DTEND:20260508T130000
DESCRIPTION:
LOCATION:1100 E Main St\, Endicott\, NY 13760\, USA
SUMMARY:Food Center OPEN
END:VEVENT
BEGIN:VEVENT
DTSTAMP:20260425T033110Z
UID:150540b8-dc3b-43e4-8a47-976c56e8b25f
DTSTART:20260511T180000
DTEND:20260511T200000
DESCRIPTION:
LOCATION:1100 E Main St #5254\, Endicott\, NY 13760\, USA
SUMMARY:BOE Regular Meeting \, Public Hearing - District Office
END:VEVENT
BEGIN:VEVENT
DTSTAMP:20260425T033110Z
UID:d6f50d69-ea7b-4e70-84a1-ede47ffad92d
DTSTART:20260513T170000
DTEND:20260513T183000
DESCRIPTION:
LOCATION:1100 E Main St\, Endicott\, NY 13760\, USA
SUMMARY:Food Center OPEN
END:VEVENT
BEGIN:VEVENT
DTSTAMP:20260425T033110Z
UID:7e35b687-a8e7-431c-9006-ec4761a4a8bf
DTSTART:20260514T173000
DTEND:20260514T183000
DESCRIPTION:
LOCATION:1201 Union Center Maine Hwy\, Endicott\, NY 13760\, USA
SUMMARY:Food Pantry OPEN
END:VEVENT
BEGIN:VEVENT
DTSTAMP:20260425T033110Z
UID:2a95985c-15a2-434a-9328-ebcea2a447c5
DTSTART:20260515T120000
DTEND:20260515T130000
DESCRIPTION:
LOCATION:1100 E Main St\, Endicott\, NY 13760\, USA
SUMMARY:Food Center OPEN
END:VEVENT
BEGIN:VEVENT
DTSTAMP:20260425T033110Z
UID:93882c3a-b411-45f8-be29-4bd9d51ff23f
DTSTART:20260519T110000
DTEND:20260519T200000
DESCRIPTION:
LOCATION:1100 E Main St #5254\, Endicott\, NY 13760\, USA
SUMMARY:Budget Vote
END:VEVENT
BEGIN:VEVENT
DTSTAMP:20260425T033110Z
UID:6d5a8c27-a27e-49ee-aa2c-797b89468d51
DTSTART:20260520T170000
DTEND:20260520T183000
DESCRIPTION:
LOCATION:1100 E Main St\, Endicott\, NY 13760\, USA
SUMMARY:Food Center OPEN
END:VEVENT
BEGIN:VEVENT
DTSTAMP:20260425T033110Z
UID:abb47ef5-dd30-4bc9-a486-819f190c580f
DTSTART:20260521T173000
DTEND:20260521T183000
DESCRIPTION:
LOCATION:1201 Union Center Maine Hwy\, Endicott\, NY 13760\, USA
SUMMARY:Food Pantry OPEN
END:VEVENT
BEGIN:VEVENT
DTSTAMP:20260425T033110Z
UID:aaf685e0-f366-4c78-973e-38af52aeef07
DTSTART;VALUE=DATE:20260522
DTEND;VALUE=DATE:20260523
DESCRIPTION:
LOCATION:1100 E Main St\, Endicott\, NY 13760\, USA
SUMMARY:FOOD CENTER CLOSED 
END:VEVENT
BEGIN:VEVENT
DTSTAMP:20260425T033110Z
UID:d5dae356-aa9b-421e-8c19-173a5b4b9e3f
DTSTART;VALUE=DATE:20260522
DTEND;VALUE=DATE:20260523
DESCRIPTION:
LOCATION:
SUMMARY:No School - Memorial Day Weekend
END:VEVENT
BEGIN:VEVENT
DTSTAMP:20260425T033110Z
UID:e85a4abc-4213-4c87-a356-f7399f3eb388
DTSTART;VALUE=DATE:20260525
DTEND;VALUE=DATE:20260526
DESCRIPTION:
LOCATION:
SUMMARY:No School - Memorial Day
END:VEVENT
BEGIN:VEVENT
DTSTAMP:20260425T033110Z
UID:1ffe18e7-0f55-4cd3-8787-2631db20bebf
DTSTART:20260527T170000
DTEND:20260527T183000
DESCRIPTION:
LOCATION:1100 E Main St\, Endicott\, NY 13760\, USA
SUMMARY:Food Center OPEN
END:VEVENT
BEGIN:VEVENT
DTSTAMP:20260425T033110Z
UID:3da0716e-4b21-4e09-8bf7-38a11ae0302b
DTSTART:20260528T173000
DTEND:20260528T183000
DESCRIPTION:
LOCATION:1201 Union Center Maine Hwy\, Endicott\, NY 13760\, USA
SUMMARY:Food Pantry OPEN
END:VEVENT
BEGIN:VEVENT
DTSTAMP:20260425T033110Z
UID:21920b98-f591-4cc1-bac2-c961074e109d
DTSTART:20260529T120000
DTEND:20260529T130000
DESCRIPTION:
LOCATION:1100 E Main St\, Endicott\, NY 13760\, USA
SUMMARY:Food Center OPEN
END:VEVENT
BEGIN:VEVENT
DTSTAMP:20260425T033110Z
UID:dd4e4006-02d0-42f2-80d0-35d24a49a284
DTSTART:20260601T190000
DTEND:20260601T200000
DESCRIPTION:
LOCATION:1100 E Main St #5254\, Endicott\, NY 13760\, USA
SUMMARY:BOE Regular Meeting - District Office
END:VEVENT
BEGIN:VEVENT
DTSTAMP:20260425T033110Z
UID:5ea2f843-8ad1-4452-b7ba-118c03fdd6e2
DTSTART:20260603T170000
DTEND:20260603T183000
DESCRIPTION:
LOCATION:1100 E Main St\, Endicott\, NY 13760\, USA
SUMMARY:Food Center OPEN
END:VEVENT
BEGIN:VEVENT
DTSTAMP:20260425T033110Z
UID:b4fa1011-66b6-4438-93a4-39a7cac8d230
DTSTART:20260604T173000
DTEND:20260604T183000
DESCRIPTION:
LOCATION:1201 Union Center Maine Hwy\, Endicott\, NY 13760\, USA
SUMMARY:West Corners Food Pantry OPEN
END:VEVENT
BEGIN:VEVENT
DTSTAMP:20260425T033110Z
UID:4f1d7287-b9ca-4c9c-a61b-0340acd23308
DTSTART:20260605T120000
DTEND:20260605T130000
DESCRIPTION:
LOCATION:1100 E Main St\, Endicott\, NY 13760\, USA
SUMMARY:Food Center OPEN
END:VEVENT
BEGIN:VEVENT
DTSTAMP:20260425T033110Z
UID:4796381f-a51c-483c-ab76-b900a6f5b50d
DTSTART:20260610T170000
DTEND:20260610T183000
DESCRIPTION:
LOCATION:1100 E Main St\, Endicott\, NY 13760\, USA
SUMMARY:Food Center OPEN
END:VEVENT
BEGIN:VEVENT
DTSTAMP:20260425T033110Z
UID:3a8a4314-854c-4bd2-a367-e63939ad8ce1
DTSTART:20260611T083000
DTEND:20260611T140000
DESCRIPTION:
LOCATION:
SUMMARY:Senior Class Walk & Picnic
END:VEVENT
BEGIN:VEVENT
DTSTAMP:20260425T033110Z
UID:97577464-f299-47af-8609-60f9c0e6884e
DTSTART:20260611T173000
DTEND:20260611T183000
DESCRIPTION:
LOCATION:1201 Union Center Maine Hwy\, Endicott\, NY 13760\, USA
SUMMARY:West Corners Food Pantry OPEN
END:VEVENT
BEGIN:VEVENT
DTSTAMP:20260425T033110Z
UID:4dd21934-79e2-4132-8a0b-e371be69fa10
DTSTART:20260612T120000
DTEND:20260612T130000
DESCRIPTION:
LOCATION:1100 E Main St\, Endicott\, NY 13760\, USA
SUMMARY:Food Center OPEN
END:VEVENT
BEGIN:VEVENT
DTSTAMP:20260425T033110Z
UID:b5d3fd6a-232d-4587-adbe-c6f3106bcc0c
DTSTART:20260616T180000
DTEND:20260616T210000
DESCRIPTION:
LOCATION:UEHS Auditorium
SUMMARY:Senior Awards Night
END:VEVENT
BEGIN:VEVENT
DTSTAMP:20260425T033110Z
UID:10116341-2bd9-43ff-8781-9039647234d0
DTSTART:20260617T170000
DTEND:20260617T183000
DESCRIPTION:
LOCATION:1100 E Main St\, Endicott\, NY 13760\, USA
SUMMARY:Food Center OPEN
END:VEVENT
BEGIN:VEVENT
DTSTAMP:20260425T033110Z
UID:34a1b74b-8172-4806-a858-c8495259273e
DTSTART:20260618T173000
DTEND:20260618T183000
DESCRIPTION:
LOCATION:1201 Union Center Maine Hwy\, Endicott\, NY 13760\, USA
SUMMARY:West Corners Food Pantry OPEN
END:VEVENT
BEGIN:VEVENT
DTSTAMP:20260425T033110Z
UID:cbb63ae8-9442-40cc-8c2e-b2adc2dbe046
DTSTART;VALUE=DATE:20260619
DTEND;VALUE=DATE:20260620
DESCRIPTION:
LOCATION:1100 E Main St\, Endicott\, NY 13760\, USA
SUMMARY:FOOD CENTER CLOSED 
END:VEVENT
BEGIN:VEVENT
DTSTAMP:20260425T033110Z
UID:3874ff5d-6099-409d-af13-38e2133c497e
DTSTART;VALUE=DATE:20260619
DTEND;VALUE=DATE:20260620
DESCRIPTION:
LOCATION:
SUMMARY:No School - Juneteenth
END:VEVENT
BEGIN:VEVENT
DTSTAMP:20260425T033110Z
UID:576221e2-494d-4f77-b2b8-01fb97e60ca6
DTSTART:20260620T200000
DTEND:20260620T230000
DESCRIPTION:
LOCATION:2-8 Hawley St\, Binghamton\, NY 13901\, USA
SUMMARY:UEHS Prom
END:VEVENT
BEGIN:VEVENT
DTSTAMP:20260425T033110Z
UID:2ea47740-fcf0-4c0f-8822-d0ee49cf448e
DTSTART:20260624T080000
DTEND:20260624T090000
DESCRIPTION:
LOCATION:1100 E Main St #5254\, Endicott\, NY 13760\, USA
SUMMARY:BOE Regular Meeting - District Office
END:VEVENT
BEGIN:VEVENT
DTSTAMP:20260425T033110Z
UID:ba3ccd61-09cc-47da-9b7c-1385509aff56
DTSTART:20260624T170000
DTEND:20260624T183000
DESCRIPTION:
LOCATION:1100 E Main St\, Endicott\, NY 13760\, USA
SUMMARY:Food Center OPEN
END:VEVENT
BEGIN:VEVENT
DTSTAMP:20260425T033110Z
UID:1ab99410-952d-4a83-ac42-a8cf0edb4ecd
DTSTART:20260625T130000
DTEND:20260625T140000
DESCRIPTION:
LOCATION:UEHS Auditorium
SUMMARY:UEHS Graduation Rehearsal
END:VEVENT
BEGIN:VEVENT
DTSTAMP:20260425T033110Z
UID:abb92cd7-bf7b-4919-b5fc-d3e815f08d08
DTSTART:20260625T173000
DTEND:20260625T183000
DESCRIPTION:
LOCATION:1201 Union Center Maine Hwy\, Endicott\, NY 13760\, USA
SUMMARY:West Corners Food Pantry OPEN
END:VEVENT
BEGIN:VEVENT
DTSTAMP:20260425T033110Z
UID:55f7b2d2-789a-43c3-9a3e-a699252deeab
DTSTART:20260626T120000
DTEND:20260626T130000
DESCRIPTION:
LOCATION:1100 E Main St\, Endicott\, NY 13760\, USA
SUMMARY:Food Center OPEN
END:VEVENT
BEGIN:VEVENT
DTSTAMP:20260425T033110Z
UID:870345d8-990f-4331-b378-74959dab0b1f
DTSTART:20260627T100000
DTEND:20260627T113000
DESCRIPTION:
LOCATION:Visions Veterans Memorial Arena 1 Stuart St\, Binghamton
SUMMARY:UEHS graduation
END:VEVENT
BEGIN:VEVENT
DTSTAMP:20260425T033110Z
UID:c104f814-fc6c-44ab-b587-1602991c2e76
DTSTART:20260627T110000
DTEND:20260627T130000
DESCRIPTION:
LOCATION:Visions Veterans Memorial Arena
SUMMARY:UEHS Graduation
END:VEVENT
END:VCALENDAR
