BEGIN:VCALENDAR
VERSION:2.0
PRODID:icalendar-ruby
CALSCALE:GREGORIAN
BEGIN:VTIMEZONE
TZID:America/New_York
BEGIN:DAYLIGHT
DTSTART:20260308T030000
TZOFFSETFROM:-0500
TZOFFSETTO:-0400
RRULE:FREQ=YEARLY;BYDAY=2SU;BYMONTH=3
TZNAME:EDT
END:DAYLIGHT
BEGIN:STANDARD
DTSTART:20261101T010000
TZOFFSETFROM:-0400
TZOFFSETTO:-0500
RRULE:FREQ=YEARLY;BYDAY=1SU;BYMONTH=11
TZNAME:EST
END:STANDARD
END:VTIMEZONE
BEGIN:VEVENT
DTSTAMP:20260421T101003Z
UID:84e9aef5-f044-41ae-8d2b-ce1c7fc700f6
DTSTART;VALUE=DATE:20260421
DTEND;VALUE=DATE:20260424
DESCRIPTION:
LOCATION:
SUMMARY:PSSA ELA Testing
END:VEVENT
BEGIN:VEVENT
DTSTAMP:20260421T101003Z
UID:0aab868b-4ed7-4cfe-8de2-0ad43ce36001
DTSTART:20260422T190000
DTEND:20260422T200000
DESCRIPTION:
LOCATION:
SUMMARY:Fulton's Be Uncommon Night at The Ballpark - War Memorial Field
END:VEVENT
BEGIN:VEVENT
DTSTAMP:20260421T101003Z
UID:252a1d3b-0a8b-4215-8268-0a3d2c30867c
DTSTART;VALUE=DATE:20260424
DTEND;VALUE=DATE:20260425
DESCRIPTION:<br><br><p>Wear purple and gold to show your Mountaineer Pride.
 </p>
LOCATION:
SUMMARY:Mountaineer Pride Day
END:VEVENT
BEGIN:VEVENT
DTSTAMP:20260421T101003Z
UID:0d1ed617-6a22-4961-b1fa-55171b6b6bab
DTSTART:20260426T163000
DTEND:20260426T183000
DESCRIPTION:Admission is FREE - Cost of skates/blades is $4 each. No sign u
 ps are needed. <br>Parent/Guardian must be present with child at Overlook
 <br>**Parent/Guardians are responsible for their child's safety during thi
 s event. **<br>Concessions will be open.<br>The PTO will also be collectin
 g boxes of cereal for <b>Ephrata Area Social Services</b>!<br>Bring them a
 long or place them in the bin at the lobby of Fulton from 4/13-4/24.
LOCATION:Overlook Activities Center\, 301 Golf Dr\, Lancaster\, PA 17601\, 
 USA
SUMMARY:PTO Family Roller Skating Party at Overlook Skating Rink
END:VEVENT
BEGIN:VEVENT
DTSTAMP:20260421T101003Z
UID:ff8cad9d-9117-482a-9605-848b6bde83be
DTSTART;VALUE=DATE:20260428
DTEND;VALUE=DATE:20260430
DESCRIPTION:
LOCATION:
SUMMARY:PSSA Math Testing
END:VEVENT
BEGIN:VEVENT
DTSTAMP:20260421T101003Z
UID:a7145cf2-058e-4ad2-951d-108e277e0604
DTSTART:20260428T190000
DTEND:20260428T200000
DESCRIPTION:
LOCATION:
SUMMARY:Beginner 4/5 Band & Orchestra Concert - EMS
END:VEVENT
BEGIN:VEVENT
DTSTAMP:20260421T101003Z
UID:7122d570-5a7c-4568-8809-ce285b9d397b
DTSTART;VALUE=DATE:20260501
DTEND;VALUE=DATE:20260502
DESCRIPTION:
LOCATION:
SUMMARY:2nd Grade Field Trip to Ephrata Historical Society
END:VEVENT
BEGIN:VEVENT
DTSTAMP:20260421T101003Z
UID:3d0559c7-1345-4c44-9c26-44f873f74375
DTSTART;VALUE=DATE:20260502
DTEND;VALUE=DATE:20260503
DESCRIPTION:
LOCATION:
SUMMARY:PTO Muffins with Mom
END:VEVENT
BEGIN:VEVENT
DTSTAMP:20260421T101003Z
UID:c0a63cfb-59d1-423c-a5ae-f2a1ebf9aa6b
DTSTART;VALUE=DATE:20260506
DTEND;VALUE=DATE:20260507
DESCRIPTION:
LOCATION:
SUMMARY:Early Dismissal / Half-Day Professional Learning
END:VEVENT
BEGIN:VEVENT
DTSTAMP:20260421T101003Z
UID:e2781ad8-a14e-4686-8579-b9e63151f299
DTSTART;VALUE=DATE:20260508
DTEND;VALUE=DATE:20260509
DESCRIPTION:<br><br><p>Wear purple and gold to show your Mountaineer Pride.
 </p>
LOCATION:
SUMMARY:Mountaineer Pride Day
END:VEVENT
BEGIN:VEVENT
DTSTAMP:20260421T101003Z
UID:6a039b30-97de-4eed-b418-149a56918d39
DTSTART:20260511T190000
DTEND:20260511T200000
DESCRIPTION:Join us for the monthly PTO meeting in the cafeteria. All paren
 t/guardians are welcome!
LOCATION:
SUMMARY:PTO Monthly Meeting
END:VEVENT
BEGIN:VEVENT
DTSTAMP:20260421T101003Z
UID:b5ba2d24-d908-4686-aaec-adcc26eaef90
DTSTART:20260513T180000
DTEND:20260513T190000
DESCRIPTION:Incoming Kindergarten Students for the 2026-2027 School Year an
 d their families are invited to join us for our Fulton Elementary Kinderga
 rten\, Here I Come event. \n\nJoin us to visit your new school\, meet you
 r principal\, listen to a story all about kindergarten\, and meet new frie
 nds.
LOCATION:Fulton Elementary School\, 51 E Fulton St\, Ephrata\, PA 17522\, U
 SA
SUMMARY:Fulton Elementary - Kindergarten\, Here I Come!
END:VEVENT
BEGIN:VEVENT
DTSTAMP:20260421T101003Z
UID:3e2fbc76-2122-4267-bbf4-1bec40c478df
DTSTART:20260514T190000
DTEND:20260514T200000
DESCRIPTION:
LOCATION:
SUMMARY:4th Grade Chorus Concert at EMS
END:VEVENT
BEGIN:VEVENT
DTSTAMP:20260421T101003Z
UID:e7c5ae21-857b-4897-ba87-d2a29ddd7641
DTSTART;VALUE=DATE:20260516
DTEND;VALUE=DATE:20260517
DESCRIPTION:
LOCATION:
SUMMARY:GOTR Race at Greenfield
END:VEVENT
BEGIN:VEVENT
DTSTAMP:20260421T101003Z
UID:4b464c47-4151-4c5d-a607-d61ef1e47ba1
DTSTART;VALUE=DATE:20260520
DTEND;VALUE=DATE:20260521
DESCRIPTION:
LOCATION:
SUMMARY:1st Grade Field Trip to The Science Factory
END:VEVENT
BEGIN:VEVENT
DTSTAMP:20260421T101003Z
UID:8a2b19c9-fbc4-4067-8a0b-9d1300663fa4
DTSTART;VALUE=DATE:20260521
DTEND;VALUE=DATE:20260522
DESCRIPTION:
LOCATION:
SUMMARY:2nd Grade Field Trip to Middle Creek Wildlife
END:VEVENT
BEGIN:VEVENT
DTSTAMP:20260421T101003Z
UID:39732db7-3f4c-4bfa-84da-f912d758d18e
DTSTART;VALUE=DATE:20260521
DTEND;VALUE=DATE:20260522
DESCRIPTION:
LOCATION:
SUMMARY:3rd Grade Field Trip to the Reading Museum
END:VEVENT
BEGIN:VEVENT
DTSTAMP:20260421T101003Z
UID:e237500b-814f-491a-b50b-9ede4d1999ab
DTSTART;VALUE=DATE:20260522
DTEND;VALUE=DATE:20260523
DESCRIPTION:<br><br><p>Wear purple and gold to show your Mountaineer Pride.
 </p>
LOCATION:
SUMMARY:Mountaineer Pride Day
END:VEVENT
BEGIN:VEVENT
DTSTAMP:20260421T101003Z
UID:424ac105-f546-4f11-a274-37775220b56f
DTSTART;VALUE=DATE:20260522
DTEND;VALUE=DATE:20260523
DESCRIPTION:
LOCATION:
SUMMARY:Weather Make-Up Day or School Closed
END:VEVENT
BEGIN:VEVENT
DTSTAMP:20260421T101003Z
UID:c9ed654d-10bc-4bcb-9055-de5d4f220b68
DTSTART;VALUE=DATE:20260525
DTEND;VALUE=DATE:20260526
DESCRIPTION:
LOCATION:
SUMMARY:School Closed
END:VEVENT
BEGIN:VEVENT
DTSTAMP:20260421T101003Z
UID:c10a0686-ee8c-4d70-bfe1-20893caa6fa0
DTSTART;VALUE=DATE:20260529
DTEND;VALUE=DATE:20260530
DESCRIPTION:
LOCATION:
SUMMARY:4th Grade Field Trip to Harrisburg
END:VEVENT
BEGIN:VEVENT
DTSTAMP:20260421T101003Z
UID:113fb620-0079-49d1-a82e-072d58162968
DTSTART:20260602T140000
DTEND:20260602T150000
DESCRIPTION:
LOCATION:
SUMMARY:4th Grade Wax Museum
END:VEVENT
BEGIN:VEVENT
DTSTAMP:20260421T101003Z
UID:86b1c4a6-4be0-4ccb-9637-1e213ca3afa1
DTSTART;VALUE=DATE:20260604
DTEND;VALUE=DATE:20260605
DESCRIPTION:<p>Dismissal Times:</p><ul><li><p>Elementary schools 12:40 PM</
 p><p></p></li></ul><p>Breakfast for Kindergarten through Grade 11\; Lunch 
 for Kindergarten through Grade 6.</p>
LOCATION:
SUMMARY:Last Day for K-Gr. 11/Early Dismissal
END:VEVENT
BEGIN:VEVENT
DTSTAMP:20260421T101003Z
UID:fa99483e-9fca-420e-b8a9-9aaedcea7826
DTSTART;VALUE=DATE:20260604
DTEND;VALUE=DATE:20260605
DESCRIPTION:<br><br><p>Wear purple and gold to show your Mountaineer Pride.
 </p>
LOCATION:
SUMMARY:Mountaineer Pride Day
END:VEVENT
END:VCALENDAR
