BEGIN:VCALENDAR
VERSION:2.0
PRODID:icalendar-ruby
CALSCALE:GREGORIAN
BEGIN:VTIMEZONE
TZID:America/New_York
BEGIN:DAYLIGHT
DTSTART:20260308T030000
TZOFFSETFROM:-0500
TZOFFSETTO:-0400
RRULE:FREQ=YEARLY;BYDAY=2SU;BYMONTH=3
TZNAME:EDT
END:DAYLIGHT
BEGIN:STANDARD
DTSTART:20261101T010000
TZOFFSETFROM:-0400
TZOFFSETTO:-0500
RRULE:FREQ=YEARLY;BYDAY=1SU;BYMONTH=11
TZNAME:EST
END:STANDARD
END:VTIMEZONE
BEGIN:VEVENT
DTSTAMP:20260425T133923Z
UID:d93eed05-27d4-49c7-8ea8-2933f95126c1
DTSTART;VALUE=DATE:20260501
DTEND;VALUE=DATE:20260502
DESCRIPTION:
LOCATION:
SUMMARY:National Decision Day/Scholarship & Awards Ceremony
END:VEVENT
BEGIN:VEVENT
DTSTAMP:20260425T133923Z
UID:e6e58dff-7bd8-420e-9721-af5f366214c9
DTSTART;VALUE=DATE:20260508
DTEND;VALUE=DATE:20260509
DESCRIPTION:
LOCATION:
SUMMARY:Last day of PCC Classes
END:VEVENT
BEGIN:VEVENT
DTSTAMP:20260425T133923Z
UID:86e970a6-0211-42f7-895f-c19a19d876f5
DTSTART;VALUE=DATE:20260513
DTEND;VALUE=DATE:20260514
DESCRIPTION:
LOCATION:
SUMMARY:Scholars Banquet
END:VEVENT
BEGIN:VEVENT
DTSTAMP:20260425T133923Z
UID:ff42712e-4c53-4817-8554-8c6edefe63c1
DTSTART;VALUE=DATE:20260516
DTEND;VALUE=DATE:20260517
DESCRIPTION:<p>Please note the format and times have changed. </p><p>Studen
 ts should contact Mr. Montgomery for all PCC Graduation related questions.
 </p><p><a target="_blank" rel="noopener noreferrer nofollow" href="mailto:
 walter.montgomery@piedmontcc.edu">walter.montgomery@piedmontcc.edu</a></p>
 <p></p>
LOCATION:
SUMMARY:PCC Graduation
END:VEVENT
BEGIN:VEVENT
DTSTAMP:20260425T133923Z
UID:ae3c8e2c-40e5-4fea-aaaf-5b07de82985e
DTSTART;VALUE=DATE:20260521
DTEND;VALUE=DATE:20260522
DESCRIPTION:
LOCATION:
SUMMARY: End of 4nd Quarter / Last Day of School
END:VEVENT
BEGIN:VEVENT
DTSTAMP:20260425T133923Z
UID:557c5459-dcbb-4fa9-9a69-0466d19bd84d
DTSTART;VALUE=DATE:20260522
DTEND;VALUE=DATE:20260523
DESCRIPTION:
LOCATION:
SUMMARY:Required Teacher Workday
END:VEVENT
BEGIN:VEVENT
DTSTAMP:20260425T133923Z
UID:75e90641-47d5-4b56-9876-8e35c237d778
DTSTART;VALUE=DATE:20260523
DTEND;VALUE=DATE:20260524
DESCRIPTION:<p>Details to follow.</p>
LOCATION:The Kirby Theater
SUMMARY:Graduation 10am
END:VEVENT
BEGIN:VEVENT
DTSTAMP:20260425T133923Z
UID:070df5ce-3808-40f8-acb9-7e8b0a1fccf9
DTSTART;VALUE=DATE:20260525
DTEND;VALUE=DATE:20260526
DESCRIPTION:
LOCATION:
SUMMARY:Holiday
END:VEVENT
BEGIN:VEVENT
DTSTAMP:20260425T133923Z
UID:52694bbc-903c-43c3-a39a-250e6ecfd076
DTSTART;VALUE=DATE:20260526
DTEND;VALUE=DATE:20260530
DESCRIPTION:
LOCATION:
SUMMARY:Required Teacher Workday
END:VEVENT
END:VCALENDAR
