BEGIN:VCALENDAR
VERSION:2.0
PRODID:icalendar-ruby
CALSCALE:GREGORIAN
BEGIN:VTIMEZONE
TZID:America/New_York
BEGIN:DAYLIGHT
DTSTART:20260308T030000
TZOFFSETFROM:-0500
TZOFFSETTO:-0400
RRULE:FREQ=YEARLY;BYDAY=2SU;BYMONTH=3
TZNAME:EDT
END:DAYLIGHT
BEGIN:STANDARD
DTSTART:20261101T010000
TZOFFSETFROM:-0400
TZOFFSETTO:-0500
RRULE:FREQ=YEARLY;BYDAY=1SU;BYMONTH=11
TZNAME:EST
END:STANDARD
END:VTIMEZONE
BEGIN:VEVENT
DTSTAMP:20260421T165426Z
UID:b435a410-57cf-4539-a78d-e7585615da2e
DTSTART;VALUE=DATE:20260421
DTEND;VALUE=DATE:20260422
DESCRIPTION:
LOCATION:
SUMMARY:M/C Mobile Vision 
END:VEVENT
BEGIN:VEVENT
DTSTAMP:20260421T165426Z
UID:eccdfdc2-15c3-4819-93a8-2e257de9c13e
DTSTART:20260421T160000
DTEND:20260421T170000
DESCRIPTION:
LOCATION:
SUMMARY:Boys Varsity Tennis vs Batavia HS
END:VEVENT
BEGIN:VEVENT
DTSTAMP:20260421T165426Z
UID:641ee3f4-5ceb-4e82-b8d3-512d9bdcfa06
DTSTART:20260421T170000
DTEND:20260421T180000
DESCRIPTION:
LOCATION:
SUMMARY:Boys Junior Varsity Baseball vs Mariemont High School
END:VEVENT
BEGIN:VEVENT
DTSTAMP:20260421T165426Z
UID:cd59ebd4-c496-41b0-8997-b37d1f11c6ba
DTSTART:20260421T170000
DTEND:20260421T180000
DESCRIPTION:
LOCATION:
SUMMARY:Girls Varsity Softball @ Reading High School
END:VEVENT
BEGIN:VEVENT
DTSTAMP:20260421T165426Z
UID:a8132c2d-2e4e-4c36-8ff3-546b88cd1b6a
DTSTART:20260421T193000
DTEND:20260421T203000
DESCRIPTION:
LOCATION:
SUMMARY:Boys Varsity Baseball @ Mariemont High School (Reds Showcase @ Midl
 and)
END:VEVENT
BEGIN:VEVENT
DTSTAMP:20260421T165426Z
UID:05a8a896-43e4-4a8d-8db4-69d7a4fc1ca6
DTSTART;VALUE=DATE:20260422
DTEND;VALUE=DATE:20260423
DESCRIPTION:
LOCATION:
SUMMARY:M/C Mobile Vision 
END:VEVENT
BEGIN:VEVENT
DTSTAMP:20260421T165426Z
UID:3d8ca6bc-f709-47aa-85a3-fe1765aa6f82
DTSTART:20260422T160000
DTEND:20260422T170000
DESCRIPTION:
LOCATION:
SUMMARY:Coed Middle School Track @ CNE Invite
END:VEVENT
BEGIN:VEVENT
DTSTAMP:20260421T165426Z
UID:c73039d2-bda0-4529-8894-d502f8c435ed
DTSTART:20260422T160000
DTEND:20260422T170000
DESCRIPTION:
LOCATION:
SUMMARY:Coed Varsity Track @ Anderson High School (Anderson Prelims)
END:VEVENT
BEGIN:VEVENT
DTSTAMP:20260421T165426Z
UID:b0be9582-6218-4730-8644-9e6bb970ea6e
DTSTART;VALUE=DATE:20260423
DTEND;VALUE=DATE:20260424
DESCRIPTION:
LOCATION:
SUMMARY:M/C Mobile Vision 
END:VEVENT
BEGIN:VEVENT
DTSTAMP:20260421T165426Z
UID:8e3509aa-3e94-46cc-ad22-2888b6715a4d
DTSTART:20260423T160000
DTEND:20260423T170000
DESCRIPTION:
LOCATION:
SUMMARY:Boys Varsity Tennis @ New Richmond High School
END:VEVENT
BEGIN:VEVENT
DTSTAMP:20260421T165426Z
UID:130da1e6-88aa-4657-803d-9ada041a5e88
DTSTART:20260423T163000
DTEND:20260423T173000
DESCRIPTION:
LOCATION:
SUMMARY:Coed Varsity Track @ Anderson High School (Anderson Finals)
END:VEVENT
BEGIN:VEVENT
DTSTAMP:20260421T165426Z
UID:cddf78a4-b37c-45ed-bb4c-3235e45a6f76
DTSTART:20260423T170000
DTEND:20260423T180000
DESCRIPTION:
LOCATION:
SUMMARY:Boys Varsity Baseball @ Miami Valley Christian Academy (@ Midland B
 aseball Complex)
END:VEVENT
BEGIN:VEVENT
DTSTAMP:20260421T165426Z
UID:757e635f-ab22-4784-aa40-a13c5412ea49
DTSTART:20260423T173000
DTEND:20260423T183000
DESCRIPTION:
LOCATION:6692 Goshen Rd. Goshen\, OH 45122
SUMMARY:Girls Varsity Softball vs Mount Notre Dame High School (Senior Nigh
 t)
END:VEVENT
BEGIN:VEVENT
DTSTAMP:20260421T165426Z
UID:8adf5a61-a63a-49e9-8eb9-f00e30d3ff08
DTSTART;VALUE=DATE:20260424
DTEND;VALUE=DATE:20260425
DESCRIPTION:
LOCATION:
SUMMARY:M/C Mobile Vision 
END:VEVENT
BEGIN:VEVENT
DTSTAMP:20260421T165426Z
UID:783d1ad5-9cff-4688-85bb-ebf697778a9c
DTSTART:20260424T083000
DTEND:20260424T103000
DESCRIPTION:
LOCATION:
SUMMARY:GHS Spring Musical/Student Show
END:VEVENT
BEGIN:VEVENT
DTSTAMP:20260421T165426Z
UID:6798f956-d377-4645-a1d3-abd7b5776bde
DTSTART:20260424T163000
DTEND:20260424T173000
DESCRIPTION:
LOCATION:6692 Goshen Rd. Goshen\, OH 45122
SUMMARY:Boys Junior Varsity Baseball vs Blanchester HS
END:VEVENT
BEGIN:VEVENT
DTSTAMP:20260421T165426Z
UID:72905904-cc63-41b0-ad75-28f4c3bfcb8b
DTSTART:20260424T163000
DTEND:20260424T173000
DESCRIPTION:
LOCATION:
SUMMARY:Boys Varsity Baseball @ Blanchester HS
END:VEVENT
BEGIN:VEVENT
DTSTAMP:20260421T165426Z
UID:68e1efa1-99a8-4c2f-bcf4-4fcef7d7dd80
DTSTART:20260424T190000
DTEND:20260424T210000
DESCRIPTION:
LOCATION:
SUMMARY:GHS Spring Musical
END:VEVENT
BEGIN:VEVENT
DTSTAMP:20260421T165426Z
UID:d402275b-7565-4896-a452-23a3093149ea
DTSTART:20260424T190000
DTEND:20260424T210000
DESCRIPTION:
LOCATION:
SUMMARY:GHS Spring Musical (Evening)
END:VEVENT
BEGIN:VEVENT
DTSTAMP:20260421T165426Z
UID:69808650-c9bd-404d-8fbb-52dc9c5b128c
DTSTART:20260425T120000
DTEND:20260425T130000
DESCRIPTION:
LOCATION:
SUMMARY:Boys Varsity Baseball @ Anderson High School
END:VEVENT
BEGIN:VEVENT
DTSTAMP:20260421T165426Z
UID:1809791e-5556-4ac8-bcee-2263ba922c70
DTSTART:20260425T120000
DTEND:20260425T130000
DESCRIPTION:
LOCATION:
SUMMARY:CANCELLED: Girls Varsity Softball @ Mercy McAuley High School
END:VEVENT
BEGIN:VEVENT
DTSTAMP:20260421T165426Z
UID:81f71a4b-4c17-44ff-b5fd-6c99ed19f2a2
DTSTART:20260425T140000
DTEND:20260425T150000
DESCRIPTION:
LOCATION:
SUMMARY:CANCELLED: Girls Junior Varsity Softball @ Mercy McAuley High Schoo
 l
END:VEVENT
BEGIN:VEVENT
DTSTAMP:20260421T165426Z
UID:439ac00a-b0e1-4b29-92d1-acfc039b1ee2
DTSTART:20260425T190000
DTEND:20260425T203000
DESCRIPTION:
LOCATION:
SUMMARY:GHs Spring Musical 
END:VEVENT
BEGIN:VEVENT
DTSTAMP:20260421T165426Z
UID:11e8bf24-3678-4a4b-b87d-a5a0e9beb847
DTSTART:20260425T190000
DTEND:20260425T210000
DESCRIPTION:
LOCATION:
SUMMARY:GHS Spring Musical
END:VEVENT
BEGIN:VEVENT
DTSTAMP:20260421T165426Z
UID:8f724957-1ee8-40b8-970a-cfffd744338c
DTSTART;VALUE=DATE:20260427
DTEND;VALUE=DATE:20260428
DESCRIPTION:
LOCATION:
SUMMARY:M/C Mobile Vision 
END:VEVENT
BEGIN:VEVENT
DTSTAMP:20260421T165426Z
UID:4e4f5587-33d5-4158-9ed3-8af96b4e07a0
DTSTART:20260427T160000
DTEND:20260427T170000
DESCRIPTION:
LOCATION:
SUMMARY:Coed Middle School Track @ Hillsboro MS Track Invite
END:VEVENT
BEGIN:VEVENT
DTSTAMP:20260421T165426Z
UID:5fb2699c-390f-44ac-b7ca-aeae7f6b87d6
DTSTART:20260427T170000
DTEND:20260427T180000
DESCRIPTION:
LOCATION:6692 Goshen Rd. Goshen\, OH 45122
SUMMARY:Boys Varsity Baseball vs Wilmington High School
END:VEVENT
BEGIN:VEVENT
DTSTAMP:20260421T165426Z
UID:1461c3d9-0762-4366-afdd-1261abfe00fe
DTSTART:20260427T170000
DTEND:20260427T180000
DESCRIPTION:
LOCATION:
SUMMARY:CANCELLED: Boys Junior Varsity Baseball @ Wilmington High School
END:VEVENT
BEGIN:VEVENT
DTSTAMP:20260421T165426Z
UID:e00b78b8-fa31-4053-9e2e-19b4f2e1968a
DTSTART:20260427T170000
DTEND:20260427T180000
DESCRIPTION:
LOCATION:
SUMMARY:CANCELLED: Girls Junior Varsity Softball @ Wilmington High School
END:VEVENT
BEGIN:VEVENT
DTSTAMP:20260421T165426Z
UID:a858a0ab-8077-48f9-a25f-b41f7300fdc8
DTSTART:20260427T170000
DTEND:20260427T180000
DESCRIPTION:
LOCATION:6692 Goshen Rd. Goshen\, OH 45122
SUMMARY:Girls Varsity Softball vs Wilmington High School
END:VEVENT
BEGIN:VEVENT
DTSTAMP:20260421T165426Z
UID:2e23426c-f48d-4ea3-8267-98f8654f7a7c
DTSTART;VALUE=DATE:20260428
DTEND;VALUE=DATE:20260429
DESCRIPTION:
LOCATION:
SUMMARY:M/C Mobile Vision 
END:VEVENT
BEGIN:VEVENT
DTSTAMP:20260421T165426Z
UID:5f4a08f6-8248-4ec4-844f-4d2c411e316e
DTSTART:20260428T160000
DTEND:20260428T170000
DESCRIPTION:
LOCATION:
SUMMARY:Boys Varsity Tennis @ Wilmington High School
END:VEVENT
BEGIN:VEVENT
DTSTAMP:20260421T165426Z
UID:d3ea2afc-5109-4833-9787-50950cfd1fd5
DTSTART:20260428T160000
DTEND:20260428T170000
DESCRIPTION:
LOCATION:
SUMMARY:Coed Varsity Track @ Williamsburg Jr/Sr High (Williamsburg Invite)
END:VEVENT
BEGIN:VEVENT
DTSTAMP:20260421T165426Z
UID:96ec0507-9424-41ed-9991-a433e5a6e659
DTSTART;VALUE=DATE:20260429
DTEND;VALUE=DATE:20260430
DESCRIPTION:
LOCATION:
SUMMARY:M/C Mobile Vision 
END:VEVENT
BEGIN:VEVENT
DTSTAMP:20260421T165426Z
UID:0975d8aa-5eb8-4656-9239-7569cdcad938
DTSTART:20260429T160000
DTEND:20260429T170000
DESCRIPTION:
LOCATION:
SUMMARY:Coed Middle School Track @ Williamsburg MS Track Meet
END:VEVENT
BEGIN:VEVENT
DTSTAMP:20260421T165426Z
UID:fc2cbab2-64ac-4798-add5-f777be14e06f
DTSTART:20260429T170000
DTEND:20260429T180000
DESCRIPTION:
LOCATION:
SUMMARY:Boys Varsity Baseball @ Wilmington High School
END:VEVENT
BEGIN:VEVENT
DTSTAMP:20260421T165426Z
UID:968ea585-1630-433a-9e62-8d43dc16665c
DTSTART:20260429T170000
DTEND:20260429T180000
DESCRIPTION:
LOCATION:6692 Goshen Rd. Goshen\, OH 45122
SUMMARY:CANCELLED: Boys Junior Varsity Baseball vs Wilmington High School
END:VEVENT
BEGIN:VEVENT
DTSTAMP:20260421T165426Z
UID:42cce578-575f-45ba-8ad6-3cb1a9353748
DTSTART:20260429T170000
DTEND:20260429T180000
DESCRIPTION:
LOCATION:6692 Goshen Rd. Goshen\, OH 45122
SUMMARY:CANCELLED: Girls Junior Varsity Softball vs Wilmington High School
END:VEVENT
BEGIN:VEVENT
DTSTAMP:20260421T165426Z
UID:3812d298-8855-44de-a404-c2dd16d7dc78
DTSTART:20260429T170000
DTEND:20260429T180000
DESCRIPTION:
LOCATION:
SUMMARY:Girls Varsity Softball @ Wilmington High School
END:VEVENT
BEGIN:VEVENT
DTSTAMP:20260421T165426Z
UID:34101598-45d2-413f-8977-9ba54fe4be2e
DTSTART;VALUE=DATE:20260430
DTEND;VALUE=DATE:20260501
DESCRIPTION:
LOCATION:
SUMMARY:M/C Mobile Vision 
END:VEVENT
BEGIN:VEVENT
DTSTAMP:20260421T165426Z
UID:a0977b36-d81c-4572-86b7-a0b8c0ecbc1f
DTSTART:20260430T160000
DTEND:20260430T170000
DESCRIPTION:
LOCATION:
SUMMARY:Boys Varsity Tennis vs Clinton Massie School
END:VEVENT
BEGIN:VEVENT
DTSTAMP:20260421T165426Z
UID:8dee1774-3ffc-422e-86d8-5588ae5d89d0
DTSTART:20260430T161500
DTEND:20260430T171500
DESCRIPTION:
LOCATION:
SUMMARY:Coed Middle School Track @ Blanchester Invitational
END:VEVENT
BEGIN:VEVENT
DTSTAMP:20260421T165426Z
UID:a5715d71-693d-411e-964c-c1715f84065c
DTSTART:20260430T173000
DTEND:20260430T183000
DESCRIPTION:
LOCATION:
SUMMARY:Girls Varsity Softball @ Ryle High School
END:VEVENT
BEGIN:VEVENT
DTSTAMP:20260421T165426Z
UID:6efb2f62-3c57-4c80-a2be-65d884855d67
DTSTART:20260430T190000
DTEND:20260430T200000
DESCRIPTION:
LOCATION:
SUMMARY:GHS Spring Band Concert
END:VEVENT
BEGIN:VEVENT
DTSTAMP:20260421T165426Z
UID:86bb6ef6-4501-4f61-9a65-c68e0d85d38c
DTSTART:20260430T190000
DTEND:20260430T210000
DESCRIPTION:
LOCATION:
SUMMARY:Spring Band Concert @ GHS Auditeria
END:VEVENT
BEGIN:VEVENT
DTSTAMP:20260421T165426Z
UID:660eabf5-5a8b-43d6-aa6f-3825842dcc3c
DTSTART;VALUE=DATE:20260501
DTEND;VALUE=DATE:20260502
DESCRIPTION:
LOCATION:
SUMMARY:M/C Mobile Vision 
END:VEVENT
BEGIN:VEVENT
DTSTAMP:20260421T165426Z
UID:9b0f5eb2-eb6d-475e-81c5-385eb1d27545
DTSTART:20260501T163000
DTEND:20260501T173000
DESCRIPTION:
LOCATION:6692 Goshen Rd. Goshen\, OH 45122
SUMMARY:Coed Varsity Track vs OPEN (Goshen HS Track Invite)
END:VEVENT
BEGIN:VEVENT
DTSTAMP:20260421T165426Z
UID:53aca1ea-b6cf-402e-b3f6-fddf9bba691d
DTSTART:20260501T170000
DTEND:20260501T180000
DESCRIPTION:
LOCATION:6692 Goshen Rd. Goshen\, OH 45122
SUMMARY:Girls Varsity Softball vs Williamsburg Jr/Sr High
END:VEVENT
BEGIN:VEVENT
DTSTAMP:20260421T165426Z
UID:f2521912-5f4e-459f-bb61-e32cb6eb9995
DTSTART:20260502T120000
DTEND:20260502T130000
DESCRIPTION:
LOCATION:
SUMMARY:Boys Varsity Baseball @ Georgetown High School
END:VEVENT
BEGIN:VEVENT
DTSTAMP:20260421T165426Z
UID:6b8d8609-35ad-4ba6-975c-9f9ca7f20756
DTSTART:20260502T120000
DTEND:20260502T130000
DESCRIPTION:
LOCATION:
SUMMARY:Girls Varsity Softball @ Georgetown High School
END:VEVENT
BEGIN:VEVENT
DTSTAMP:20260421T165426Z
UID:ffa96592-b509-48fc-b133-80e95f63e086
DTSTART;VALUE=DATE:20260504
DTEND;VALUE=DATE:20260505
DESCRIPTION:
LOCATION:
SUMMARY:M/C Mobile Vision 
END:VEVENT
BEGIN:VEVENT
DTSTAMP:20260421T165426Z
UID:69437657-3e83-40b6-b22c-46819fa1a4cc
DTSTART;VALUE=DATE:20260504
DTEND;VALUE=DATE:20260509
DESCRIPTION:
LOCATION:
SUMMARY:Teacher/Staff Appreciation Week
END:VEVENT
BEGIN:VEVENT
DTSTAMP:20260421T165426Z
UID:e6cf2f9b-42b3-43c5-ac31-1dc4357f3ca7
DTSTART:20260504T160000
DTEND:20260504T170000
DESCRIPTION:
LOCATION:
SUMMARY:Coed Middle School Track @ SBAAC MS Track Meet @ Batavia
END:VEVENT
BEGIN:VEVENT
DTSTAMP:20260421T165426Z
UID:4905e274-cb70-44b7-a688-6cdbc2bc464d
DTSTART:20260504T160000
DTEND:20260504T170000
DESCRIPTION:
LOCATION:
SUMMARY:Coed Varsity Track @ Cincinnati Hills Christian Acad (CHCA Invite)
END:VEVENT
BEGIN:VEVENT
DTSTAMP:20260421T165426Z
UID:f99c92df-d40d-48ce-b37a-e1627df743fc
DTSTART:20260504T170000
DTEND:20260504T180000
DESCRIPTION:
LOCATION:6692 Goshen Rd. Goshen\, OH 45122
SUMMARY:Boys Junior Varsity Baseball vs Clinton Massie School
END:VEVENT
BEGIN:VEVENT
DTSTAMP:20260421T165426Z
UID:1987a921-e4a3-4708-8e3d-1be9ed6947ce
DTSTART:20260504T170000
DTEND:20260504T180000
DESCRIPTION:
LOCATION:
SUMMARY:Boys Varsity Baseball @ Clinton Massie School
END:VEVENT
BEGIN:VEVENT
DTSTAMP:20260421T165426Z
UID:9cd5c401-dedc-43b5-a3f3-4cc99f87cffe
DTSTART:20260504T170000
DTEND:20260504T180000
DESCRIPTION:
LOCATION:6692 Goshen Rd. Goshen\, OH 45122
SUMMARY:CANCELLED: Girls Junior Varsity Softball vs Clinton Massie School
END:VEVENT
BEGIN:VEVENT
DTSTAMP:20260421T165426Z
UID:58105bd5-f236-42a3-aacb-4bd23065492c
DTSTART:20260504T170000
DTEND:20260504T180000
DESCRIPTION:
LOCATION:
SUMMARY:Girls Varsity Softball @ Clinton Massie School
END:VEVENT
BEGIN:VEVENT
DTSTAMP:20260421T165426Z
UID:b6c1ce15-3b05-483f-a27f-852b05576af8
DTSTART;VALUE=DATE:20260505
DTEND;VALUE=DATE:20260506
DESCRIPTION:
LOCATION:
SUMMARY:M/C Mobile Vision 
END:VEVENT
BEGIN:VEVENT
DTSTAMP:20260421T165426Z
UID:3b9b8868-c368-4917-addf-ae279c0c6fe6
DTSTART:20260505T000000
DTEND:20260505T010000
DESCRIPTION:
LOCATION:
SUMMARY:Time: TBA -Boys Varsity Tennis @ OPEN (SBAAC Tennis Tournament @ Wi
 lmington)
END:VEVENT
BEGIN:VEVENT
DTSTAMP:20260421T165426Z
UID:5a672ef2-7fbf-4b87-b6df-2d0f6bd24d15
DTSTART:20260505T173000
DTEND:20260505T183000
DESCRIPTION:
LOCATION:6692 Goshen Rd. Goshen\, OH 45122
SUMMARY:Girls Varsity Softball vs Taylor High School
END:VEVENT
BEGIN:VEVENT
DTSTAMP:20260421T165426Z
UID:0c9df5b2-c57b-4de8-90cf-5a43c4ceb4c3
DTSTART;VALUE=DATE:20260506
DTEND;VALUE=DATE:20260507
DESCRIPTION:
LOCATION:
SUMMARY:M/C Mobile Vision 
END:VEVENT
BEGIN:VEVENT
DTSTAMP:20260421T165426Z
UID:e47e99e0-a963-4756-a46d-acd9ba25c678
DTSTART:20260506T170000
DTEND:20260506T180000
DESCRIPTION:
LOCATION:
SUMMARY:Boys Junior Varsity Baseball @ Clinton Massie School
END:VEVENT
BEGIN:VEVENT
DTSTAMP:20260421T165426Z
UID:991349ef-5147-4d1d-b15e-8b4d22d2677d
DTSTART:20260506T170000
DTEND:20260506T180000
DESCRIPTION:
LOCATION:6692 Goshen Rd. Goshen\, OH 45122
SUMMARY:Boys Varsity Baseball vs Clinton Massie School
END:VEVENT
BEGIN:VEVENT
DTSTAMP:20260421T165426Z
UID:c27ff30f-91ac-4599-943d-7810b00621c0
DTSTART:20260506T170000
DTEND:20260506T180000
DESCRIPTION:
LOCATION:
SUMMARY:CANCELLED: Girls Junior Varsity Softball @ Clinton Massie School
END:VEVENT
BEGIN:VEVENT
DTSTAMP:20260421T165426Z
UID:0779ff44-ff5c-43c2-8b67-6b4885697698
DTSTART:20260506T170000
DTEND:20260506T180000
DESCRIPTION:
LOCATION:6692 Goshen Rd. Goshen\, OH 45122
SUMMARY:Girls Varsity Softball vs Clinton Massie School
END:VEVENT
BEGIN:VEVENT
DTSTAMP:20260421T165426Z
UID:9259c007-309a-44ec-b00c-e73212947538
DTSTART;VALUE=DATE:20260507
DTEND;VALUE=DATE:20260508
DESCRIPTION:
LOCATION:
SUMMARY:M/C Mobile Vision 
END:VEVENT
BEGIN:VEVENT
DTSTAMP:20260421T165426Z
UID:8ec07ee0-267b-4ec8-9364-68b377799261
DTSTART;VALUE=DATE:20260508
DTEND;VALUE=DATE:20260509
DESCRIPTION:
LOCATION:
SUMMARY:GHS Prom @ Newport Aquarium
END:VEVENT
BEGIN:VEVENT
DTSTAMP:20260421T165426Z
UID:c5e10f38-0b3d-412d-94e1-98e8836c4fca
DTSTART;VALUE=DATE:20260508
DTEND;VALUE=DATE:20260509
DESCRIPTION:
LOCATION:
SUMMARY:M/C Mobile Vision 
END:VEVENT
BEGIN:VEVENT
DTSTAMP:20260421T165426Z
UID:7b29ec6d-e721-4c05-85a9-8b5a296688f2
DTSTART;VALUE=DATE:20260511
DTEND;VALUE=DATE:20260512
DESCRIPTION:
LOCATION:
SUMMARY:M/C Mobile Vision 
END:VEVENT
BEGIN:VEVENT
DTSTAMP:20260421T165426Z
UID:4eb52d68-725b-4204-9acc-230689c2eb65
DTSTART:20260511T160000
DTEND:20260511T170000
DESCRIPTION:
LOCATION:
SUMMARY:Coed Varsity Track @ OPEN (SBAAC Championships @ Batavia)
END:VEVENT
BEGIN:VEVENT
DTSTAMP:20260421T165426Z
UID:77ac8943-cc54-406b-a202-6f5b7610d8eb
DTSTART:20260511T180000
DTEND:20260511T200000
DESCRIPTION:
LOCATION:GHS Community Room
SUMMARY:Board of Education Meeting
END:VEVENT
BEGIN:VEVENT
DTSTAMP:20260421T165426Z
UID:8c935eb6-6dd1-47f6-89e6-2b8391f744ee
DTSTART;VALUE=DATE:20260512
DTEND;VALUE=DATE:20260513
DESCRIPTION:
LOCATION:
SUMMARY:M/C Mobile Vision 
END:VEVENT
BEGIN:VEVENT
DTSTAMP:20260421T165426Z
UID:d1bacaf4-c7d3-4b98-996f-43568eb5860d
DTSTART:20260512T173000
DTEND:20260512T183000
DESCRIPTION:
LOCATION:6692 Goshen Rd. Goshen\, OH 45122
SUMMARY:Boys Varsity Baseball vs Purcell Marian High School (Senior Night)
END:VEVENT
BEGIN:VEVENT
DTSTAMP:20260421T165426Z
UID:580c821b-9335-44e6-bc0c-72801a5d3e8a
DTSTART:20260512T183000
DTEND:20260512T200000
DESCRIPTION:
LOCATION:
SUMMARY:Seniors:  Scholarship/Award Night
END:VEVENT
BEGIN:VEVENT
DTSTAMP:20260421T165426Z
UID:0e76d17d-b80e-49b8-8293-6412894278ab
DTSTART;VALUE=DATE:20260513
DTEND;VALUE=DATE:20260514
DESCRIPTION:
LOCATION:
SUMMARY:M/C Mobile Vision 
END:VEVENT
BEGIN:VEVENT
DTSTAMP:20260421T165426Z
UID:8e8a616c-42ab-4ad4-bcaf-c7c1aa540fd7
DTSTART:20260513T083000
DTEND:20260513T093000
DESCRIPTION:
LOCATION:
SUMMARY:Seniors: Top 20 Academic Signing Event
END:VEVENT
BEGIN:VEVENT
DTSTAMP:20260421T165426Z
UID:db651b47-a798-47c7-8b73-09c7860ad35e
DTSTART:20260513T160000
DTEND:20260513T170000
DESCRIPTION:
LOCATION:
SUMMARY:Coed Varsity Track @ OPEN (SBAAC Championships @ Batavia)
END:VEVENT
BEGIN:VEVENT
DTSTAMP:20260421T165426Z
UID:04113dcb-a5f8-4feb-9b64-673c88498525
DTSTART:20260513T170000
DTEND:20260513T180000
DESCRIPTION:
LOCATION:6692 Goshen Rd. Goshen\, OH 45122
SUMMARY:Boys Varsity Baseball vs Norwood High School/Middle School
END:VEVENT
BEGIN:VEVENT
DTSTAMP:20260421T165426Z
UID:9cad89c9-47f7-4def-a656-59aa36c0d27e
DTSTART;VALUE=DATE:20260514
DTEND;VALUE=DATE:20260515
DESCRIPTION:
LOCATION:
SUMMARY:M/C Mobile Vision 
END:VEVENT
BEGIN:VEVENT
DTSTAMP:20260421T165426Z
UID:fe169bc1-03fc-4dbc-becc-e6fcf08a1fc4
DTSTART;VALUE=DATE:20260514
DTEND;VALUE=DATE:20260516
DESCRIPTION:
LOCATION:
SUMMARY:Senior Exams
END:VEVENT
BEGIN:VEVENT
DTSTAMP:20260421T165426Z
UID:89ed641f-e40a-4131-966d-f25ea9fb1542
DTSTART:20260514T170000
DTEND:20260514T180000
DESCRIPTION:
LOCATION:6692 Goshen Rd. Goshen\, OH 45122
SUMMARY:Boys Junior Varsity Baseball vs Hillsboro High School
END:VEVENT
BEGIN:VEVENT
DTSTAMP:20260421T165426Z
UID:5b99d06c-6589-40e2-9159-e47db37c7ba8
DTSTART:20260514T170000
DTEND:20260514T180000
DESCRIPTION:
LOCATION:
SUMMARY:Boys Varsity Baseball @ Hillsboro High School
END:VEVENT
BEGIN:VEVENT
DTSTAMP:20260421T165426Z
UID:4538b05e-e414-47f5-a79d-fe1d65a1a897
DTSTART;VALUE=DATE:20260515
DTEND;VALUE=DATE:20260516
DESCRIPTION:
LOCATION:
SUMMARY:M/C Mobile Vision 
END:VEVENT
BEGIN:VEVENT
DTSTAMP:20260421T165426Z
UID:01ef7111-7c3f-4837-b0d2-cdbd2d2d2c97
DTSTART;VALUE=DATE:20260515
DTEND;VALUE=DATE:20260516
DESCRIPTION:
LOCATION:
SUMMARY:Seniors Last Day of School
END:VEVENT
BEGIN:VEVENT
DTSTAMP:20260421T165426Z
UID:0eedfa27-3533-471b-9460-9d698c11739c
DTSTART:20260516T090000
DTEND:20260516T100000
DESCRIPTION:
LOCATION:
SUMMARY:Coed Middle School Track @ OPEN (MS State Track Meet - Hillard Darb
 y HS)
END:VEVENT
BEGIN:VEVENT
DTSTAMP:20260421T165426Z
UID:3b9c2fbe-ac56-481b-899e-7fb3ab23a838
DTSTART;VALUE=DATE:20260518
DTEND;VALUE=DATE:20260519
DESCRIPTION:
LOCATION:
SUMMARY:M/C Mobile Vision 
END:VEVENT
BEGIN:VEVENT
DTSTAMP:20260421T165426Z
UID:f815f766-8d83-4613-89f7-0263984b327a
DTSTART:20260518T083000
DTEND:20260518T110000
DESCRIPTION:
LOCATION:
SUMMARY:Seniors: Cap and Gown Distribution
END:VEVENT
BEGIN:VEVENT
DTSTAMP:20260421T165426Z
UID:d1534a96-472b-4d11-9d36-c9b8f91f187a
DTSTART:20260518T093000
DTEND:20260518T110000
DESCRIPTION:
LOCATION:
SUMMARY:Seniors:  Warrior Walk
END:VEVENT
BEGIN:VEVENT
DTSTAMP:20260421T165426Z
UID:59c396a2-65ea-48a1-8240-7aae2960f1ba
DTSTART;VALUE=DATE:20260519
DTEND;VALUE=DATE:20260520
DESCRIPTION:
LOCATION:
SUMMARY:M/C Mobile Vision 
END:VEVENT
BEGIN:VEVENT
DTSTAMP:20260421T165426Z
UID:d758784e-1d23-4fbb-bb46-8d08bce4374f
DTSTART:20260519T080000
DTEND:20260519T120000
DESCRIPTION:
LOCATION:
SUMMARY:Seniors:  Mandatory Graduation Practice
END:VEVENT
BEGIN:VEVENT
DTSTAMP:20260421T165426Z
UID:7b7d9fe2-1216-4ed9-bf19-6d7104bf5158
DTSTART:20260519T120000
DTEND:20260520T130000
DESCRIPTION:
LOCATION:
SUMMARY:Underclassmen Exams
END:VEVENT
BEGIN:VEVENT
DTSTAMP:20260421T165426Z
UID:7dd613cd-7adc-4ea3-a304-d9fb337b8b40
DTSTART;VALUE=DATE:20260520
DTEND;VALUE=DATE:20260521
DESCRIPTION:
LOCATION:
SUMMARY:M/C Mobile Vision 
END:VEVENT
BEGIN:VEVENT
DTSTAMP:20260421T165426Z
UID:fe2cacd4-6ec0-4b52-ba5b-80c0db0cc06b
DTSTART:20260520T160000
DTEND:20260520T170000
DESCRIPTION:
LOCATION:
SUMMARY:Coed Varsity Track @ OPEN (District Meet @ Bellbrook)
END:VEVENT
BEGIN:VEVENT
DTSTAMP:20260421T165426Z
UID:fbef0bb0-eba0-4b07-a613-327c827b0562
DTSTART:20260520T190000
DTEND:20260520T210000
DESCRIPTION:
LOCATION:500 Louie B Nunn Dr\, Highland Heights\, KY 41099\, USA
SUMMARY:Class of 2026 Graduation
END:VEVENT
BEGIN:VEVENT
DTSTAMP:20260421T165426Z
UID:df87890d-c558-4afe-90be-c6d4ad751a96
DTSTART:20260520T190000
DTEND:20260520T210000
DESCRIPTION:
LOCATION:
SUMMARY:Seniors: Graduation @ Truist Arena: NKU
END:VEVENT
BEGIN:VEVENT
DTSTAMP:20260421T165426Z
UID:929ddc69-3a81-43fe-96cc-c3b21e071511
DTSTART;VALUE=DATE:20260521
DTEND;VALUE=DATE:20260522
DESCRIPTION:
LOCATION:
SUMMARY:Last Day for Students
END:VEVENT
BEGIN:VEVENT
DTSTAMP:20260421T165426Z
UID:2802e99d-3668-4e93-b93d-02029b5e085a
DTSTART;VALUE=DATE:20260521
DTEND;VALUE=DATE:20260522
DESCRIPTION:
LOCATION:
SUMMARY:Last Day of School: Exam Make Up Date
END:VEVENT
BEGIN:VEVENT
DTSTAMP:20260421T165426Z
UID:9c62eed4-174a-468d-a4eb-8071ec15addf
DTSTART;VALUE=DATE:20260522
DTEND;VALUE=DATE:20260523
DESCRIPTION:
LOCATION:
SUMMARY:No School - Teacher Work Day
END:VEVENT
BEGIN:VEVENT
DTSTAMP:20260421T165426Z
UID:1b51f5f2-3b12-48e0-ac33-7cbaf730c109
DTSTART;VALUE=DATE:20260522
DTEND;VALUE=DATE:20260523
DESCRIPTION:
LOCATION:
SUMMARY:Teacher Work Day: Last Day for Teachers
END:VEVENT
BEGIN:VEVENT
DTSTAMP:20260421T165426Z
UID:8043161f-8566-4ef4-9d02-9fb96851fa15
DTSTART:20260522T160000
DTEND:20260522T170000
DESCRIPTION:
LOCATION:
SUMMARY:Coed Varsity Track @ OPEN (District Meet @ Bellbrook)
END:VEVENT
BEGIN:VEVENT
DTSTAMP:20260421T165426Z
UID:74e40a40-3eb0-4c5d-99e2-7a6d275a6079
DTSTART:20260608T180000
DTEND:20260608T200000
DESCRIPTION:
LOCATION:Goshen Administrative Office
SUMMARY:Board of Education Meeting
END:VEVENT
BEGIN:VEVENT
DTSTAMP:20260421T165426Z
UID:d0dea412-a5d3-492a-9de9-1af1f98f6f70
DTSTART:20260617T170000
DTEND:20260617T180000
DESCRIPTION:
LOCATION:
SUMMARY:Girls Junior Varsity Soccer vs Mercy McAuley High School
END:VEVENT
BEGIN:VEVENT
DTSTAMP:20260421T165426Z
UID:3ac3156a-7d66-407b-abce-851fb3c59e76
DTSTART:20260617T190000
DTEND:20260617T200000
DESCRIPTION:
LOCATION:6692 Goshen Rd. Goshen\, OH 45122
SUMMARY:Girls Varsity Soccer vs Mercy McAuley High School (Scrimmage)
END:VEVENT
BEGIN:VEVENT
DTSTAMP:20260421T165426Z
UID:ca09ea46-9a19-464a-be09-bbc508093ea0
DTSTART:20260619T073000
DTEND:20260619T083000
DESCRIPTION:
LOCATION:Goshen Administrative Office
SUMMARY:Board of Education Finance Meeting
END:VEVENT
BEGIN:VEVENT
DTSTAMP:20260421T165426Z
UID:6ae17f4f-d3b2-4866-bc04-1b76ed532731
DTSTART:20260710T100000
DTEND:20260710T110000
DESCRIPTION:
LOCATION:6692 Goshen Rd. Goshen\, OH 45122
SUMMARY:Boys Varsity Football vs OPEN (Social Justice 7v7 w/ Jim Place)
END:VEVENT
BEGIN:VEVENT
DTSTAMP:20260421T165426Z
UID:460d9dbb-c0b1-4e2a-9fb6-567b7fd22558
DTSTART:20260713T180000
DTEND:20260713T200000
DESCRIPTION:
LOCATION:Goshen Administrative Office
SUMMARY:Board of Education Meeting
END:VEVENT
BEGIN:VEVENT
DTSTAMP:20260421T165426Z
UID:d1bb09a0-099e-416e-813a-53d8499ee7a2
DTSTART:20260715T173000
DTEND:20260715T183000
DESCRIPTION:
LOCATION:
SUMMARY:Girls Junior Varsity Soccer vs Loveland Jr/Sr HS (Scrimmage)
END:VEVENT
BEGIN:VEVENT
DTSTAMP:20260421T165426Z
UID:161bc31d-9973-4ef7-a1cc-3595058aacf3
DTSTART:20260715T180000
DTEND:20260715T190000
DESCRIPTION:
LOCATION:
SUMMARY:Boys Varsity Football @ Roger Bacon High School (7 v 7)
END:VEVENT
BEGIN:VEVENT
DTSTAMP:20260421T165426Z
UID:56e7c8b0-74ef-4180-a3a8-fbeb0ebada40
DTSTART:20260715T193000
DTEND:20260715T203000
DESCRIPTION:
LOCATION:6692 Goshen Rd. Goshen\, OH 45122
SUMMARY:Girls Varsity Soccer vs Loveland Jr/Sr HS (Scrimmage)
END:VEVENT
BEGIN:VEVENT
DTSTAMP:20260421T165426Z
UID:fde8de89-40ce-42a8-98d3-089513b4c463
DTSTART;VALUE=DATE:20260804
DTEND;VALUE=DATE:20260805
DESCRIPTION:
LOCATION:
SUMMARY:National Night Out
END:VEVENT
BEGIN:VEVENT
DTSTAMP:20260421T165426Z
UID:075f09d3-41f6-4919-9206-401eefd4464b
DTSTART:20260806T180000
DTEND:20260806T200000
DESCRIPTION:
LOCATION:GHS Community Room
SUMMARY:Board of Education Meeting
END:VEVENT
BEGIN:VEVENT
DTSTAMP:20260421T165426Z
UID:723da991-1f6b-4e51-879a-8a5b9d6d7fdd
DTSTART:20260828T163000
DTEND:20260828T173000
DESCRIPTION:
LOCATION:
SUMMARY:Veterans & First Responders Night (Football vs Hillsboro)
END:VEVENT
BEGIN:VEVENT
DTSTAMP:20260421T165426Z
UID:c6f4eabd-238a-4d28-9924-61433edfed86
DTSTART:20260901T150000
DTEND:20260901T160000
DESCRIPTION:
LOCATION:
SUMMARY:Labor Day - No School
END:VEVENT
BEGIN:VEVENT
DTSTAMP:20260421T165426Z
UID:5bfeb212-d30c-42dd-a0b6-fe99d0bf2be4
DTSTART;VALUE=DATE:20260904
DTEND;VALUE=DATE:20260905
DESCRIPTION:
LOCATION:
SUMMARY:Sponsor/Staff Appreciation Night at Football Game
END:VEVENT
BEGIN:VEVENT
DTSTAMP:20260421T165426Z
UID:a3f7799f-462f-405f-bc89-d69dcdeb978d
DTSTART:20260914T180000
DTEND:20260914T200000
DESCRIPTION:
LOCATION:GHS Community Room
SUMMARY:Board of Education Meeting
END:VEVENT
BEGIN:VEVENT
DTSTAMP:20260421T165426Z
UID:46a4172a-eef9-40e7-9fed-b79731889032
DTSTART;VALUE=DATE:20261002
DTEND;VALUE=DATE:20261003
DESCRIPTION:
LOCATION:
SUMMARY:Homecoming Game vs N. Richmond
END:VEVENT
BEGIN:VEVENT
DTSTAMP:20260421T165426Z
UID:d2da7729-7fc1-4d64-b1a3-ec6533a9efe8
DTSTART:20261012T180000
DTEND:20261012T200000
DESCRIPTION:
LOCATION:GHS Community Room
SUMMARY:Board of Education Meeting
END:VEVENT
BEGIN:VEVENT
DTSTAMP:20260421T165426Z
UID:d26e1a94-38d2-48ed-b33d-dbc8e4eb6e4a
DTSTART;VALUE=DATE:20261016
DTEND;VALUE=DATE:20261017
DESCRIPTION:
LOCATION:
SUMMARY:Football vs Wilmington - Youth Night
END:VEVENT
BEGIN:VEVENT
DTSTAMP:20260421T165426Z
UID:659942e4-b0cd-4c50-9517-5210ec7f0229
DTSTART;VALUE=DATE:20261023
DTEND;VALUE=DATE:20261024
DESCRIPTION:
LOCATION:
SUMMARY:Football vs. W. Brown - Senior Night
END:VEVENT
BEGIN:VEVENT
DTSTAMP:20260421T165426Z
UID:f1161bbe-5b7a-4586-9a2e-bafe6426706a
DTSTART:20261109T180000
DTEND:20261109T200000
DESCRIPTION:
LOCATION:GHS Community Room
SUMMARY:Board of Education Meeting
END:VEVENT
BEGIN:VEVENT
DTSTAMP:20260421T165426Z
UID:db1c8b0c-0981-46a5-a06e-169f456d6e28
DTSTART;VALUE=DATE:20261111
DTEND;VALUE=DATE:20261112
DESCRIPTION:
LOCATION:
SUMMARY:Veteran's Day
END:VEVENT
BEGIN:VEVENT
DTSTAMP:20260421T165426Z
UID:a7ad7ad0-7fa8-4fc0-869c-809db1f32e57
DTSTART:20261214T180000
DTEND:20261214T200000
DESCRIPTION:
LOCATION:GHS Community Room
SUMMARY:Board of Education Meeting
END:VEVENT
BEGIN:VEVENT
DTSTAMP:20260421T165426Z
UID:e1f0cc37-045d-4ac8-87fe-9dcd936787b3
DTSTART;VALUE=DATE:20270101
DTEND;VALUE=DATE:20270102
DESCRIPTION:
LOCATION:
SUMMARY:New Year's Day - No School
END:VEVENT
BEGIN:VEVENT
DTSTAMP:20260421T165426Z
UID:ce93e0c2-96e4-4461-a3ae-9d2fa6158974
DTSTART;VALUE=DATE:20270118
DTEND;VALUE=DATE:20270119
DESCRIPTION:
LOCATION:
SUMMARY:Martin Luther King Jr. Day
END:VEVENT
BEGIN:VEVENT
DTSTAMP:20260421T165426Z
UID:8f1d99ae-39e3-4489-aeb9-6461114fa313
DTSTART;VALUE=DATE:20270215
DTEND;VALUE=DATE:20270216
DESCRIPTION:
LOCATION:
SUMMARY:President's Day
END:VEVENT
END:VCALENDAR
