BEGIN:VCALENDAR
VERSION:2.0
PRODID:icalendar-ruby
CALSCALE:GREGORIAN
BEGIN:VTIMEZONE
TZID:America/Denver
BEGIN:DAYLIGHT
DTSTART:20260308T030000
TZOFFSETFROM:-0700
TZOFFSETTO:-0600
RRULE:FREQ=YEARLY;BYDAY=2SU;BYMONTH=3
TZNAME:MDT
END:DAYLIGHT
BEGIN:STANDARD
DTSTART:20261101T010000
TZOFFSETFROM:-0600
TZOFFSETTO:-0700
RRULE:FREQ=YEARLY;BYDAY=1SU;BYMONTH=11
TZNAME:MST
END:STANDARD
END:VTIMEZONE
BEGIN:VEVENT
DTSTAMP:20260425T171823Z
UID:3e8bd650-a6b3-4d3d-b53d-ad2ae6580ba5
DTSTART:20260425T080000
DTEND:20260425T120000
DESCRIPTION:
LOCATION:12101 Pellicano Dr\, El Paso\, TX 79936\, USA
SUMMARY:GT Showcase
END:VEVENT
BEGIN:VEVENT
DTSTAMP:20260425T171823Z
UID:14812133-11e7-4efe-b1cc-99fdd9013f6e
DTSTART:20260425T080000
DTEND:20260501T090000
DESCRIPTION:
LOCATION:
SUMMARY:Principal Appreciation Week 
END:VEVENT
BEGIN:VEVENT
DTSTAMP:20260425T171823Z
UID:b38b196f-673d-4019-8219-f54655c0bed1
DTSTART:20260427T153000
DTEND:20260427T163000
DESCRIPTION:
LOCATION:
SUMMARY:Extensions
END:VEVENT
BEGIN:VEVENT
DTSTAMP:20260425T171823Z
UID:f8df7714-eb44-4065-816b-94b60ca0395a
DTSTART:20260428T083000
DTEND:20260428T090000
DESCRIPTION:
LOCATION:
SUMMARY:All Star Eagles
END:VEVENT
BEGIN:VEVENT
DTSTAMP:20260425T171823Z
UID:7f6ff86a-ff96-48d8-96c5-23601a961b85
DTSTART:20260429T153000
DTEND:20260429T163000
DESCRIPTION:
LOCATION:
SUMMARY:Extensions
END:VEVENT
BEGIN:VEVENT
DTSTAMP:20260425T171823Z
UID:a0b68e6c-7b43-4ae7-8742-ccd6f3d99c8a
DTSTART:20260429T153000
DTEND:20260429T163000
DESCRIPTION:
LOCATION:
SUMMARY:Extensions
END:VEVENT
BEGIN:VEVENT
DTSTAMP:20260425T171823Z
UID:c64c2b99-30f5-44b2-bc5c-5a5b82ff6f97
DTSTART:20260430T101500
DTEND:20260430T123000
DESCRIPTION:
LOCATION:
SUMMARY:Perfect Attendance Cookout 
END:VEVENT
BEGIN:VEVENT
DTSTAMP:20260425T171823Z
UID:3a532fab-4ac2-464d-985d-965e079702b4
DTSTART:20260430T170000
DTEND:20260430T183000
DESCRIPTION:
LOCATION:12101 Pellicano Dr\, El Paso\, TX 79936\, USA
SUMMARY:Literacy Night
END:VEVENT
BEGIN:VEVENT
DTSTAMP:20260425T171823Z
UID:35220f35-b899-485d-b5c8-73f98143717d
DTSTART;VALUE=DATE:20260525
DTEND;VALUE=DATE:20260526
DESCRIPTION:
LOCATION:
SUMMARY:Memorial Holiday / District Closure
END:VEVENT
BEGIN:VEVENT
DTSTAMP:20260425T171823Z
UID:b1188d9f-f58f-4ae3-8589-fd4ac9668606
DTSTART;VALUE=DATE:20260604
DTEND;VALUE=DATE:20260605
DESCRIPTION:<html><head><meta http-equiv="Content-Type" content="text/html\
 ; charset=utf-8"></head><body><div class="elementToProof" style="font-fami
 ly:&quot\;Century Gothic&quot\;\,sans-serif\; font-size:12pt\; color:rgb(0
 \,0\,0)">Last day of the 2025-2026 school year.<br></div><div class="eleme
 ntToProof" style="font-family:&quot\;Century Gothic&quot\;\,sans-serif\; f
 ont-size:12pt\; color:rgb(0\,0\,0)">Early release for students and teacher
 s.</div></body></html>
LOCATION:
SUMMARY:Last Day of School
END:VEVENT
BEGIN:VEVENT
DTSTAMP:20260425T171823Z
UID:4e2cef8f-3f13-445b-af6a-c1636905b09a
DTSTART;VALUE=DATE:20260605
DTEND;VALUE=DATE:20260607
DESCRIPTION:
LOCATION:
SUMMARY:Teacher Work Day
END:VEVENT
BEGIN:VEVENT
DTSTAMP:20260425T171823Z
UID:0a14dbde-6965-4e41-95c7-b59b6676182a
DTSTART;VALUE=DATE:20260627
DTEND;VALUE=DATE:20260706
DESCRIPTION:
LOCATION:
SUMMARY:District Closure
END:VEVENT
END:VCALENDAR
