BEGIN:VCALENDAR
VERSION:2.0
PRODID:icalendar-ruby
CALSCALE:GREGORIAN
BEGIN:VTIMEZONE
TZID:America/Denver
BEGIN:DAYLIGHT
DTSTART:20260308T030000
TZOFFSETFROM:-0700
TZOFFSETTO:-0600
RRULE:FREQ=YEARLY;BYDAY=2SU;BYMONTH=3
TZNAME:MDT
END:DAYLIGHT
BEGIN:STANDARD
DTSTART:20261101T010000
TZOFFSETFROM:-0600
TZOFFSETTO:-0700
RRULE:FREQ=YEARLY;BYDAY=1SU;BYMONTH=11
TZNAME:MST
END:STANDARD
END:VTIMEZONE
BEGIN:VEVENT
DTSTAMP:20260426T035131Z
UID:363adb7a-c96e-4781-ae88-4c5fc575aa2c
DTSTART;VALUE=DATE:20260525
DTEND;VALUE=DATE:20260526
DESCRIPTION:
LOCATION:
SUMMARY:Memorial Holiday / District Closure
END:VEVENT
BEGIN:VEVENT
DTSTAMP:20260426T035131Z
UID:1bdb2b6a-fd2c-4c9b-857a-81fadeb360d0
DTSTART;VALUE=DATE:20260604
DTEND;VALUE=DATE:20260605
DESCRIPTION:<html><head><meta http-equiv="Content-Type" content="text/html\
 ; charset=utf-8"></head><body><div class="elementToProof" style="font-fami
 ly:&quot\;Century Gothic&quot\;\,sans-serif\; font-size:12pt\; color:rgb(0
 \,0\,0)">Last day of the 2025-2026 school year.<br></div><div class="eleme
 ntToProof" style="font-family:&quot\;Century Gothic&quot\;\,sans-serif\; f
 ont-size:12pt\; color:rgb(0\,0\,0)">Early release for students and teacher
 s.</div></body></html>
LOCATION:
SUMMARY:Last Day of School
END:VEVENT
BEGIN:VEVENT
DTSTAMP:20260426T035131Z
UID:b561880c-ff14-4c33-8947-c8e7c9524f8c
DTSTART;VALUE=DATE:20260605
DTEND;VALUE=DATE:20260607
DESCRIPTION:
LOCATION:
SUMMARY:Teacher Work Day
END:VEVENT
BEGIN:VEVENT
DTSTAMP:20260426T035131Z
UID:7ba24e21-3c52-4954-8f05-1c532f03f0c5
DTSTART;VALUE=DATE:20260627
DTEND;VALUE=DATE:20260706
DESCRIPTION:
LOCATION:
SUMMARY:District Closure
END:VEVENT
END:VCALENDAR
