BEGIN:VCALENDAR
VERSION:2.0
PRODID:icalendar-ruby
CALSCALE:GREGORIAN
BEGIN:VTIMEZONE
TZID:America/Denver
BEGIN:DAYLIGHT
DTSTART:20260308T030000
TZOFFSETFROM:-0700
TZOFFSETTO:-0600
RRULE:FREQ=YEARLY;BYDAY=2SU;BYMONTH=3
TZNAME:MDT
END:DAYLIGHT
BEGIN:STANDARD
DTSTART:20261101T010000
TZOFFSETFROM:-0600
TZOFFSETTO:-0700
RRULE:FREQ=YEARLY;BYDAY=1SU;BYMONTH=11
TZNAME:MST
END:STANDARD
END:VTIMEZONE
BEGIN:VEVENT
DTSTAMP:20260423T110959Z
UID:6df57e4d-f91c-43c3-9068-07fc903d1706
DTSTART:20260425T080000
DTEND:20260425T120000
DESCRIPTION:
LOCATION:1300 Joe Battle Blvd\, El Paso\, TX 79928\, USA
SUMMARY:Sybert Track Meet
END:VEVENT
BEGIN:VEVENT
DTSTAMP:20260423T110959Z
UID:c66fb776-48d1-4550-bd71-f4ed1ff6d75f
DTSTART:20260502T080000
DTEND:20260502T120000
DESCRIPTION:
LOCATION:Student Activities Complex
SUMMARY:Hernando Track Meet
END:VEVENT
BEGIN:VEVENT
DTSTAMP:20260423T110959Z
UID:80cb7ebc-4f25-4b7a-8658-9459c0f0c29b
DTSTART:20260507T160000
DTEND:20260507T210000
DESCRIPTION:<p>Must compete in order to qualify for District.</p>
LOCATION:1300 Joe Battle Blvd\, El Paso\, TX 79928\, USA
SUMMARY:Conference Track Meet
END:VEVENT
BEGIN:VEVENT
DTSTAMP:20260423T110959Z
UID:5673c9aa-729a-483f-9983-ddc143348de6
DTSTART:20260509T080000
DTEND:20260509T120000
DESCRIPTION:<p>Must compete to qualify for District.</p>
LOCATION:1300 Joe Battle Blvd\, El Paso\, TX 79928\, USA
SUMMARY:Conference Track Meet
END:VEVENT
BEGIN:VEVENT
DTSTAMP:20260423T110959Z
UID:a9bb3343-7b07-4d4b-9dd8-598fb0a27e41
DTSTART:20260512T080000
DTEND:20260513T090000
DESCRIPTION:
LOCATION:1300 Joe Battle Blvd\, El Paso\, TX 79928\, USA
SUMMARY:District Track Meet
END:VEVENT
BEGIN:VEVENT
DTSTAMP:20260423T110959Z
UID:7e0f07f8-3bec-4d35-b099-05e4d72a92d7
DTSTART;VALUE=DATE:20260525
DTEND;VALUE=DATE:20260526
DESCRIPTION:
LOCATION:
SUMMARY:Memorial Holiday / District Closure
END:VEVENT
BEGIN:VEVENT
DTSTAMP:20260423T110959Z
UID:86307d5a-18c3-4e14-a452-249229fa8842
DTSTART;VALUE=DATE:20260525
DTEND;VALUE=DATE:20260526
DESCRIPTION:
LOCATION:
SUMMARY:Memorial Day--No School
END:VEVENT
BEGIN:VEVENT
DTSTAMP:20260423T110959Z
UID:2fdbd97b-f79f-4056-8821-101dfbe3aaa0
DTSTART;VALUE=DATE:20260604
DTEND;VALUE=DATE:20260605
DESCRIPTION:<html><head><meta http-equiv="Content-Type" content="text/html\
 ; charset=utf-8"></head><body><div class="elementToProof" style="font-fami
 ly:&quot\;Century Gothic&quot\;\,sans-serif\; font-size:12pt\; color:rgb(0
 \,0\,0)">Last day of the 2025-2026 school year.<br></div><div class="eleme
 ntToProof" style="font-family:&quot\;Century Gothic&quot\;\,sans-serif\; f
 ont-size:12pt\; color:rgb(0\,0\,0)">Early release for students and teacher
 s.</div></body></html>
LOCATION:
SUMMARY:Last Day of School
END:VEVENT
BEGIN:VEVENT
DTSTAMP:20260423T110959Z
UID:2d7a2b3a-1f6a-4c39-b2d2-3e6ef5ce321d
DTSTART;VALUE=DATE:20260605
DTEND;VALUE=DATE:20260607
DESCRIPTION:
LOCATION:
SUMMARY:Teacher Work Day
END:VEVENT
BEGIN:VEVENT
DTSTAMP:20260423T110959Z
UID:06f7d4b1-7430-4890-aed6-2c338a2a06c2
DTSTART;VALUE=DATE:20260627
DTEND;VALUE=DATE:20260706
DESCRIPTION:
LOCATION:
SUMMARY:District Closure
END:VEVENT
END:VCALENDAR
