BEGIN:VCALENDAR
VERSION:2.0
PRODID:icalendar-ruby
CALSCALE:GREGORIAN
BEGIN:VTIMEZONE
TZID:America/Denver
BEGIN:DAYLIGHT
DTSTART:20260308T030000
TZOFFSETFROM:-0700
TZOFFSETTO:-0600
RRULE:FREQ=YEARLY;BYDAY=2SU;BYMONTH=3
TZNAME:MDT
END:DAYLIGHT
BEGIN:STANDARD
DTSTART:20261101T010000
TZOFFSETFROM:-0600
TZOFFSETTO:-0700
RRULE:FREQ=YEARLY;BYDAY=1SU;BYMONTH=11
TZNAME:MST
END:STANDARD
END:VTIMEZONE
BEGIN:VEVENT
DTSTAMP:20260423T180051Z
UID:dd99a468-2822-466c-bb55-f6119aab9bde
DTSTART:20260423T153000
DTEND:20260423T163000
DESCRIPTION:
LOCATION:
SUMMARY:TAI Camp 4th & 5th grade
END:VEVENT
BEGIN:VEVENT
DTSTAMP:20260423T180051Z
UID:9878527e-bc98-4454-b465-b6098378940d
DTSTART:20260423T153000
DTEND:20260423T163000
DESCRIPTION:
LOCATION:
SUMMARY:Tutoring for 1st-2nd graders
END:VEVENT
BEGIN:VEVENT
DTSTAMP:20260423T180051Z
UID:5b1649d8-0302-4e38-92ee-bd46d428a818
DTSTART:20260424T080000
DTEND:20260424T150000
DESCRIPTION:
LOCATION:
SUMMARY:MP 4 Reading Goals Due
END:VEVENT
BEGIN:VEVENT
DTSTAMP:20260423T180051Z
UID:d9d95cdb-3d57-43b4-bbfa-1b86124e0348
DTSTART:20260424T130000
DTEND:20260424T134500
DESCRIPTION:
LOCATION:
SUMMARY:All Star Event K-1st Grade
END:VEVENT
BEGIN:VEVENT
DTSTAMP:20260423T180051Z
UID:eaa3dff6-a84d-4cbe-9a65-ed13b12d5c05
DTSTART:20260424T140000
DTEND:20260424T144500
DESCRIPTION:
LOCATION:
SUMMARY:All Star Event 2nd-5th Grade
END:VEVENT
BEGIN:VEVENT
DTSTAMP:20260423T180051Z
UID:e7f8658a-b766-40bb-9af0-d1ed39e2b5dc
DTSTART:20260424T163000
DTEND:20260424T183000
DESCRIPTION:
LOCATION:
SUMMARY:Spring Carnival 🎪
END:VEVENT
BEGIN:VEVENT
DTSTAMP:20260423T180051Z
UID:f21caa0c-7677-4a87-bd5b-56f1ee310c19
DTSTART;VALUE=DATE:20260425
DTEND;VALUE=DATE:20260426
DESCRIPTION:
LOCATION:12101 Pellicano Dr\, El Paso\, TX 79936\, USA
SUMMARY:GT Showcase
END:VEVENT
BEGIN:VEVENT
DTSTAMP:20260423T180051Z
UID:66ac6646-1ad2-4b03-a414-82830e50260c
DTSTART:20260429T153000
DTEND:20260429T163000
DESCRIPTION:
LOCATION:
SUMMARY:TAI Camp 4th & 5th grade
END:VEVENT
BEGIN:VEVENT
DTSTAMP:20260423T180051Z
UID:69e35079-eb83-4318-8fef-ebb0f6ebf31d
DTSTART:20260429T153000
DTEND:20260429T163000
DESCRIPTION:
LOCATION:
SUMMARY:Tutoring for 1st-2nd graders
END:VEVENT
BEGIN:VEVENT
DTSTAMP:20260423T180051Z
UID:1607f292-9fec-46fd-afc1-c3723882b861
DTSTART:20260430T080000
DTEND:20260430T090000
DESCRIPTION:
LOCATION:
SUMMARY:Spring Individual Pictures- Free Dress
END:VEVENT
BEGIN:VEVENT
DTSTAMP:20260423T180051Z
UID:a55b5a8e-7298-4855-a9d2-9d23eb455529
DTSTART:20260430T153000
DTEND:20260430T163000
DESCRIPTION:
LOCATION:
SUMMARY:TAI Camp 4th & 5th grade
END:VEVENT
BEGIN:VEVENT
DTSTAMP:20260423T180051Z
UID:99f023c4-d48d-4264-8719-a58c0ddc453b
DTSTART:20260430T153000
DTEND:20260430T163000
DESCRIPTION:
LOCATION:
SUMMARY:Tutoring for 1st-2nd graders
END:VEVENT
BEGIN:VEVENT
DTSTAMP:20260423T180051Z
UID:983dc8c5-e30f-45d1-8330-24557719b4d4
DTSTART;VALUE=DATE:20260504
DTEND;VALUE=DATE:20260505
DESCRIPTION:
LOCATION:
SUMMARY:Teacher Appreciation Week
END:VEVENT
BEGIN:VEVENT
DTSTAMP:20260423T180051Z
UID:a272abfc-142d-4ebb-8eca-be6dc81ad2ad
DTSTART;VALUE=DATE:20260505
DTEND;VALUE=DATE:20260506
DESCRIPTION:
LOCATION:
SUMMARY:Teacher Appreciation Week
END:VEVENT
BEGIN:VEVENT
DTSTAMP:20260423T180051Z
UID:4d26cbd9-6fbc-4a31-a983-a1e9fa5b945f
DTSTART;VALUE=DATE:20260506
DTEND;VALUE=DATE:20260507
DESCRIPTION:
LOCATION:
SUMMARY:Teacher Appreciation Week
END:VEVENT
BEGIN:VEVENT
DTSTAMP:20260423T180051Z
UID:ac977b4f-b88e-447a-8029-7c618bc6baa1
DTSTART;VALUE=DATE:20260507
DTEND;VALUE=DATE:20260508
DESCRIPTION:
LOCATION:
SUMMARY:Teacher Appreciation Week
END:VEVENT
BEGIN:VEVENT
DTSTAMP:20260423T180051Z
UID:34adfd2c-7fc4-4985-9df0-a7776b512d4d
DTSTART;VALUE=DATE:20260508
DTEND;VALUE=DATE:20260509
DESCRIPTION:
LOCATION:
SUMMARY:Teacher Appreciation Week
END:VEVENT
BEGIN:VEVENT
DTSTAMP:20260423T180051Z
UID:e6980a87-d994-401a-a747-a104c9a84b32
DTSTART:20260509T090000
DTEND:20260509T110000
DESCRIPTION:<p>Location TBD</p>
LOCATION:
SUMMARY:Literary Anthology Celebration
END:VEVENT
BEGIN:VEVENT
DTSTAMP:20260423T180051Z
UID:cc539b37-454e-4cd9-a974-08d2a998f449
DTSTART;VALUE=DATE:20260515
DTEND;VALUE=DATE:20260516
DESCRIPTION:<p>All library books are due May 15\, 2026. Fines for lost or d
 amaged books must be cleared prior to June 1\,  2026 in order for scholars
  to participate in Field Day activities.</p>
LOCATION:
SUMMARY:All library books due 📚
END:VEVENT
BEGIN:VEVENT
DTSTAMP:20260423T180051Z
UID:e48fe8dc-872d-4acd-91c8-7005fad31644
DTSTART;VALUE=DATE:20260525
DTEND;VALUE=DATE:20260526
DESCRIPTION:
LOCATION:
SUMMARY:Memorial Holiday / District Closure
END:VEVENT
BEGIN:VEVENT
DTSTAMP:20260423T180051Z
UID:bcffc0ef-57f9-4fc5-ab12-4260c9f26697
DTSTART:20260526T090000
DTEND:20260526T100000
DESCRIPTION:
LOCATION:
SUMMARY:EOY Awards Assembly 3rd Grade
END:VEVENT
BEGIN:VEVENT
DTSTAMP:20260423T180051Z
UID:8213c029-f8a0-408e-88b3-26eaf2c6048f
DTSTART:20260526T131500
DTEND:20260526T141500
DESCRIPTION:
LOCATION:
SUMMARY:EOY Awards Assembly 1st Grade
END:VEVENT
BEGIN:VEVENT
DTSTAMP:20260423T180051Z
UID:3e2d7281-e3a9-4e53-932d-936a5aed56e2
DTSTART:20260527T090000
DTEND:20260527T100000
DESCRIPTION:
LOCATION:
SUMMARY:EOY Awards Assembly 2nd Grade
END:VEVENT
BEGIN:VEVENT
DTSTAMP:20260423T180051Z
UID:cd08c7fd-22e0-457b-b0c2-5fc1e4bf5144
DTSTART:20260527T131500
DTEND:20260527T141500
DESCRIPTION:
LOCATION:
SUMMARY:EOY Awards Assembly 4th Grade
END:VEVENT
BEGIN:VEVENT
DTSTAMP:20260423T180051Z
UID:8b226e23-1c8f-40f3-b19d-ac67f94267a0
DTSTART:20260528T090000
DTEND:20260528T100000
DESCRIPTION:
LOCATION:
SUMMARY:EOY Awards Assembly Kindergarten
END:VEVENT
BEGIN:VEVENT
DTSTAMP:20260423T180051Z
UID:db08eb52-5dec-4743-95ee-a42cc91fb80e
DTSTART:20260528T120000
DTEND:20260528T150000
DESCRIPTION:
LOCATION:
SUMMARY:5th Grade Lunch/Dance
END:VEVENT
BEGIN:VEVENT
DTSTAMP:20260423T180051Z
UID:4db60428-9299-41f8-a3b0-85de899e03d9
DTSTART:20260529T090000
DTEND:20260529T103000
DESCRIPTION:
LOCATION:
SUMMARY:EOY Awards Assembly 5th Grade
END:VEVENT
BEGIN:VEVENT
DTSTAMP:20260423T180051Z
UID:937451d3-ae22-4226-baed-2bf2eba0dc8d
DTSTART;VALUE=DATE:20260601
DTEND;VALUE=DATE:20260602
DESCRIPTION:
LOCATION:
SUMMARY:Field Day
END:VEVENT
BEGIN:VEVENT
DTSTAMP:20260423T180051Z
UID:e5722710-d362-4283-b95d-41c907b69997
DTSTART:20260602T091500
DTEND:20260602T101500
DESCRIPTION:
LOCATION:
SUMMARY:EOY PK Awards Assembly
END:VEVENT
BEGIN:VEVENT
DTSTAMP:20260423T180051Z
UID:9f17c8b0-797d-4d3b-922a-f7483accb493
DTSTART;VALUE=DATE:20260604
DTEND;VALUE=DATE:20260605
DESCRIPTION:<html><head><meta http-equiv="Content-Type" content="text/html\
 ; charset=utf-8"></head><body><div class="elementToProof" style="font-fami
 ly:&quot\;Century Gothic&quot\;\,sans-serif\; font-size:12pt\; color:rgb(0
 \,0\,0)">Last day of the 2025-2026 school year.<br></div><div class="eleme
 ntToProof" style="font-family:&quot\;Century Gothic&quot\;\,sans-serif\; f
 ont-size:12pt\; color:rgb(0\,0\,0)">Early release for students and teacher
 s.</div></body></html>
LOCATION:
SUMMARY:Last Day of School
END:VEVENT
BEGIN:VEVENT
DTSTAMP:20260423T180051Z
UID:f20e8837-3815-41f2-b04e-24731ad8a25d
DTSTART;VALUE=DATE:20260605
DTEND;VALUE=DATE:20260607
DESCRIPTION:
LOCATION:
SUMMARY:Teacher Work Day
END:VEVENT
BEGIN:VEVENT
DTSTAMP:20260423T180051Z
UID:581ac26f-dd7c-4198-8f21-44f12b83ad84
DTSTART;VALUE=DATE:20260627
DTEND;VALUE=DATE:20260706
DESCRIPTION:
LOCATION:
SUMMARY:District Closure
END:VEVENT
END:VCALENDAR
