BEGIN:VCALENDAR
VERSION:2.0
PRODID:icalendar-ruby
CALSCALE:GREGORIAN
BEGIN:VTIMEZONE
TZID:America/Chicago
BEGIN:DAYLIGHT
DTSTART:20260308T030000
TZOFFSETFROM:-0600
TZOFFSETTO:-0500
RRULE:FREQ=YEARLY;BYDAY=2SU;BYMONTH=3
TZNAME:CDT
END:DAYLIGHT
BEGIN:STANDARD
DTSTART:20261101T010000
TZOFFSETFROM:-0500
TZOFFSETTO:-0600
RRULE:FREQ=YEARLY;BYDAY=1SU;BYMONTH=11
TZNAME:CST
END:STANDARD
END:VTIMEZONE
BEGIN:VEVENT
DTSTAMP:20260423T121858Z
UID:87e87fad-9ff4-487f-b052-525bc767242b
DTSTART:20260423T100000
DTEND:20260423T190000
DESCRIPTION:
LOCATION:
SUMMARY: KG/PK RoundUp Parent Night
END:VEVENT
BEGIN:VEVENT
DTSTAMP:20260423T121858Z
UID:1b90e28b-c24e-4aac-8ddd-db82f42eff67
DTSTART:20260423T170000
DTEND:20260423T180000
DESCRIPTION:
LOCATION:
SUMMARY:Porcupines Reading Night
END:VEVENT
BEGIN:VEVENT
DTSTAMP:20260423T121858Z
UID:de61ef30-a8ee-4df1-bed6-7a71dd1570e9
DTSTART;VALUE=DATE:20260428
DTEND;VALUE=DATE:20260429
DESCRIPTION:Predicted (Waiting on Final Schedule)
LOCATION:
SUMMARY:3rd & 4th Math STAAR Test Administration
END:VEVENT
BEGIN:VEVENT
DTSTAMP:20260423T121858Z
UID:c1df29a3-dc59-499c-9b70-1f9d6c5635f6
DTSTART:20260511T140000
DTEND:20260511T150000
DESCRIPTION:
LOCATION:
SUMMARY:Talent Show
END:VEVENT
BEGIN:VEVENT
DTSTAMP:20260423T121858Z
UID:19245b5d-8a24-49be-b9b3-f5933b78b870
DTSTART;VALUE=DATE:20260514
DTEND;VALUE=DATE:20260515
DESCRIPTION:
LOCATION:
SUMMARY:Career Day
END:VEVENT
BEGIN:VEVENT
DTSTAMP:20260423T121858Z
UID:d049a32c-dff8-4bcf-992b-3c95cdc815fe
DTSTART;VALUE=DATE:20260520
DTEND;VALUE=DATE:20260521
DESCRIPTION:
LOCATION:
SUMMARY:Awards Day
END:VEVENT
END:VCALENDAR
