BEGIN:VCALENDAR
VERSION:2.0
PRODID:icalendar-ruby
CALSCALE:GREGORIAN
BEGIN:VTIMEZONE
TZID:America/Chicago
BEGIN:DAYLIGHT
DTSTART:20260308T030000
TZOFFSETFROM:-0600
TZOFFSETTO:-0500
RRULE:FREQ=YEARLY;BYDAY=2SU;BYMONTH=3
TZNAME:CDT
END:DAYLIGHT
BEGIN:STANDARD
DTSTART:20261101T010000
TZOFFSETFROM:-0500
TZOFFSETTO:-0600
RRULE:FREQ=YEARLY;BYDAY=1SU;BYMONTH=11
TZNAME:CST
END:STANDARD
END:VTIMEZONE
BEGIN:VEVENT
DTSTAMP:20260423T122701Z
UID:c6cacd11-bc57-4993-af46-ee0bbc83dbbe
DTSTART;VALUE=DATE:20260423
DTEND;VALUE=DATE:20260424
DESCRIPTION:
LOCATION:
SUMMARY:STAAR Math
END:VEVENT
BEGIN:VEVENT
DTSTAMP:20260423T122701Z
UID:420551d0-cdd7-445c-b088-ca73124b531d
DTSTART;VALUE=DATE:20260430
DTEND;VALUE=DATE:20260501
DESCRIPTION:
LOCATION:
SUMMARY:FIELD TRIP: Fort Richardson (Grade 5)
END:VEVENT
BEGIN:VEVENT
DTSTAMP:20260423T122701Z
UID:f349feca-7a9b-491b-96e9-805028e434c0
DTSTART:20260505T154500
DTEND:20260505T164500
DESCRIPTION:
LOCATION:Springtown Intermediate School\, 300 Pojo Rd\, Springtown\, TX 760
 82\, USA
SUMMARY:AFTER SCHOOL REHEARSAL 
END:VEVENT
BEGIN:VEVENT
DTSTAMP:20260423T122701Z
UID:e3d9699f-e00d-427a-8355-22f140c39b94
DTSTART;VALUE=DATE:20260506
DTEND;VALUE=DATE:20260507
DESCRIPTION:
LOCATION:
SUMMARY:NRH2O CHAPERONE CUT OFF
END:VEVENT
BEGIN:VEVENT
DTSTAMP:20260423T122701Z
UID:a91fbeb3-218f-47cf-b82d-57dc29d55ca1
DTSTART:20260506T080000
DTEND:20260506T100000
DESCRIPTION:
LOCATION:SIS-1-Conference Room (10)
SUMMARY:SIS 6th Grade Shot Clinic
END:VEVENT
BEGIN:VEVENT
DTSTAMP:20260423T122701Z
UID:1e3eb18e-0c1e-4bd2-8939-2236baae0db8
DTSTART;VALUE=DATE:20260507
DTEND;VALUE=DATE:20260508
DESCRIPTION:
LOCATION:
SUMMARY:FIELD TRIP: Fort Richardson (Grade 6)
END:VEVENT
BEGIN:VEVENT
DTSTAMP:20260423T122701Z
UID:91fa1149-8c5a-4506-9b83-79d7a4f0a07f
DTSTART:20260507T154500
DTEND:20260507T164500
DESCRIPTION:
LOCATION:Springtown Intermediate School\, 300 Pojo Rd\, Springtown\, TX 760
 82\, USA
SUMMARY:AFTER SCHOOL REHEARSAL &NRH2O CHAPERONE MEETING
END:VEVENT
BEGIN:VEVENT
DTSTAMP:20260423T122701Z
UID:8f6abea1-0e51-4db0-ba15-f6e586c569d6
DTSTART:20260511T180000
DTEND:20260511T200000
DESCRIPTION:
LOCATION:Springtown High School\, 915 W Hwy 199\, Springtown\, TX 76082\, U
 SA
SUMMARY:BAND SPRING CONCERT 
END:VEVENT
BEGIN:VEVENT
DTSTAMP:20260423T122701Z
UID:56ab58ba-7ff3-4a18-9f07-c400ab5ee3be
DTSTART;VALUE=DATE:20260512
DTEND;VALUE=DATE:20260513
DESCRIPTION:
LOCATION:
SUMMARY:NRH2O REHEARSAL
END:VEVENT
BEGIN:VEVENT
DTSTAMP:20260423T122701Z
UID:295e4158-5236-4bb0-8ed9-07acc9a872d2
DTSTART;VALUE=DATE:20260513
DTEND;VALUE=DATE:20260514
DESCRIPTION:
LOCATION:
SUMMARY:NRH20 CONTEST
END:VEVENT
BEGIN:VEVENT
DTSTAMP:20260423T122701Z
UID:28ea52c1-28bb-4532-ae24-42efab60e7be
DTSTART:20260516T090000
DTEND:20260516T120000
DESCRIPTION:
LOCATION:Springtown Intermediate School\, 300 Pojo Rd\, Springtown\, TX 760
 82\, USA
SUMMARY:SIS SOLO CONTEST
END:VEVENT
BEGIN:VEVENT
DTSTAMP:20260423T122701Z
UID:e3dfb454-210b-4932-b0fa-2d6586b6b206
DTSTART;VALUE=DATE:20260519
DTEND;VALUE=DATE:20260520
DESCRIPTION:
LOCATION:
SUMMARY:SIS Field Day
END:VEVENT
BEGIN:VEVENT
DTSTAMP:20260423T122701Z
UID:e6d6ae98-4121-4d04-bea8-68aad2fdaeae
DTSTART:20260520T081500
DTEND:20260520T091500
DESCRIPTION:
LOCATION:
SUMMARY:5th Grade Awards - By INVITATION
END:VEVENT
BEGIN:VEVENT
DTSTAMP:20260423T122701Z
UID:fd56c371-f37e-46a1-a304-1ac9fd14aa0f
DTSTART:20260520T094500
DTEND:20260520T104500
DESCRIPTION:
LOCATION:
SUMMARY:6th Grade Awards - BY INVITATION
END:VEVENT
BEGIN:VEVENT
DTSTAMP:20260423T122701Z
UID:f441eb81-af7b-47d5-afbb-848234b36546
DTSTART;VALUE=DATE:20260521
DTEND;VALUE=DATE:20260522
DESCRIPTION:
LOCATION:
SUMMARY:Early Release for Students
END:VEVENT
END:VCALENDAR
