BEGIN:VCALENDAR
VERSION:2.0
PRODID:icalendar-ruby
CALSCALE:GREGORIAN
BEGIN:VTIMEZONE
TZID:America/Chicago
BEGIN:DAYLIGHT
DTSTART:20260308T030000
TZOFFSETFROM:-0600
TZOFFSETTO:-0500
RRULE:FREQ=YEARLY;BYDAY=2SU;BYMONTH=3
TZNAME:CDT
END:DAYLIGHT
BEGIN:STANDARD
DTSTART:20261101T010000
TZOFFSETFROM:-0500
TZOFFSETTO:-0600
RRULE:FREQ=YEARLY;BYDAY=1SU;BYMONTH=11
TZNAME:CST
END:STANDARD
END:VTIMEZONE
BEGIN:VEVENT
DTSTAMP:20260423T123113Z
UID:4b25e9b8-c409-4b53-b4d8-b3354b1e36fb
DTSTART:20260423T160000
DTEND:20260423T210000
DESCRIPTION:Game vs. Decatur  \nJV @ 4:00\nVar @ 6:30
LOCATION:Porcupine Stadium\, 495 Pojo Rd\, Springtown\, TX 76082\, USA
SUMMARY:SHS Baseball
END:VEVENT
BEGIN:VEVENT
DTSTAMP:20260423T123113Z
UID:e861231d-7096-42f5-a1f2-77412fdf52a4
DTSTART:20260424T180000
DTEND:20260424T200000
DESCRIPTION:
LOCATION:Porcupine Stadium\, 495 Pojo Rd\, Springtown\, TX 76082\, USA
SUMMARY:SB Bi-District Playoffs FW Southwest Home 6:00 PM
END:VEVENT
BEGIN:VEVENT
DTSTAMP:20260423T123113Z
UID:dccf7570-27f0-464b-a406-815db13ecf89
DTSTART:20260425T120000
DTEND:20260425T130000
DESCRIPTION:Varsity only 12pm @ Burleson
LOCATION:Burleson High School\, 100 Elk Dr\, Burleson\, TX 76028\, USA
SUMMARY:SHS Varsity Baseball
END:VEVENT
BEGIN:VEVENT
DTSTAMP:20260423T123113Z
UID:be1cb5b8-066c-4325-83a0-9723e594c8c9
DTSTART:20260430T080000
DTEND:20260502T170000
DESCRIPTION:
LOCATION:
SUMMARY:SB VS Area Playoffs Time/Place-TBD
END:VEVENT
BEGIN:VEVENT
DTSTAMP:20260423T123113Z
UID:01ad2d2e-a75b-4f70-9802-619e91837312
DTSTART;VALUE=DATE:20260504
DTEND;VALUE=DATE:20260506
DESCRIPTION:
LOCATION:
SUMMARY:Girls State Golf @ Legends Golf Course
END:VEVENT
BEGIN:VEVENT
DTSTAMP:20260423T123113Z
UID:af0c7a06-3931-4b03-a644-5de728d3ac84
DTSTART:20260507T080000
DTEND:20260509T170000
DESCRIPTION:
LOCATION:
SUMMARY:SB VS Regional Semi-Finals Time/Place-TBD
END:VEVENT
BEGIN:VEVENT
DTSTAMP:20260423T123113Z
UID:847575b2-d290-4726-b6a4-5589a7a91b7a
DTSTART:20260514T080000
DTEND:20260516T170000
DESCRIPTION:
LOCATION:
SUMMARY:SB VS Regional Finals Time/Place-TBD
END:VEVENT
BEGIN:VEVENT
DTSTAMP:20260423T123113Z
UID:ae330425-f58a-4a37-b2c3-476bf05ea7af
DTSTART:20260521T080000
DTEND:20260523T170000
DESCRIPTION:
LOCATION:
SUMMARY:SB VS State Semi-Finals Time/Place-TBD
END:VEVENT
BEGIN:VEVENT
DTSTAMP:20260423T123113Z
UID:78aeea0e-bba8-4f9f-885f-52ed6b3a9648
DTSTART:20260528T080000
DTEND:20260530T170000
DESCRIPTION:
LOCATION:
SUMMARY:SB VS State Finals Austin Time-TBD
END:VEVENT
END:VCALENDAR
