BEGIN:VCALENDAR
VERSION:2.0
PRODID:icalendar-ruby
CALSCALE:GREGORIAN
BEGIN:VTIMEZONE
TZID:America/Chicago
BEGIN:DAYLIGHT
DTSTART:20260308T030000
TZOFFSETFROM:-0600
TZOFFSETTO:-0500
RRULE:FREQ=YEARLY;BYDAY=2SU;BYMONTH=3
TZNAME:CDT
END:DAYLIGHT
BEGIN:STANDARD
DTSTART:20261101T010000
TZOFFSETFROM:-0500
TZOFFSETTO:-0600
RRULE:FREQ=YEARLY;BYDAY=1SU;BYMONTH=11
TZNAME:CST
END:STANDARD
END:VTIMEZONE
BEGIN:VEVENT
DTSTAMP:20260420T040512Z
UID:82125a02-7934-4e04-b91c-f6b774427c97
DTSTART:20260420T144500
DTEND:20260420T170000
DESCRIPTION:https://raypec.gofmx.com/scheduling/requests/3240905/occurrence
 s/7811853
LOCATION:17205 E Rt 58\nRaymore\, MO 64083
SUMMARY:HS Boys Volleyball Practice
END:VEVENT
BEGIN:VEVENT
DTSTAMP:20260420T040512Z
UID:3431443f-e199-452f-b21a-0b2174820304
DTSTART:20260420T150000
DTEND:20260420T173000
DESCRIPTION:https://raypec.gofmx.com/scheduling/requests/3191709/occurrence
 s/7720187
LOCATION:East Middle School and Ray-Pec East (NGC)
SUMMARY:HS Soccer Practice
END:VEVENT
BEGIN:VEVENT
DTSTAMP:20260420T040512Z
UID:642e3dfe-99c0-4253-ab4e-959de5cc3663
DTSTART:20260421T144500
DTEND:20260421T170000
DESCRIPTION:https://raypec.gofmx.com/scheduling/requests/3240905/occurrence
 s/7811854
LOCATION:17205 E Rt 58\nRaymore\, MO 64083
SUMMARY:HS Boys Volleyball Practice
END:VEVENT
BEGIN:VEVENT
DTSTAMP:20260420T040512Z
UID:3dea065c-ece2-4f55-9711-ace0c7ab1ec9
DTSTART:20260421T150000
DTEND:20260421T173000
DESCRIPTION:https://raypec.gofmx.com/scheduling/requests/3191709/occurrence
 s/7720188
LOCATION:East Middle School and Ray-Pec East (NGC)
SUMMARY:HS Soccer Practice
END:VEVENT
BEGIN:VEVENT
DTSTAMP:20260420T040512Z
UID:869736ba-9f6c-49b1-9aab-801e774617a8
DTSTART:20260422T144500
DTEND:20260422T170000
DESCRIPTION:https://raypec.gofmx.com/scheduling/requests/3240905/occurrence
 s/7811855
LOCATION:17205 E Rt 58\nRaymore\, MO 64083
SUMMARY:HS Boys Volleyball Practice
END:VEVENT
BEGIN:VEVENT
DTSTAMP:20260420T040512Z
UID:b5cdcf6e-d90b-4195-91d6-c528049bc3bd
DTSTART:20260422T150000
DTEND:20260422T173000
DESCRIPTION:https://raypec.gofmx.com/scheduling/requests/3191709/occurrence
 s/7720189
LOCATION:East Middle School and Ray-Pec East (NGC)
SUMMARY:HS Soccer Practice
END:VEVENT
BEGIN:VEVENT
DTSTAMP:20260420T040512Z
UID:e2ed819a-e120-411f-8825-c5617d4020f3
DTSTART:20260423T144500
DTEND:20260423T170000
DESCRIPTION:https://raypec.gofmx.com/scheduling/requests/3240905/occurrence
 s/7811856
LOCATION:17205 E Rt 58\nRaymore\, MO 64083
SUMMARY:HS Boys Volleyball Practice
END:VEVENT
BEGIN:VEVENT
DTSTAMP:20260420T040512Z
UID:ced52e14-9509-4c6e-97b3-10a72b8ebbfa
DTSTART:20260423T150000
DTEND:20260423T173000
DESCRIPTION:https://raypec.gofmx.com/scheduling/requests/3191709/occurrence
 s/7720190
LOCATION:East Middle School and Ray-Pec East (NGC)
SUMMARY:HS Soccer Practice
END:VEVENT
BEGIN:VEVENT
DTSTAMP:20260420T040512Z
UID:7b5c1a7f-8359-4150-9286-b302755bb022
DTSTART;VALUE=DATE:20260424
DTEND;VALUE=DATE:20260425
DESCRIPTION:https://raypec.gofmx.com/scheduling/requests/3081691/occurrence
 s/7286979
LOCATION:Academy\, Administrative Services Center (ASC)\, Bridle Ridge Elem
 entary\, Creekmoor Elementary\, Eagle Glen Elementary\, East Middle School
 \, High School\, LEAD Center\, Peculiar Elementary\, Raymore Elementary\, 
 Ray-Pec East (NGC)\, Shull Early Learning Center\, South Middle School\, S
 tonegate Elementary\, and Timber Creek Elementary
SUMMARY:Early Release (time's communicated by building) - Staff Collaborati
 on
END:VEVENT
BEGIN:VEVENT
DTSTAMP:20260420T040512Z
UID:c31c449c-b97a-4451-ba62-012d0ec66f2c
DTSTART:20260424T144500
DTEND:20260424T170000
DESCRIPTION:https://raypec.gofmx.com/scheduling/requests/3240905/occurrence
 s/7811857
LOCATION:17205 E Rt 58\nRaymore\, MO 64083
SUMMARY:HS Boys Volleyball Practice
END:VEVENT
BEGIN:VEVENT
DTSTAMP:20260420T040512Z
UID:3738260d-b6f1-4c95-baab-69ac83cbaebd
DTSTART:20260424T150000
DTEND:20260424T173000
DESCRIPTION:https://raypec.gofmx.com/scheduling/requests/3191709/occurrence
 s/7720191
LOCATION:East Middle School and Ray-Pec East (NGC)
SUMMARY:HS Soccer Practice
END:VEVENT
BEGIN:VEVENT
DTSTAMP:20260420T040512Z
UID:22b7d51d-714b-48aa-998e-e79ef3d3e485
DTSTART:20260427T144500
DTEND:20260427T170000
DESCRIPTION:https://raypec.gofmx.com/scheduling/requests/3240905/occurrence
 s/7811858
LOCATION:17205 E Rt 58\nRaymore\, MO 64083
SUMMARY:HS Boys Volleyball Practice
END:VEVENT
BEGIN:VEVENT
DTSTAMP:20260420T040512Z
UID:9461ae68-ac09-4bee-ac34-56b36cc7a13d
DTSTART:20260427T150000
DTEND:20260427T173000
DESCRIPTION:https://raypec.gofmx.com/scheduling/requests/3191709/occurrence
 s/7720192
LOCATION:East Middle School and Ray-Pec East (NGC)
SUMMARY:HS Soccer Practice
END:VEVENT
BEGIN:VEVENT
DTSTAMP:20260420T040512Z
UID:c3e0dcd0-6e9d-40d5-a2b8-13dc8ff8f4f4
DTSTART:20260428T144500
DTEND:20260428T170000
DESCRIPTION:https://raypec.gofmx.com/scheduling/requests/3240905/occurrence
 s/7811859
LOCATION:17205 E Rt 58\nRaymore\, MO 64083
SUMMARY:HS Boys Volleyball Practice
END:VEVENT
BEGIN:VEVENT
DTSTAMP:20260420T040512Z
UID:4a850509-eb1c-4989-aad9-2d1cbd2eb47e
DTSTART:20260429T144500
DTEND:20260429T170000
DESCRIPTION:https://raypec.gofmx.com/scheduling/requests/3240905/occurrence
 s/7811860
LOCATION:17205 E Rt 58\nRaymore\, MO 64083
SUMMARY:HS Boys Volleyball Practice
END:VEVENT
BEGIN:VEVENT
DTSTAMP:20260420T040512Z
UID:13ff8277-cf9b-4a54-b939-aeac9b955fc7
DTSTART:20260429T150000
DTEND:20260429T173000
DESCRIPTION:https://raypec.gofmx.com/scheduling/requests/3191709/occurrence
 s/7720194
LOCATION:East Middle School and Ray-Pec East (NGC)
SUMMARY:HS Soccer Practice
END:VEVENT
BEGIN:VEVENT
DTSTAMP:20260420T040512Z
UID:6a78b088-2faf-4bf0-b6e2-151c1a6ddfaa
DTSTART:20260430T144500
DTEND:20260430T170000
DESCRIPTION:https://raypec.gofmx.com/scheduling/requests/3240905/occurrence
 s/7811861
LOCATION:17205 E Rt 58\nRaymore\, MO 64083
SUMMARY:HS Boys Volleyball Practice
END:VEVENT
BEGIN:VEVENT
DTSTAMP:20260420T040512Z
UID:f30dbd9f-61ea-4dc2-b51a-75d94bbb11b9
DTSTART:20260501T144500
DTEND:20260501T170000
DESCRIPTION:https://raypec.gofmx.com/scheduling/requests/3240905/occurrence
 s/7811862
LOCATION:17205 E Rt 58\nRaymore\, MO 64083
SUMMARY:HS Boys Volleyball Practice
END:VEVENT
BEGIN:VEVENT
DTSTAMP:20260420T040512Z
UID:8a9020db-6462-4dad-8c8c-c4b1cc555557
DTSTART:20260501T150000
DTEND:20260501T173000
DESCRIPTION:https://raypec.gofmx.com/scheduling/requests/3191709/occurrence
 s/7720196
LOCATION:East Middle School and Ray-Pec East (NGC)
SUMMARY:HS Soccer Practice
END:VEVENT
BEGIN:VEVENT
DTSTAMP:20260420T040512Z
UID:9d84573b-663d-4d74-a1e1-81e1058b2de8
DTSTART:20260504T144500
DTEND:20260504T170000
DESCRIPTION:https://raypec.gofmx.com/scheduling/requests/3240905/occurrence
 s/7811863
LOCATION:17205 E Rt 58\nRaymore\, MO 64083
SUMMARY:HS Boys Volleyball Practice
END:VEVENT
BEGIN:VEVENT
DTSTAMP:20260420T040512Z
UID:67f8afeb-e611-44b8-9e0c-a135c28518d0
DTSTART:20260504T150000
DTEND:20260504T173000
DESCRIPTION:https://raypec.gofmx.com/scheduling/requests/3191709/occurrence
 s/7720197
LOCATION:East Middle School and Ray-Pec East (NGC)
SUMMARY:HS Soccer Practice
END:VEVENT
BEGIN:VEVENT
DTSTAMP:20260420T040512Z
UID:5989c7b0-cc85-4654-a5ab-9e7daf781111
DTSTART:20260505T144500
DTEND:20260505T170000
DESCRIPTION:https://raypec.gofmx.com/scheduling/requests/3240905/occurrence
 s/7811864
LOCATION:17205 E Rt 58\nRaymore\, MO 64083
SUMMARY:HS Boys Volleyball Practice
END:VEVENT
BEGIN:VEVENT
DTSTAMP:20260420T040512Z
UID:f101f79f-ed2a-4153-88c7-daa391d2150c
DTSTART:20260505T150000
DTEND:20260505T173000
DESCRIPTION:https://raypec.gofmx.com/scheduling/requests/3191709/occurrence
 s/7720198
LOCATION:East Middle School and Ray-Pec East (NGC)
SUMMARY:HS Soccer Practice
END:VEVENT
BEGIN:VEVENT
DTSTAMP:20260420T040512Z
UID:c715de01-54e8-4331-99d3-b4573a5aa391
DTSTART:20260506T144500
DTEND:20260506T170000
DESCRIPTION:https://raypec.gofmx.com/scheduling/requests/3240905/occurrence
 s/7811865
LOCATION:17205 E Rt 58\nRaymore\, MO 64083
SUMMARY:HS Boys Volleyball Practice
END:VEVENT
BEGIN:VEVENT
DTSTAMP:20260420T040512Z
UID:da395e8d-ab54-408c-ba41-fef274e2b9ba
DTSTART:20260506T150000
DTEND:20260506T173000
DESCRIPTION:https://raypec.gofmx.com/scheduling/requests/3191709/occurrence
 s/7720199
LOCATION:East Middle School and Ray-Pec East (NGC)
SUMMARY:HS Soccer Practice
END:VEVENT
BEGIN:VEVENT
DTSTAMP:20260420T040512Z
UID:436dbf83-e9c3-44de-9baa-94e6ef5b02d1
DTSTART:20260507T144500
DTEND:20260507T170000
DESCRIPTION:https://raypec.gofmx.com/scheduling/requests/3240905/occurrence
 s/7811866
LOCATION:17205 E Rt 58\nRaymore\, MO 64083
SUMMARY:HS Boys Volleyball Practice
END:VEVENT
BEGIN:VEVENT
DTSTAMP:20260420T040512Z
UID:4fbf61fe-fe09-4322-bdae-4c64b497adaf
DTSTART:20260508T144500
DTEND:20260508T170000
DESCRIPTION:https://raypec.gofmx.com/scheduling/requests/3240905/occurrence
 s/7811867
LOCATION:17205 E Rt 58\nRaymore\, MO 64083
SUMMARY:HS Boys Volleyball Practice
END:VEVENT
BEGIN:VEVENT
DTSTAMP:20260420T040512Z
UID:5e1d9fdd-d5dc-4104-9682-d81900330b6f
DTSTART:20260508T150000
DTEND:20260508T173000
DESCRIPTION:https://raypec.gofmx.com/scheduling/requests/3191709/occurrence
 s/7720201
LOCATION:East Middle School and Ray-Pec East (NGC)
SUMMARY:HS Soccer Practice
END:VEVENT
BEGIN:VEVENT
DTSTAMP:20260420T040512Z
UID:5d78a494-b018-40a6-bf24-acc53561b74d
DTSTART:20260511T144500
DTEND:20260511T170000
DESCRIPTION:https://raypec.gofmx.com/scheduling/requests/3240905/occurrence
 s/7811868
LOCATION:17205 E Rt 58\nRaymore\, MO 64083
SUMMARY:HS Boys Volleyball Practice
END:VEVENT
BEGIN:VEVENT
DTSTAMP:20260420T040512Z
UID:e4f1f1a3-265b-49f5-95c8-c70b779e4cd5
DTSTART:20260511T150000
DTEND:20260511T173000
DESCRIPTION:https://raypec.gofmx.com/scheduling/requests/3191709/occurrence
 s/7720202
LOCATION:East Middle School and Ray-Pec East (NGC)
SUMMARY:HS Soccer Practice
END:VEVENT
BEGIN:VEVENT
DTSTAMP:20260420T040512Z
UID:a44450b6-0ef2-4247-b114-f2580142899f
DTSTART:20260512T144500
DTEND:20260512T170000
DESCRIPTION:https://raypec.gofmx.com/scheduling/requests/3240905/occurrence
 s/7811869
LOCATION:17205 E Rt 58\nRaymore\, MO 64083
SUMMARY:HS Boys Volleyball Practice
END:VEVENT
BEGIN:VEVENT
DTSTAMP:20260420T040512Z
UID:c03c8b8e-fa7d-4a68-8195-265f3b142bbc
DTSTART:20260512T150000
DTEND:20260512T173000
DESCRIPTION:https://raypec.gofmx.com/scheduling/requests/3191709/occurrence
 s/7720203
LOCATION:East Middle School and Ray-Pec East (NGC)
SUMMARY:HS Soccer Practice
END:VEVENT
BEGIN:VEVENT
DTSTAMP:20260420T040512Z
UID:346b4f45-5ba2-4542-9c8f-9cb09d1eb7a1
DTSTART:20260513T144500
DTEND:20260513T170000
DESCRIPTION:https://raypec.gofmx.com/scheduling/requests/3240905/occurrence
 s/7811870
LOCATION:17205 E Rt 58\nRaymore\, MO 64083
SUMMARY:HS Boys Volleyball Practice
END:VEVENT
BEGIN:VEVENT
DTSTAMP:20260420T040512Z
UID:7ee80641-3359-42f7-bfbe-4731b1b1c7d7
DTSTART:20260513T150000
DTEND:20260513T173000
DESCRIPTION:https://raypec.gofmx.com/scheduling/requests/3191709/occurrence
 s/7720204
LOCATION:East Middle School and Ray-Pec East (NGC)
SUMMARY:HS Soccer Practice
END:VEVENT
BEGIN:VEVENT
DTSTAMP:20260420T040512Z
UID:afc53f5f-7a09-43d4-a0e8-a4666a2f7dbc
DTSTART:20260514T144500
DTEND:20260514T170000
DESCRIPTION:https://raypec.gofmx.com/scheduling/requests/3240905/occurrence
 s/7811871
LOCATION:17205 E Rt 58\nRaymore\, MO 64083
SUMMARY:HS Boys Volleyball Practice
END:VEVENT
BEGIN:VEVENT
DTSTAMP:20260420T040512Z
UID:2f653fb2-fb7b-4e33-bf0c-541a0e94c392
DTSTART:20260515T144500
DTEND:20260515T170000
DESCRIPTION:https://raypec.gofmx.com/scheduling/requests/3240905/occurrence
 s/7811872
LOCATION:17205 E Rt 58\nRaymore\, MO 64083
SUMMARY:HS Boys Volleyball Practice
END:VEVENT
BEGIN:VEVENT
DTSTAMP:20260420T040512Z
UID:72d09d73-9e7d-4b4c-99c8-36945c949d42
DTSTART:20260515T150000
DTEND:20260515T173000
DESCRIPTION:https://raypec.gofmx.com/scheduling/requests/3191709/occurrence
 s/7720206
LOCATION:East Middle School and Ray-Pec East (NGC)
SUMMARY:HS Soccer Practice
END:VEVENT
BEGIN:VEVENT
DTSTAMP:20260420T040512Z
UID:89666a00-f77f-440c-bb13-6a7e79b71957
DTSTART:20260518T144500
DTEND:20260518T170000
DESCRIPTION:https://raypec.gofmx.com/scheduling/requests/3240905/occurrence
 s/7811873
LOCATION:17205 E Rt 58\nRaymore\, MO 64083
SUMMARY:HS Boys Volleyball Practice
END:VEVENT
BEGIN:VEVENT
DTSTAMP:20260420T040512Z
UID:900d9e8d-669e-431c-b496-4a10636c2abc
DTSTART:20260518T150000
DTEND:20260518T173000
DESCRIPTION:https://raypec.gofmx.com/scheduling/requests/3191709/occurrence
 s/7720207
LOCATION:East Middle School and Ray-Pec East (NGC)
SUMMARY:HS Soccer Practice
END:VEVENT
BEGIN:VEVENT
DTSTAMP:20260420T040512Z
UID:4c8f51cb-dc94-481e-a783-48c27e014823
DTSTART:20260519T144500
DTEND:20260519T170000
DESCRIPTION:https://raypec.gofmx.com/scheduling/requests/3240905/occurrence
 s/7811874
LOCATION:17205 E Rt 58\nRaymore\, MO 64083
SUMMARY:HS Boys Volleyball Practice
END:VEVENT
BEGIN:VEVENT
DTSTAMP:20260420T040512Z
UID:e15e486f-b5f7-41d7-ac75-0142c19250c2
DTSTART:20260519T150000
DTEND:20260519T173000
DESCRIPTION:https://raypec.gofmx.com/scheduling/requests/3191709/occurrence
 s/7720208
LOCATION:East Middle School and Ray-Pec East (NGC)
SUMMARY:HS Soccer Practice
END:VEVENT
BEGIN:VEVENT
DTSTAMP:20260420T040512Z
UID:4572e2ef-c138-4b99-a739-5d19a19893dd
DTSTART:20260520T144500
DTEND:20260520T170000
DESCRIPTION:https://raypec.gofmx.com/scheduling/requests/3240905/occurrence
 s/7811875
LOCATION:17205 E Rt 58\nRaymore\, MO 64083
SUMMARY:HS Boys Volleyball Practice
END:VEVENT
BEGIN:VEVENT
DTSTAMP:20260420T040512Z
UID:19d4c365-a4d1-4b47-8e73-2c87f94d28ec
DTSTART:20260520T150000
DTEND:20260520T173000
DESCRIPTION:https://raypec.gofmx.com/scheduling/requests/3191709/occurrence
 s/7720209
LOCATION:East Middle School and Ray-Pec East (NGC)
SUMMARY:HS Soccer Practice
END:VEVENT
BEGIN:VEVENT
DTSTAMP:20260420T040512Z
UID:4880f06a-bed2-4962-8ace-048d9bf108d7
DTSTART;VALUE=DATE:20260521
DTEND;VALUE=DATE:20260522
DESCRIPTION:https://raypec.gofmx.com/scheduling/requests/3081759/occurrence
 s/7287162
LOCATION:Academy\, Administrative Services Center (ASC)\, Bridle Ridge Elem
 entary\, Creekmoor Elementary\, Eagle Glen Elementary\, East Middle School
 \, High School\, LEAD Center\, Peculiar Elementary\, Raymore Elementary\, 
 Ray-Pec East (NGC)\, Shull Early Learning Center\, South Middle School\, S
 tonegate Elementary\, and Timber Creek Elementary
SUMMARY:Early Release (time's communicated by building)
END:VEVENT
BEGIN:VEVENT
DTSTAMP:20260420T040512Z
UID:5d3feb1e-d578-4606-8209-be0287b041b4
DTSTART:20260521T144500
DTEND:20260521T170000
DESCRIPTION:https://raypec.gofmx.com/scheduling/requests/3240905/occurrence
 s/7811876
LOCATION:17205 E Rt 58\nRaymore\, MO 64083
SUMMARY:HS Boys Volleyball Practice
END:VEVENT
BEGIN:VEVENT
DTSTAMP:20260420T040512Z
UID:1018ad91-c450-4265-938b-e96cb71b318e
DTSTART:20260521T150000
DTEND:20260521T173000
DESCRIPTION:https://raypec.gofmx.com/scheduling/requests/3191709/occurrence
 s/7720210
LOCATION:East Middle School and Ray-Pec East (NGC)
SUMMARY:HS Soccer Practice
END:VEVENT
BEGIN:VEVENT
DTSTAMP:20260420T040512Z
UID:811492ae-6477-45d1-aa8b-2ee013583cab
DTSTART:20260522T144500
DTEND:20260522T170000
DESCRIPTION:https://raypec.gofmx.com/scheduling/requests/3240905/occurrence
 s/7811877
LOCATION:17205 E Rt 58\nRaymore\, MO 64083
SUMMARY:HS Boys Volleyball Practice
END:VEVENT
BEGIN:VEVENT
DTSTAMP:20260420T040512Z
UID:af850a07-b7ab-4385-b49d-e8b3396c9d51
DTSTART:20260522T150000
DTEND:20260522T173000
DESCRIPTION:https://raypec.gofmx.com/scheduling/requests/3191709/occurrence
 s/7720211
LOCATION:East Middle School and Ray-Pec East (NGC)
SUMMARY:HS Soccer Practice
END:VEVENT
BEGIN:VEVENT
DTSTAMP:20260420T040512Z
UID:8eca7541-eed1-412a-bd18-77600d7cae6e
DTSTART;VALUE=DATE:20260525
DTEND;VALUE=DATE:20260526
DESCRIPTION:https://raypec.gofmx.com/scheduling/requests/3081796/occurrence
 s/7287222
LOCATION:Academy\, Administrative Services Center (ASC)\, Bridle Ridge Elem
 entary\, Creekmoor Elementary\, Eagle Glen Elementary\, East Middle School
 \, High School\, LEAD Center\, Peculiar Elementary\, Raymore Elementary\, 
 Ray-Pec East (NGC)\, Shull Early Learning Center\, South Middle School\, S
 tonegate Elementary\, and Timber Creek Elementary
SUMMARY:Holiday - Offices & Facilities Closed
END:VEVENT
BEGIN:VEVENT
DTSTAMP:20260420T040512Z
UID:eae20510-4529-41da-856a-bbd55043f740
DTSTART:20260525T144500
DTEND:20260525T170000
DESCRIPTION:https://raypec.gofmx.com/scheduling/requests/3240905/occurrence
 s/7811878
LOCATION:17205 E Rt 58\nRaymore\, MO 64083
SUMMARY:HS Boys Volleyball Practice
END:VEVENT
BEGIN:VEVENT
DTSTAMP:20260420T040512Z
UID:32c7d22c-f96c-46a7-9b7e-da70ad658cc0
DTSTART:20260526T144500
DTEND:20260526T170000
DESCRIPTION:https://raypec.gofmx.com/scheduling/requests/3240905/occurrence
 s/7811879
LOCATION:17205 E Rt 58\nRaymore\, MO 64083
SUMMARY:HS Boys Volleyball Practice
END:VEVENT
BEGIN:VEVENT
DTSTAMP:20260420T040512Z
UID:5be5727f-55f0-4b0e-b5e8-9111588b102e
DTSTART:20260527T144500
DTEND:20260527T170000
DESCRIPTION:https://raypec.gofmx.com/scheduling/requests/3240905/occurrence
 s/7811880
LOCATION:17205 E Rt 58\nRaymore\, MO 64083
SUMMARY:HS Boys Volleyball Practice
END:VEVENT
BEGIN:VEVENT
DTSTAMP:20260420T040512Z
UID:fc750acd-4e3f-4946-8594-b3b63f039b6c
DTSTART:20260528T144500
DTEND:20260528T170000
DESCRIPTION:https://raypec.gofmx.com/scheduling/requests/3240905/occurrence
 s/7811881
LOCATION:17205 E Rt 58\nRaymore\, MO 64083
SUMMARY:HS Boys Volleyball Practice
END:VEVENT
BEGIN:VEVENT
DTSTAMP:20260420T040512Z
UID:3b3f4132-edf4-46e0-9290-f8425a7b6916
DTSTART:20260529T144500
DTEND:20260529T170000
DESCRIPTION:https://raypec.gofmx.com/scheduling/requests/3240905/occurrence
 s/7811882
LOCATION:17205 E Rt 58\nRaymore\, MO 64083
SUMMARY:HS Boys Volleyball Practice
END:VEVENT
BEGIN:VEVENT
DTSTAMP:20260420T040512Z
UID:bfb67b1d-40dd-44aa-97c6-a4869a05af64
DTSTART;VALUE=DATE:20260619
DTEND;VALUE=DATE:20260620
DESCRIPTION:https://raypec.gofmx.com/scheduling/requests/3081796/occurrence
 s/7287223
LOCATION:Academy\, Administrative Services Center (ASC)\, Bridle Ridge Elem
 entary\, Creekmoor Elementary\, Eagle Glen Elementary\, East Middle School
 \, High School\, LEAD Center\, Peculiar Elementary\, Raymore Elementary\, 
 Ray-Pec East (NGC)\, Shull Early Learning Center\, South Middle School\, S
 tonegate Elementary\, and Timber Creek Elementary
SUMMARY:Holiday - Offices & Facilities Closed
END:VEVENT
BEGIN:VEVENT
DTSTAMP:20260420T040512Z
UID:5c44835d-b44e-40e0-8122-0a0be5a0851c
DTSTART;VALUE=DATE:20260703
DTEND;VALUE=DATE:20260704
DESCRIPTION:https://raypec.gofmx.com/scheduling/requests/3081796/occurrence
 s/7287224
LOCATION:Academy\, Administrative Services Center (ASC)\, Bridle Ridge Elem
 entary\, Creekmoor Elementary\, Eagle Glen Elementary\, East Middle School
 \, High School\, LEAD Center\, Peculiar Elementary\, Raymore Elementary\, 
 Ray-Pec East (NGC)\, Shull Early Learning Center\, South Middle School\, S
 tonegate Elementary\, and Timber Creek Elementary
SUMMARY:Holiday - Offices & Facilities Closed
END:VEVENT
END:VCALENDAR
