BEGIN:VCALENDAR
VERSION:2.0
PRODID:icalendar-ruby
CALSCALE:GREGORIAN
BEGIN:VTIMEZONE
TZID:America/New_York
BEGIN:DAYLIGHT
DTSTART:20260308T030000
TZOFFSETFROM:-0500
TZOFFSETTO:-0400
RRULE:FREQ=YEARLY;BYDAY=2SU;BYMONTH=3
TZNAME:EDT
END:DAYLIGHT
BEGIN:STANDARD
DTSTART:20261101T010000
TZOFFSETFROM:-0400
TZOFFSETTO:-0500
RRULE:FREQ=YEARLY;BYDAY=1SU;BYMONTH=11
TZNAME:EST
END:STANDARD
END:VTIMEZONE
BEGIN:VEVENT
DTSTAMP:20260425T144400Z
UID:1d6b75e0-76c4-45e4-bc29-b146bd1da214
DTSTART:20260508T140000
DTEND:20260508T150000
DESCRIPTION:
LOCATION:
SUMMARY:Color Wars
END:VEVENT
BEGIN:VEVENT
DTSTAMP:20260425T144400Z
UID:8b077fa3-df07-4d7a-9654-2001721c5e19
DTSTART:20260509T073000
DTEND:20260509T200000
DESCRIPTION:
LOCATION:
SUMMARY:Skills USA to Kings Dominion
END:VEVENT
BEGIN:VEVENT
DTSTAMP:20260425T144400Z
UID:e731c473-242f-4849-9c44-cf82c479a410
DTSTART:20260513T153000
DTEND:20260513T170000
DESCRIPTION:
LOCATION:
SUMMARY:FFA Fishing Tournament Whetstone Farm
END:VEVENT
BEGIN:VEVENT
DTSTAMP:20260425T144400Z
UID:98e14d4d-b8c3-4566-8909-bb8cc8b58f8d
DTSTART;VALUE=DATE:20260520
DTEND;VALUE=DATE:20260521
DESCRIPTION:
LOCATION:
SUMMARY:Early Dismissal 12:30 - Teacher PD
END:VEVENT
BEGIN:VEVENT
DTSTAMP:20260425T144400Z
UID:f7de9096-691d-4f00-9b2d-b2584eb412a5
DTSTART;VALUE=DATE:20260521
DTEND;VALUE=DATE:20260522
DESCRIPTION:
LOCATION:
SUMMARY:Early Dismissal 12:30 Last Day for Students - Teacher Workday
END:VEVENT
BEGIN:VEVENT
DTSTAMP:20260425T144400Z
UID:37b7afb1-93e4-4bf5-ad7e-5dcfa6ce7d50
DTSTART;VALUE=DATE:20260525
DTEND;VALUE=DATE:20260526
DESCRIPTION:
LOCATION:
SUMMARY:Memorial Day Holiday - No School
END:VEVENT
BEGIN:VEVENT
DTSTAMP:20260425T144400Z
UID:5b5255d4-5cc9-45ea-8d96-81421a7c6299
DTSTART:20260606T080000
DTEND:20260612T150000
DESCRIPTION:
LOCATION:
SUMMARY:FFA TO STATE CONVENTION AT VIRGINIA TECH
END:VEVENT
BEGIN:VEVENT
DTSTAMP:20260425T144400Z
UID:74854b4f-d9b6-401c-983e-d34c71c3f000
DTSTART;VALUE=DATE:20260628
DTEND;VALUE=DATE:20260629
DESCRIPTION:
LOCATION:
SUMMARY:Amber Britt Birthday!!!!!
END:VEVENT
BEGIN:VEVENT
DTSTAMP:20260425T144400Z
UID:32b03a53-a4ea-4b4d-ab01-6be4d450af12
DTSTART;VALUE=DATE:20260628
DTEND;VALUE=DATE:20260629
DESCRIPTION:
LOCATION:
SUMMARY:Amber Britt Birthday!!!!!
END:VEVENT
BEGIN:VEVENT
DTSTAMP:20260425T144400Z
UID:a4159051-14d5-46a8-9c70-82429e9d4f10
DTSTART;VALUE=DATE:20260706
DTEND;VALUE=DATE:20260707
DESCRIPTION:
LOCATION:
SUMMARY:Independence Day - School Closed
END:VEVENT
BEGIN:VEVENT
DTSTAMP:20260425T144400Z
UID:8a437f8d-f5d9-4e10-b842-60febf0ab7c0
DTSTART;VALUE=DATE:20260722
DTEND;VALUE=DATE:20260723
DESCRIPTION:
LOCATION:
SUMMARY:New Teacher Academy
END:VEVENT
BEGIN:VEVENT
DTSTAMP:20260425T144400Z
UID:44971033-11fe-4280-a184-2440f92d41cf
DTSTART;VALUE=DATE:20260723
DTEND;VALUE=DATE:20260724
DESCRIPTION:
LOCATION:
SUMMARY:New Teacher Academy
END:VEVENT
BEGIN:VEVENT
DTSTAMP:20260425T144400Z
UID:bdc6d0ad-9588-4a9a-87d5-54c04d28c875
DTSTART;VALUE=DATE:20260727
DTEND;VALUE=DATE:20260728
DESCRIPTION:
LOCATION:
SUMMARY:New Teacher Academy
END:VEVENT
BEGIN:VEVENT
DTSTAMP:20260425T144400Z
UID:2cf2e99b-8a6d-48f4-9e66-1f93c5959201
DTSTART;VALUE=DATE:20260728
DTEND;VALUE=DATE:20260729
DESCRIPTION:
LOCATION:
SUMMARY:New Teacher Academy
END:VEVENT
BEGIN:VEVENT
DTSTAMP:20260425T144400Z
UID:e700548f-cce6-4af6-a82d-82a511e3696a
DTSTART;VALUE=DATE:20260729
DTEND;VALUE=DATE:20260730
DESCRIPTION:
LOCATION:
SUMMARY:Teacher Workday/PD Day
END:VEVENT
BEGIN:VEVENT
DTSTAMP:20260425T144400Z
UID:9be16bd4-ac5c-420c-886b-24a387902e0a
DTSTART;VALUE=DATE:20260730
DTEND;VALUE=DATE:20260731
DESCRIPTION:
LOCATION:
SUMMARY:Teacher Workday/PD Day
END:VEVENT
BEGIN:VEVENT
DTSTAMP:20260425T144400Z
UID:72abc8f1-11c1-475f-b03b-bde19f263483
DTSTART;VALUE=DATE:20260731
DTEND;VALUE=DATE:20260801
DESCRIPTION:
LOCATION:
SUMMARY:Cancel Starz
END:VEVENT
BEGIN:VEVENT
DTSTAMP:20260425T144400Z
UID:0e6ddf46-6265-4e0e-bf45-e28636eea20f
DTSTART;VALUE=DATE:20260731
DTEND;VALUE=DATE:20260801
DESCRIPTION:
LOCATION:
SUMMARY:Teacher Workday/PD Day
END:VEVENT
BEGIN:VEVENT
DTSTAMP:20260425T144400Z
UID:231840cc-e5f6-4e9e-a360-d24b24ea6bfa
DTSTART;VALUE=DATE:20260803
DTEND;VALUE=DATE:20260804
DESCRIPTION:
LOCATION:
SUMMARY:Teacher Workday/PD Day
END:VEVENT
BEGIN:VEVENT
DTSTAMP:20260425T144400Z
UID:aaaa4c71-5b04-4652-9761-98405b5d6259
DTSTART;VALUE=DATE:20260804
DTEND;VALUE=DATE:20260805
DESCRIPTION:
LOCATION:
SUMMARY:Teacher Workday/PD Day
END:VEVENT
BEGIN:VEVENT
DTSTAMP:20260425T144400Z
UID:99036291-e3dd-4c13-9a85-a056e570a42f
DTSTART;VALUE=DATE:20260805
DTEND;VALUE=DATE:20260806
DESCRIPTION:
LOCATION:
SUMMARY:Students' First Day of School
END:VEVENT
BEGIN:VEVENT
DTSTAMP:20260425T144400Z
UID:2ae86e21-dac9-41c0-82cc-5a5fdc169431
DTSTART;VALUE=DATE:20260907
DTEND;VALUE=DATE:20260908
DESCRIPTION:
LOCATION:
SUMMARY:Labor Day - School Closed
END:VEVENT
BEGIN:VEVENT
DTSTAMP:20260425T144400Z
UID:443bb16d-6a7c-489f-b072-ec0da1fc350c
DTSTART;VALUE=DATE:20260923
DTEND;VALUE=DATE:20260924
DESCRIPTION:
LOCATION:
SUMMARY:Early Dismissal for Students - Afternoon WD/PD for Teachers
END:VEVENT
BEGIN:VEVENT
DTSTAMP:20260425T144400Z
UID:f3d8f78e-5c5e-47d1-8eed-ddd7e1e01366
DTSTART;VALUE=DATE:20261007
DTEND;VALUE=DATE:20261008
DESCRIPTION:
LOCATION:
SUMMARY:Early Dismissal for Students - Afternoon WD/PD for Teachers
END:VEVENT
BEGIN:VEVENT
DTSTAMP:20260425T144400Z
UID:429abcc2-6aec-4cbf-bb06-6c6af55f64d7
DTSTART;VALUE=DATE:20261012
DTEND;VALUE=DATE:20261013
DESCRIPTION:
LOCATION:
SUMMARY:No School for Students - Teacher Workday
END:VEVENT
BEGIN:VEVENT
DTSTAMP:20260425T144400Z
UID:a4adda96-feb5-4f92-94ae-3037218fbd3e
DTSTART;VALUE=DATE:20261103
DTEND;VALUE=DATE:20261104
DESCRIPTION:
LOCATION:
SUMMARY:Election Day - Early Dismissal Students & Staff
END:VEVENT
BEGIN:VEVENT
DTSTAMP:20260425T144400Z
UID:78361ba2-7351-40fd-916b-735d7e220481
DTSTART;VALUE=DATE:20261111
DTEND;VALUE=DATE:20261112
DESCRIPTION:
LOCATION:
SUMMARY:Veteran's Day - School Closed
END:VEVENT
BEGIN:VEVENT
DTSTAMP:20260425T144400Z
UID:b69626fe-8a3c-4517-93e7-5e8bb5890e81
DTSTART;VALUE=DATE:20261125
DTEND;VALUE=DATE:20261128
DESCRIPTION:
LOCATION:
SUMMARY:Thanksgiving Break - School Closed
END:VEVENT
BEGIN:VEVENT
DTSTAMP:20260425T144400Z
UID:bf82f52d-4aad-4d2f-bdaa-aba968b9cc89
DTSTART;VALUE=DATE:20261215
DTEND;VALUE=DATE:20261216
DESCRIPTION:
LOCATION:
SUMMARY:Early Dismissal for Students - Afternoon PD for Teachers
END:VEVENT
BEGIN:VEVENT
DTSTAMP:20260425T144400Z
UID:92f4402f-298c-4894-80a6-68d894c91918
DTSTART;VALUE=DATE:20261216
DTEND;VALUE=DATE:20261217
DESCRIPTION:
LOCATION:
SUMMARY:Early Dismissal for Students - Afternoon Workday for Teachers
END:VEVENT
BEGIN:VEVENT
DTSTAMP:20260425T144400Z
UID:3d6ea2c7-81e9-41ca-a1d9-df181197b0d4
DTSTART;VALUE=DATE:20261217
DTEND;VALUE=DATE:20270102
DESCRIPTION:
LOCATION:
SUMMARY:Winter Break - School Closed
END:VEVENT
BEGIN:VEVENT
DTSTAMP:20260425T144400Z
UID:a4727d5c-35e2-44a4-bd60-57005f9ce800
DTSTART;VALUE=DATE:20270104
DTEND;VALUE=DATE:20270105
DESCRIPTION:
LOCATION:
SUMMARY:Teacher Workday - No School for Students
END:VEVENT
BEGIN:VEVENT
DTSTAMP:20260425T144400Z
UID:ed7cfbcd-af6d-441a-8e59-5bfde8610def
DTSTART;VALUE=DATE:20270118
DTEND;VALUE=DATE:20270119
DESCRIPTION:
LOCATION:
SUMMARY:Martin Luther King Jr Holiday - No School
END:VEVENT
BEGIN:VEVENT
DTSTAMP:20260425T144400Z
UID:5ae19fbd-edff-499c-9656-86ee09d6278c
DTSTART;VALUE=DATE:20270215
DTEND;VALUE=DATE:20270216
DESCRIPTION:
LOCATION:
SUMMARY:Presidents Day - School Closed
END:VEVENT
BEGIN:VEVENT
DTSTAMP:20260425T144400Z
UID:c9869965-6a7d-4f7b-b048-9c8642bdd78e
DTSTART;VALUE=DATE:20270224
DTEND;VALUE=DATE:20270225
DESCRIPTION:
LOCATION:
SUMMARY:Early Dismissal for Students - Afternoon WD/PD for Teachers
END:VEVENT
BEGIN:VEVENT
DTSTAMP:20260425T144400Z
UID:011d8a15-9064-455b-9326-cc869d24deae
DTSTART;VALUE=DATE:20270310
DTEND;VALUE=DATE:20270311
DESCRIPTION:
LOCATION:
SUMMARY:Early Dismissal for Students - Afternoon WD/PD for Teachers
END:VEVENT
BEGIN:VEVENT
DTSTAMP:20260425T144400Z
UID:4b0cbd90-a022-4f6b-bb0c-9905e68cdb2a
DTSTART;VALUE=DATE:20270326
DTEND;VALUE=DATE:20270403
DESCRIPTION:
LOCATION:
SUMMARY:Spring Break - School Closed
END:VEVENT
BEGIN:VEVENT
DTSTAMP:20260425T144400Z
UID:98487d30-d95e-4dea-8ae6-b8342baa2f58
DTSTART;VALUE=DATE:20270519
DTEND;VALUE=DATE:20270520
DESCRIPTION:
LOCATION:
SUMMARY:Early Dismissal for Students - Afternoon PD for Teachers
END:VEVENT
BEGIN:VEVENT
DTSTAMP:20260425T144400Z
UID:ab9b55fd-446b-4745-b25a-7584991d17bb
DTSTART;VALUE=DATE:20270520
DTEND;VALUE=DATE:20270521
DESCRIPTION:
LOCATION:
SUMMARY:Early Dismissal for Students - Afternoon WD for Teachers
END:VEVENT
BEGIN:VEVENT
DTSTAMP:20260425T144400Z
UID:7d68cb2e-04e7-4646-a46e-b79aec87b773
DTSTART;VALUE=DATE:20270531
DTEND;VALUE=DATE:20270601
DESCRIPTION:
LOCATION:
SUMMARY:Memorial Day - School Closed
END:VEVENT
BEGIN:VEVENT
DTSTAMP:20260425T144400Z
UID:4bda77ce-e9a2-4d39-8c3a-136a0264100c
DTSTART;VALUE=DATE:20270617
DTEND;VALUE=DATE:20270618
DESCRIPTION:
LOCATION:
SUMMARY:School Closed - Observance of Juneteenth
END:VEVENT
BEGIN:VEVENT
DTSTAMP:20260425T144400Z
UID:109298a9-280b-4848-8cec-a4c29f1e48c7
DTSTART;VALUE=DATE:20270628
DTEND;VALUE=DATE:20270629
DESCRIPTION:
LOCATION:
SUMMARY:Amber Britt Birthday!!!!!
END:VEVENT
BEGIN:VEVENT
DTSTAMP:20260425T144400Z
UID:e31ea43a-ab26-452e-b59e-d9c3f82ca23e
DTSTART;VALUE=DATE:20280628
DTEND;VALUE=DATE:20280629
DESCRIPTION:
LOCATION:
SUMMARY:Amber Britt Birthday!!!!!
END:VEVENT
BEGIN:VEVENT
DTSTAMP:20260425T144400Z
UID:59c19094-1f6a-4572-8106-64ae0f914cd6
DTSTART;VALUE=DATE:20290628
DTEND;VALUE=DATE:20290629
DESCRIPTION:
LOCATION:
SUMMARY:Amber Britt Birthday!!!!!
END:VEVENT
BEGIN:VEVENT
DTSTAMP:20260425T144400Z
UID:8ce5651f-f4a3-4fd5-bb38-6e412495d307
DTSTART;VALUE=DATE:20300628
DTEND;VALUE=DATE:20300629
DESCRIPTION:
LOCATION:
SUMMARY:Amber Britt Birthday!!!!!
END:VEVENT
BEGIN:VEVENT
DTSTAMP:20260425T144400Z
UID:6f484138-4261-4c27-a1ba-f93c35b1b8f3
DTSTART;VALUE=DATE:20310628
DTEND;VALUE=DATE:20310629
DESCRIPTION:
LOCATION:
SUMMARY:Amber Britt Birthday!!!!!
END:VEVENT
BEGIN:VEVENT
DTSTAMP:20260425T144400Z
UID:d2d90d96-00ec-4fc1-9c5d-eddc224ed72d
DTSTART;VALUE=DATE:20320628
DTEND;VALUE=DATE:20320629
DESCRIPTION:
LOCATION:
SUMMARY:Amber Britt Birthday!!!!!
END:VEVENT
BEGIN:VEVENT
DTSTAMP:20260425T144400Z
UID:932fa7e6-6e18-4b78-b4b7-85e6eb39a85d
DTSTART;VALUE=DATE:20330628
DTEND;VALUE=DATE:20330629
DESCRIPTION:
LOCATION:
SUMMARY:Amber Britt Birthday!!!!!
END:VEVENT
BEGIN:VEVENT
DTSTAMP:20260425T144400Z
UID:5e8d039f-3a84-4d7e-a54c-6949152ad660
DTSTART;VALUE=DATE:20340628
DTEND;VALUE=DATE:20340629
DESCRIPTION:
LOCATION:
SUMMARY:Amber Britt Birthday!!!!!
END:VEVENT
BEGIN:VEVENT
DTSTAMP:20260425T144400Z
UID:342d14c0-074e-4280-881f-10adb3021ebc
DTSTART;VALUE=DATE:20350628
DTEND;VALUE=DATE:20350629
DESCRIPTION:
LOCATION:
SUMMARY:Amber Britt Birthday!!!!!
END:VEVENT
BEGIN:VEVENT
DTSTAMP:20260425T144400Z
UID:8d719749-db8d-4324-a693-ba7d6d4afe07
DTSTART;VALUE=DATE:20360628
DTEND;VALUE=DATE:20360629
DESCRIPTION:
LOCATION:
SUMMARY:Amber Britt Birthday!!!!!
END:VEVENT
BEGIN:VEVENT
DTSTAMP:20260425T144400Z
UID:0d47f143-445f-459f-8b43-d0ab0904f6d9
DTSTART;VALUE=DATE:20370628
DTEND;VALUE=DATE:20370629
DESCRIPTION:
LOCATION:
SUMMARY:Amber Britt Birthday!!!!!
END:VEVENT
BEGIN:VEVENT
DTSTAMP:20260425T144400Z
UID:c3b10767-b9e8-436c-80b3-575fcf96df02
DTSTART;VALUE=DATE:20380628
DTEND;VALUE=DATE:20380629
DESCRIPTION:
LOCATION:
SUMMARY:Amber Britt Birthday!!!!!
END:VEVENT
BEGIN:VEVENT
DTSTAMP:20260425T144400Z
UID:390729ea-6a51-45e6-9022-6c891b0497f4
DTSTART;VALUE=DATE:20390628
DTEND;VALUE=DATE:20390629
DESCRIPTION:
LOCATION:
SUMMARY:Amber Britt Birthday!!!!!
END:VEVENT
BEGIN:VEVENT
DTSTAMP:20260425T144400Z
UID:f3e05778-3fcd-4b47-85cf-5e04c164b702
DTSTART;VALUE=DATE:20400628
DTEND;VALUE=DATE:20400629
DESCRIPTION:
LOCATION:
SUMMARY:Amber Britt Birthday!!!!!
END:VEVENT
BEGIN:VEVENT
DTSTAMP:20260425T144400Z
UID:1285a511-1649-466b-996c-f93230be0cae
DTSTART;VALUE=DATE:20410628
DTEND;VALUE=DATE:20410629
DESCRIPTION:
LOCATION:
SUMMARY:Amber Britt Birthday!!!!!
END:VEVENT
BEGIN:VEVENT
DTSTAMP:20260425T144400Z
UID:d3e1a19c-17f4-48cc-b528-f791ece4e0a6
DTSTART;VALUE=DATE:20420628
DTEND;VALUE=DATE:20420629
DESCRIPTION:
LOCATION:
SUMMARY:Amber Britt Birthday!!!!!
END:VEVENT
BEGIN:VEVENT
DTSTAMP:20260425T144400Z
UID:6f2a889d-2486-40df-b2ac-651fade5b49c
DTSTART;VALUE=DATE:20430628
DTEND;VALUE=DATE:20430629
DESCRIPTION:
LOCATION:
SUMMARY:Amber Britt Birthday!!!!!
END:VEVENT
BEGIN:VEVENT
DTSTAMP:20260425T144400Z
UID:c533571c-a0c9-4a45-8758-2e931e2f5950
DTSTART;VALUE=DATE:20440628
DTEND;VALUE=DATE:20440629
DESCRIPTION:
LOCATION:
SUMMARY:Amber Britt Birthday!!!!!
END:VEVENT
BEGIN:VEVENT
DTSTAMP:20260425T144400Z
UID:070d2fb3-bad6-4d28-b2e2-afa5ccded901
DTSTART;VALUE=DATE:20450628
DTEND;VALUE=DATE:20450629
DESCRIPTION:
LOCATION:
SUMMARY:Amber Britt Birthday!!!!!
END:VEVENT
BEGIN:VEVENT
DTSTAMP:20260425T144400Z
UID:63816d99-36f9-49b4-b038-c8084ea8969e
DTSTART;VALUE=DATE:20460628
DTEND;VALUE=DATE:20460629
DESCRIPTION:
LOCATION:
SUMMARY:Amber Britt Birthday!!!!!
END:VEVENT
BEGIN:VEVENT
DTSTAMP:20260425T144400Z
UID:01cf2b8d-3c3c-4b02-9393-b193be26b65e
DTSTART;VALUE=DATE:20470628
DTEND;VALUE=DATE:20470629
DESCRIPTION:
LOCATION:
SUMMARY:Amber Britt Birthday!!!!!
END:VEVENT
BEGIN:VEVENT
DTSTAMP:20260425T144400Z
UID:d5ed5304-29ff-42c2-b458-b32d0c69cb3f
DTSTART;VALUE=DATE:20480628
DTEND;VALUE=DATE:20480629
DESCRIPTION:
LOCATION:
SUMMARY:Amber Britt Birthday!!!!!
END:VEVENT
BEGIN:VEVENT
DTSTAMP:20260425T144400Z
UID:8d82979d-6e60-4b33-bee6-63ec2dea5b2b
DTSTART;VALUE=DATE:20490628
DTEND;VALUE=DATE:20490629
DESCRIPTION:
LOCATION:
SUMMARY:Amber Britt Birthday!!!!!
END:VEVENT
BEGIN:VEVENT
DTSTAMP:20260425T144400Z
UID:fbb59849-bc9e-495e-be37-1fe20809bfe7
DTSTART;VALUE=DATE:20500628
DTEND;VALUE=DATE:20500629
DESCRIPTION:
LOCATION:
SUMMARY:Amber Britt Birthday!!!!!
END:VEVENT
BEGIN:VEVENT
DTSTAMP:20260425T144400Z
UID:b144d096-80f4-467f-b246-c2bb3d69502c
DTSTART;VALUE=DATE:20510628
DTEND;VALUE=DATE:20510629
DESCRIPTION:
LOCATION:
SUMMARY:Amber Britt Birthday!!!!!
END:VEVENT
BEGIN:VEVENT
DTSTAMP:20260425T144400Z
UID:e5d1528f-56e1-4242-accc-ade53f1604e4
DTSTART;VALUE=DATE:20520628
DTEND;VALUE=DATE:20520629
DESCRIPTION:
LOCATION:
SUMMARY:Amber Britt Birthday!!!!!
END:VEVENT
BEGIN:VEVENT
DTSTAMP:20260425T144400Z
UID:5f92f7c9-5a60-442c-909b-343e5414a498
DTSTART;VALUE=DATE:20530628
DTEND;VALUE=DATE:20530629
DESCRIPTION:
LOCATION:
SUMMARY:Amber Britt Birthday!!!!!
END:VEVENT
BEGIN:VEVENT
DTSTAMP:20260425T144400Z
UID:775ff2fe-2c4f-4f31-b78c-c7eaa8e6e689
DTSTART;VALUE=DATE:20540628
DTEND;VALUE=DATE:20540629
DESCRIPTION:
LOCATION:
SUMMARY:Amber Britt Birthday!!!!!
END:VEVENT
BEGIN:VEVENT
DTSTAMP:20260425T144400Z
UID:ee11a2f4-6023-41d7-9962-4de89f52387d
DTSTART;VALUE=DATE:20550628
DTEND;VALUE=DATE:20550629
DESCRIPTION:
LOCATION:
SUMMARY:Amber Britt Birthday!!!!!
END:VEVENT
BEGIN:VEVENT
DTSTAMP:20260425T144400Z
UID:65c44b53-0a46-421b-82bb-c7e9534e9759
DTSTART;VALUE=DATE:20560628
DTEND;VALUE=DATE:20560629
DESCRIPTION:
LOCATION:
SUMMARY:Amber Britt Birthday!!!!!
END:VEVENT
BEGIN:VEVENT
DTSTAMP:20260425T144400Z
UID:4eb600e3-a55f-4bf8-ab80-2cbdce8f72eb
DTSTART;VALUE=DATE:20570628
DTEND;VALUE=DATE:20570629
DESCRIPTION:
LOCATION:
SUMMARY:Amber Britt Birthday!!!!!
END:VEVENT
BEGIN:VEVENT
DTSTAMP:20260425T144400Z
UID:4b1f1b07-9055-4f61-8156-7c65e86c5380
DTSTART;VALUE=DATE:20580628
DTEND;VALUE=DATE:20580629
DESCRIPTION:
LOCATION:
SUMMARY:Amber Britt Birthday!!!!!
END:VEVENT
BEGIN:VEVENT
DTSTAMP:20260425T144400Z
UID:e618f0df-f299-4fdf-a718-b51ad2939f9c
DTSTART;VALUE=DATE:20590628
DTEND;VALUE=DATE:20590629
DESCRIPTION:
LOCATION:
SUMMARY:Amber Britt Birthday!!!!!
END:VEVENT
BEGIN:VEVENT
DTSTAMP:20260425T144400Z
UID:50ce586b-346b-4471-b85a-d8731bed7030
DTSTART;VALUE=DATE:20600628
DTEND;VALUE=DATE:20600629
DESCRIPTION:
LOCATION:
SUMMARY:Amber Britt Birthday!!!!!
END:VEVENT
BEGIN:VEVENT
DTSTAMP:20260425T144400Z
UID:33adb9de-8578-4253-9c09-4d1fff5c4a8d
DTSTART;VALUE=DATE:20610628
DTEND;VALUE=DATE:20610629
DESCRIPTION:
LOCATION:
SUMMARY:Amber Britt Birthday!!!!!
END:VEVENT
BEGIN:VEVENT
DTSTAMP:20260425T144400Z
UID:6a8c1732-3e5f-471c-86ed-fc5d58deaf0b
DTSTART;VALUE=DATE:20620628
DTEND;VALUE=DATE:20620629
DESCRIPTION:
LOCATION:
SUMMARY:Amber Britt Birthday!!!!!
END:VEVENT
BEGIN:VEVENT
DTSTAMP:20260425T144400Z
UID:effdc7fa-321b-4184-91af-3cf0b5efa69c
DTSTART;VALUE=DATE:20630628
DTEND;VALUE=DATE:20630629
DESCRIPTION:
LOCATION:
SUMMARY:Amber Britt Birthday!!!!!
END:VEVENT
BEGIN:VEVENT
DTSTAMP:20260425T144400Z
UID:a36b8768-23c1-424d-bd7d-14a605d83cc7
DTSTART;VALUE=DATE:20640628
DTEND;VALUE=DATE:20640629
DESCRIPTION:
LOCATION:
SUMMARY:Amber Britt Birthday!!!!!
END:VEVENT
BEGIN:VEVENT
DTSTAMP:20260425T144400Z
UID:235002d0-c3d0-40b7-b59a-3dde8a75e40c
DTSTART;VALUE=DATE:20650628
DTEND;VALUE=DATE:20650629
DESCRIPTION:
LOCATION:
SUMMARY:Amber Britt Birthday!!!!!
END:VEVENT
BEGIN:VEVENT
DTSTAMP:20260425T144400Z
UID:94ad17d1-81eb-4a2c-8afc-9ffef38548f6
DTSTART;VALUE=DATE:20660628
DTEND;VALUE=DATE:20660629
DESCRIPTION:
LOCATION:
SUMMARY:Amber Britt Birthday!!!!!
END:VEVENT
BEGIN:VEVENT
DTSTAMP:20260425T144400Z
UID:45838a91-d628-4787-a89c-82c013196569
DTSTART;VALUE=DATE:20670628
DTEND;VALUE=DATE:20670629
DESCRIPTION:
LOCATION:
SUMMARY:Amber Britt Birthday!!!!!
END:VEVENT
BEGIN:VEVENT
DTSTAMP:20260425T144400Z
UID:e64d9d6a-a168-4e26-8fa3-9e05dd894e1b
DTSTART;VALUE=DATE:20680628
DTEND;VALUE=DATE:20680629
DESCRIPTION:
LOCATION:
SUMMARY:Amber Britt Birthday!!!!!
END:VEVENT
BEGIN:VEVENT
DTSTAMP:20260425T144400Z
UID:aaa4893b-91e7-4264-82af-7084d1899c03
DTSTART;VALUE=DATE:20690628
DTEND;VALUE=DATE:20690629
DESCRIPTION:
LOCATION:
SUMMARY:Amber Britt Birthday!!!!!
END:VEVENT
BEGIN:VEVENT
DTSTAMP:20260425T144400Z
UID:d2fd501c-75a4-4189-afb2-e3c5346cb32b
DTSTART;VALUE=DATE:20700628
DTEND;VALUE=DATE:20700629
DESCRIPTION:
LOCATION:
SUMMARY:Amber Britt Birthday!!!!!
END:VEVENT
BEGIN:VEVENT
DTSTAMP:20260425T144400Z
UID:9b6663db-6e61-41b2-9b43-612983d82bd1
DTSTART;VALUE=DATE:20710628
DTEND;VALUE=DATE:20710629
DESCRIPTION:
LOCATION:
SUMMARY:Amber Britt Birthday!!!!!
END:VEVENT
BEGIN:VEVENT
DTSTAMP:20260425T144400Z
UID:0e94d2e6-abe3-425e-8866-e71e5301c677
DTSTART;VALUE=DATE:20720628
DTEND;VALUE=DATE:20720629
DESCRIPTION:
LOCATION:
SUMMARY:Amber Britt Birthday!!!!!
END:VEVENT
BEGIN:VEVENT
DTSTAMP:20260425T144400Z
UID:47034d2c-38c6-40a6-b363-1af3b303706f
DTSTART;VALUE=DATE:20730628
DTEND;VALUE=DATE:20730629
DESCRIPTION:
LOCATION:
SUMMARY:Amber Britt Birthday!!!!!
END:VEVENT
BEGIN:VEVENT
DTSTAMP:20260425T144400Z
UID:f8752f0b-57e5-46ca-89d8-dfe44b3c5d8c
DTSTART;VALUE=DATE:20740628
DTEND;VALUE=DATE:20740629
DESCRIPTION:
LOCATION:
SUMMARY:Amber Britt Birthday!!!!!
END:VEVENT
BEGIN:VEVENT
DTSTAMP:20260425T144400Z
UID:c471ab6b-3c34-424c-aa5b-50a2874261e4
DTSTART;VALUE=DATE:20750628
DTEND;VALUE=DATE:20750629
DESCRIPTION:
LOCATION:
SUMMARY:Amber Britt Birthday!!!!!
END:VEVENT
BEGIN:VEVENT
DTSTAMP:20260425T144400Z
UID:26984c57-7448-44ef-8523-5f18b5fd8c9f
DTSTART;VALUE=DATE:20760628
DTEND;VALUE=DATE:20760629
DESCRIPTION:
LOCATION:
SUMMARY:Amber Britt Birthday!!!!!
END:VEVENT
BEGIN:VEVENT
DTSTAMP:20260425T144400Z
UID:39b6b284-d9bb-4b0f-ba2b-6d06c2e888d1
DTSTART;VALUE=DATE:20770628
DTEND;VALUE=DATE:20770629
DESCRIPTION:
LOCATION:
SUMMARY:Amber Britt Birthday!!!!!
END:VEVENT
BEGIN:VEVENT
DTSTAMP:20260425T144400Z
UID:dbccba3e-379f-438f-a571-fc54c4534ba1
DTSTART;VALUE=DATE:20780628
DTEND;VALUE=DATE:20780629
DESCRIPTION:
LOCATION:
SUMMARY:Amber Britt Birthday!!!!!
END:VEVENT
BEGIN:VEVENT
DTSTAMP:20260425T144400Z
UID:5fd14b13-dc10-435b-8a1c-b5dafd04b134
DTSTART;VALUE=DATE:20790628
DTEND;VALUE=DATE:20790629
DESCRIPTION:
LOCATION:
SUMMARY:Amber Britt Birthday!!!!!
END:VEVENT
BEGIN:VEVENT
DTSTAMP:20260425T144400Z
UID:255459c9-3e93-4247-b7be-c22dc2dfbe80
DTSTART;VALUE=DATE:20800628
DTEND;VALUE=DATE:20800629
DESCRIPTION:
LOCATION:
SUMMARY:Amber Britt Birthday!!!!!
END:VEVENT
BEGIN:VEVENT
DTSTAMP:20260425T144400Z
UID:25b58a03-54c6-48d5-ae88-3f52fc91e474
DTSTART;VALUE=DATE:20810628
DTEND;VALUE=DATE:20810629
DESCRIPTION:
LOCATION:
SUMMARY:Amber Britt Birthday!!!!!
END:VEVENT
BEGIN:VEVENT
DTSTAMP:20260425T144400Z
UID:e0956c8f-d5fb-42cc-a5fc-8fa9126484c7
DTSTART;VALUE=DATE:20820628
DTEND;VALUE=DATE:20820629
DESCRIPTION:
LOCATION:
SUMMARY:Amber Britt Birthday!!!!!
END:VEVENT
BEGIN:VEVENT
DTSTAMP:20260425T144400Z
UID:758394ea-37bd-481f-ae62-658250cb40d8
DTSTART;VALUE=DATE:20830628
DTEND;VALUE=DATE:20830629
DESCRIPTION:
LOCATION:
SUMMARY:Amber Britt Birthday!!!!!
END:VEVENT
BEGIN:VEVENT
DTSTAMP:20260425T144400Z
UID:1e9997b4-8cad-4b19-8e5f-33aeaf5faf5f
DTSTART;VALUE=DATE:20840628
DTEND;VALUE=DATE:20840629
DESCRIPTION:
LOCATION:
SUMMARY:Amber Britt Birthday!!!!!
END:VEVENT
BEGIN:VEVENT
DTSTAMP:20260425T144400Z
UID:208f72cc-80e8-45db-b90a-5fd782869a2b
DTSTART;VALUE=DATE:20850628
DTEND;VALUE=DATE:20850629
DESCRIPTION:
LOCATION:
SUMMARY:Amber Britt Birthday!!!!!
END:VEVENT
BEGIN:VEVENT
DTSTAMP:20260425T144400Z
UID:3a4637f4-6088-480b-a808-3ccd3aa93348
DTSTART;VALUE=DATE:20860628
DTEND;VALUE=DATE:20860629
DESCRIPTION:
LOCATION:
SUMMARY:Amber Britt Birthday!!!!!
END:VEVENT
BEGIN:VEVENT
DTSTAMP:20260425T144400Z
UID:46926b77-ea2e-49e9-b609-375dfbfa4591
DTSTART;VALUE=DATE:20870628
DTEND;VALUE=DATE:20870629
DESCRIPTION:
LOCATION:
SUMMARY:Amber Britt Birthday!!!!!
END:VEVENT
BEGIN:VEVENT
DTSTAMP:20260425T144400Z
UID:9e83beda-258f-4471-a1c4-c768b21e6a91
DTSTART;VALUE=DATE:20880628
DTEND;VALUE=DATE:20880629
DESCRIPTION:
LOCATION:
SUMMARY:Amber Britt Birthday!!!!!
END:VEVENT
BEGIN:VEVENT
DTSTAMP:20260425T144400Z
UID:ecfb7c59-e50e-48dc-94c1-485ae031a802
DTSTART;VALUE=DATE:20890628
DTEND;VALUE=DATE:20890629
DESCRIPTION:
LOCATION:
SUMMARY:Amber Britt Birthday!!!!!
END:VEVENT
BEGIN:VEVENT
DTSTAMP:20260425T144400Z
UID:9802cb6a-4813-4c8d-8f88-f6f4fe82eaa5
DTSTART;VALUE=DATE:20900628
DTEND;VALUE=DATE:20900629
DESCRIPTION:
LOCATION:
SUMMARY:Amber Britt Birthday!!!!!
END:VEVENT
BEGIN:VEVENT
DTSTAMP:20260425T144400Z
UID:ead33f71-3c41-49bd-9e38-f8708096074c
DTSTART;VALUE=DATE:20910628
DTEND;VALUE=DATE:20910629
DESCRIPTION:
LOCATION:
SUMMARY:Amber Britt Birthday!!!!!
END:VEVENT
BEGIN:VEVENT
DTSTAMP:20260425T144400Z
UID:a6f14295-2651-4898-8ee8-d7296a068f5c
DTSTART;VALUE=DATE:20920628
DTEND;VALUE=DATE:20920629
DESCRIPTION:
LOCATION:
SUMMARY:Amber Britt Birthday!!!!!
END:VEVENT
BEGIN:VEVENT
DTSTAMP:20260425T144400Z
UID:94147425-b4a0-49fb-8efb-725f155bada5
DTSTART;VALUE=DATE:20930628
DTEND;VALUE=DATE:20930629
DESCRIPTION:
LOCATION:
SUMMARY:Amber Britt Birthday!!!!!
END:VEVENT
BEGIN:VEVENT
DTSTAMP:20260425T144400Z
UID:bcbb3053-0e90-43a0-9ecd-f586e3dbec7d
DTSTART;VALUE=DATE:20940628
DTEND;VALUE=DATE:20940629
DESCRIPTION:
LOCATION:
SUMMARY:Amber Britt Birthday!!!!!
END:VEVENT
BEGIN:VEVENT
DTSTAMP:20260425T144400Z
UID:766e452d-505d-4c36-83b4-4c270cbcc26d
DTSTART;VALUE=DATE:20950628
DTEND;VALUE=DATE:20950629
DESCRIPTION:
LOCATION:
SUMMARY:Amber Britt Birthday!!!!!
END:VEVENT
BEGIN:VEVENT
DTSTAMP:20260425T144400Z
UID:a320e5b5-2df5-49fe-97e9-483110e1e425
DTSTART;VALUE=DATE:20960628
DTEND;VALUE=DATE:20960629
DESCRIPTION:
LOCATION:
SUMMARY:Amber Britt Birthday!!!!!
END:VEVENT
BEGIN:VEVENT
DTSTAMP:20260425T144400Z
UID:b053f247-8870-475c-a961-6eb2339196c4
DTSTART;VALUE=DATE:20970628
DTEND;VALUE=DATE:20970629
DESCRIPTION:
LOCATION:
SUMMARY:Amber Britt Birthday!!!!!
END:VEVENT
BEGIN:VEVENT
DTSTAMP:20260425T144400Z
UID:28aefbf7-2921-4073-9095-6e674cc0e07b
DTSTART;VALUE=DATE:20980628
DTEND;VALUE=DATE:20980629
DESCRIPTION:
LOCATION:
SUMMARY:Amber Britt Birthday!!!!!
END:VEVENT
BEGIN:VEVENT
DTSTAMP:20260425T144400Z
UID:73ce31b2-807a-4fa5-9ed5-9744d2da32ca
DTSTART;VALUE=DATE:20990628
DTEND;VALUE=DATE:20990629
DESCRIPTION:
LOCATION:
SUMMARY:Amber Britt Birthday!!!!!
END:VEVENT
END:VCALENDAR
