BEGIN:VCALENDAR
VERSION:2.0
PRODID:icalendar-ruby
CALSCALE:GREGORIAN
BEGIN:VTIMEZONE
TZID:America/New_York
BEGIN:DAYLIGHT
DTSTART:20260308T030000
TZOFFSETFROM:-0500
TZOFFSETTO:-0400
RRULE:FREQ=YEARLY;BYDAY=2SU;BYMONTH=3
TZNAME:EDT
END:DAYLIGHT
BEGIN:STANDARD
DTSTART:20261101T010000
TZOFFSETFROM:-0400
TZOFFSETTO:-0500
RRULE:FREQ=YEARLY;BYDAY=1SU;BYMONTH=11
TZNAME:EST
END:STANDARD
END:VTIMEZONE
BEGIN:VEVENT
DTSTAMP:20260425T112044Z
UID:6381e4e4-62cf-4a2c-a76a-780e0f6c2f1a
DTSTART:20260425T100000
DTEND:20260425T110000
DESCRIPTION:
LOCATION:Algonac JR/SR High School\, 5200 Taft Rd\, Algonac\, MI 48001\, US
 A
SUMMARY:V Baseball vs Algonac
END:VEVENT
BEGIN:VEVENT
DTSTAMP:20260425T112044Z
UID:e1b02e53-c75e-426f-8daa-e8e655d14e2f
DTSTART:20260425T123000
DTEND:20260425T133000
DESCRIPTION:
LOCATION:Algonac JR/SR High School\, 5200 Taft Rd\, Algonac\, MI 48001\, US
 A
SUMMARY:Capac vs Inter-City Babtist (at Algonac)
END:VEVENT
BEGIN:VEVENT
DTSTAMP:20260425T112044Z
UID:a84b8baa-dcb6-455b-9ca6-093aba2c1a6d
DTSTART;VALUE=DATE:20260426
DTEND;VALUE=DATE:20260427
DESCRIPTION:<p>For more information\, please contact Cristie Ebner</p>
LOCATION:
SUMMARY:Student Council Scavenger Hunt
END:VEVENT
BEGIN:VEVENT
DTSTAMP:20260425T112044Z
UID:56b52ed1-bd23-40d1-9854-b97c70aea33b
DTSTART;VALUE=DATE:20260427
DTEND;VALUE=DATE:20260428
DESCRIPTION:<p>For more information\, contact Kendra Rodriguez</p>
LOCATION:
SUMMARY:Elementary Book Fair Begins
END:VEVENT
BEGIN:VEVENT
DTSTAMP:20260425T112044Z
UID:dc4f3bdb-e577-41e0-96b3-ad19aec7d617
DTSTART;VALUE=DATE:20260427
DTEND;VALUE=DATE:20260429
DESCRIPTION:<p>For more information\, contact Jennifer Lewis</p>
LOCATION:
SUMMARY:PEAK Sale for Someone Special
END:VEVENT
BEGIN:VEVENT
DTSTAMP:20260425T112044Z
UID:6ef73551-85a5-4349-8944-ac5185c4f177
DTSTART;VALUE=DATE:20260427
DTEND;VALUE=DATE:20260505
DESCRIPTION:<p>For more information\, contact Janet Antilla</p>
LOCATION:
SUMMARY:Robotics World Championship Competition
END:VEVENT
BEGIN:VEVENT
DTSTAMP:20260425T112044Z
UID:513c3af3-6747-4825-b1c0-9bacc90e784a
DTSTART:20260427T160000
DTEND:20260427T170000
DESCRIPTION:
LOCATION:Ubly Heights Golf-Country Club\, 2409 E Atwater Rd\, Ubly\, MI 484
 75\, USA
SUMMARY:Golf vs Ubly
END:VEVENT
BEGIN:VEVENT
DTSTAMP:20260425T112044Z
UID:ea307504-a33f-4dcb-a46c-82e149e16984
DTSTART:20260427T160000
DTEND:20260427T170000
DESCRIPTION:
LOCATION:Brown City Jr/Sr High School\, 4400 2nd St\, Brown City\, MI 48416
 \, USA
SUMMARY:JH Track @ Brown City
END:VEVENT
BEGIN:VEVENT
DTSTAMP:20260425T112044Z
UID:7008994f-ca41-4157-acbc-a5dacab8eb88
DTSTART:20260427T160000
DTEND:20260427T170000
DESCRIPTION:
LOCATION:Reese High School\, 1696 S Van Buren Rd\, Reese\, MI 48757\, USA
SUMMARY:V Baseball @ Reese
END:VEVENT
BEGIN:VEVENT
DTSTAMP:20260425T112044Z
UID:9b247f65-cd63-4b8e-90c0-cd601c695b9a
DTSTART:20260427T160000
DTEND:20260427T170000
DESCRIPTION:
LOCATION:Reese High School\, 1696 S Van Buren Rd\, Reese\, MI 48757\, USA
SUMMARY:V Softball @ Reese
END:VEVENT
BEGIN:VEVENT
DTSTAMP:20260425T112044Z
UID:940dc9b6-d536-4487-82f2-c1f3fcf32485
DTSTART:20260428T160000
DTEND:20260428T170000
DESCRIPTION:
LOCATION:Marlette High School\, 3051 Moore St\, Marlette\, MI 48453\, USA
SUMMARY:HS Track @ Marlette
END:VEVENT
BEGIN:VEVENT
DTSTAMP:20260425T112044Z
UID:3d761153-9104-4de3-9d11-878627910f24
DTSTART:20260428T160000
DTEND:20260428T170000
DESCRIPTION:
LOCATION:Capac Jr.-Sr. High School\, 541 N Glassford St\, Capac\, MI 48014\
 , USA
SUMMARY:V Baseball vs Genesee Christian 
END:VEVENT
BEGIN:VEVENT
DTSTAMP:20260425T112044Z
UID:efb85149-ac8d-428a-8816-b1b3822666ac
DTSTART:20260428T173000
DTEND:20260428T183000
DESCRIPTION:
LOCATION:Capac Jr.-Sr. High School\, 541 N Glassford St\, Capac\, MI 48014\
 , USA
SUMMARY:Girls Soccer vs USA
END:VEVENT
BEGIN:VEVENT
DTSTAMP:20260425T112044Z
UID:e29a5086-a852-4745-b705-a2be4f29445a
DTSTART;VALUE=DATE:20260429
DTEND;VALUE=DATE:20260430
DESCRIPTION:<p>For more information\, contact Ms. Bailey</p>
LOCATION:
SUMMARY:Fifth-grade Field Trip
END:VEVENT
BEGIN:VEVENT
DTSTAMP:20260425T112044Z
UID:086ddd4e-d2e3-4dd5-9c1d-89bdaea1aa85
DTSTART:20260429T133000
DTEND:20260429T143000
DESCRIPTION:
LOCATION:Holly Meadows Golf Course\, Wedding Venue\, & Banquet Center\, 485
 5 Capac Rd\, Capac\, MI 48014\, USA
SUMMARY:Golf Home
END:VEVENT
BEGIN:VEVENT
DTSTAMP:20260425T112044Z
UID:b80ddab3-d5de-4442-9a77-6000082a22fd
DTSTART:20260429T160000
DTEND:20260429T170000
DESCRIPTION:
LOCATION:Marlette High School\, 3051 Moore St\, Marlette\, MI 48453\, USA
SUMMARY:JH Track @ Marlette
END:VEVENT
BEGIN:VEVENT
DTSTAMP:20260425T112044Z
UID:c3a2e4e2-3579-4d37-bd1a-d91a0761a83b
DTSTART;VALUE=DATE:20260430
DTEND;VALUE=DATE:20260501
DESCRIPTION:<p>For more information\, contact Ms. Phillips</p>
LOCATION:
SUMMARY:College Fair Field Trip
END:VEVENT
BEGIN:VEVENT
DTSTAMP:20260425T112044Z
UID:de4c65c1-c833-4fd3-8f69-d0b270f690dd
DTSTART;VALUE=DATE:20260430
DTEND;VALUE=DATE:20260501
DESCRIPTION:<p>For more information\, Contact Kendra Rodriguez</p>
LOCATION:
SUMMARY:Elementary Book Fair Ends
END:VEVENT
BEGIN:VEVENT
DTSTAMP:20260425T112044Z
UID:5c1c03e0-a3e4-4002-a585-9fe7d6523d10
DTSTART:20260430T160000
DTEND:20260430T170000
DESCRIPTION:
LOCATION:Capac Jr.-Sr. High School\, 541 N Glassford St\, Capac\, MI 48014\
 , USA
SUMMARY:V Baseball vs Memphis
END:VEVENT
BEGIN:VEVENT
DTSTAMP:20260425T112044Z
UID:c66c04bb-b644-44b6-b2fb-48b7ddfce545
DTSTART:20260430T160000
DTEND:20260430T170000
DESCRIPTION:
LOCATION:Capac Jr.-Sr. High School\, 541 N Glassford St\, Capac\, MI 48014\
 , USA
SUMMARY:V Softball vs Memphis
END:VEVENT
BEGIN:VEVENT
DTSTAMP:20260425T112044Z
UID:88ba8897-d292-447f-8e46-2cd509f89fb9
DTSTART:20260430T173000
DTEND:20260430T183000
DESCRIPTION:
LOCATION:Bad Axe High School\, 200 N Barrie Rd\, Bad Axe\, MI 48413\, USA
SUMMARY:Girls Soccer @ Bad Axe/Harbor Beach
END:VEVENT
BEGIN:VEVENT
DTSTAMP:20260425T112044Z
UID:f4fa6f6f-bbf5-4f2b-8b46-1f69cca7aba4
DTSTART:20260501T093000
DTEND:20260501T103000
DESCRIPTION:
LOCATION:Ubly Heights Golf-Country Club\, 2409 E Atwater Rd\, Ubly\, MI 484
 75\, USA
SUMMARY:Golf at Ubly Invite
END:VEVENT
BEGIN:VEVENT
DTSTAMP:20260425T112044Z
UID:e566b3ce-0e92-4d2c-921b-39c2d420b8f6
DTSTART:20260501T160000
DTEND:20260501T170000
DESCRIPTION:
LOCATION:Cass City Jr/Sr High School\, 4868 Seeger St\, Cass City\, MI 4872
 6\, USA
SUMMARY:HS Track @ Cass City
END:VEVENT
BEGIN:VEVENT
DTSTAMP:20260425T112044Z
UID:2ef2bdf6-cf1f-4c62-8174-bb5bad4cf16a
DTSTART:20260501T173000
DTEND:20260501T183000
DESCRIPTION:
LOCATION:Capac Jr.-Sr. High School\, 541 N Glassford St\, Capac\, MI 48014\
 , USA
SUMMARY:Girls Soccer vs Landmark
END:VEVENT
BEGIN:VEVENT
DTSTAMP:20260425T112044Z
UID:01a6d316-a6d0-452d-a8f6-2d85cdce1c40
DTSTART;VALUE=DATE:20260504
DTEND;VALUE=DATE:20260505
DESCRIPTION:<p>For more information\, contact your student's teacher</p>
LOCATION:
SUMMARY:DevK-1st grade Field Trip
END:VEVENT
BEGIN:VEVENT
DTSTAMP:20260425T112044Z
UID:22361452-97a2-460a-b8e6-14371ea5a925
DTSTART:20260504T140000
DTEND:20260504T150000
DESCRIPTION:
LOCATION:Woodland Hills Golf Club\, 320 N Gates Rd\, Sandusky\, MI 48471\, 
 USA
SUMMARY:Golf vs Marlette
END:VEVENT
BEGIN:VEVENT
DTSTAMP:20260425T112044Z
UID:39f6a205-c825-407f-8289-e334c990ea44
DTSTART:20260504T160000
DTEND:20260504T170000
DESCRIPTION:
LOCATION:Vassar Middle and High School\, 220 Athletic St\, Vassar\, MI 4876
 8\, USA
SUMMARY:JH Track @ Vassar
END:VEVENT
BEGIN:VEVENT
DTSTAMP:20260425T112044Z
UID:c9144728-2866-4519-a546-6c92c6d82ca4
DTSTART:20260504T160000
DTEND:20260504T170000
DESCRIPTION:
LOCATION:Laker Schools\, 6136 Pigeon Rd\, Pigeon\, MI 48755\, USA
SUMMARY:V Softball @ Lakers
END:VEVENT
BEGIN:VEVENT
DTSTAMP:20260425T112044Z
UID:a441e432-635c-435d-875b-51ed1b6c695e
DTSTART:20260504T180000
DTEND:20260504T190000
DESCRIPTION:
LOCATION:Capac Jr.-Sr. High School\, 541 N Glassford St\, Capac\, MI 48014\
 , USA
SUMMARY:Girls Soccer vs Millington
END:VEVENT
BEGIN:VEVENT
DTSTAMP:20260425T112044Z
UID:68775347-14b1-4c17-9c30-686450181fd3
DTSTART;VALUE=DATE:20260505
DTEND;VALUE=DATE:20260506
DESCRIPTION:<p>For more information\, see Mrs. Ebner</p>
LOCATION:
SUMMARY:Senior Sunset Field Trip
END:VEVENT
BEGIN:VEVENT
DTSTAMP:20260425T112044Z
UID:3d6edc02-858b-48b5-a798-49570af3c402
DTSTART:20260505T160000
DTEND:20260505T170000
DESCRIPTION:
LOCATION:Brown City Jr/Sr High School\, 4400 2nd St\, Brown City\, MI 48416
 \, USA
SUMMARY:HS Track @ Brown City
END:VEVENT
BEGIN:VEVENT
DTSTAMP:20260425T112044Z
UID:2045f2be-452a-4667-89b0-a7bc0c4fbb6a
DTSTART;VALUE=DATE:20260506
DTEND;VALUE=DATE:20260507
DESCRIPTION:<p>For more information\, contact Mrs. Orzel</p>
LOCATION:
SUMMARY:2nd Grade Field Trip
END:VEVENT
BEGIN:VEVENT
DTSTAMP:20260425T112044Z
UID:9c6914b2-0717-44fc-b481-e147a3b5a8c7
DTSTART:20260506T080000
DTEND:20260506T090000
DESCRIPTION:
LOCATION:Holly Meadows Golf Course\, Wedding Venue\, & Banquet Center\, 485
 5 Capac Rd\, Capac\, MI 48014\, USA
SUMMARY:Golf at Brown City Invite
END:VEVENT
BEGIN:VEVENT
DTSTAMP:20260425T112044Z
UID:ecfc1cc5-cd29-4eac-93e0-bcbb4080db0b
DTSTART;VALUE=DATE:20260507
DTEND;VALUE=DATE:20260508
DESCRIPTION:<p>For more information\, contact Katie Bushe</p>
LOCATION:
SUMMARY:US History-grades 9-10 Field Trip
END:VEVENT
BEGIN:VEVENT
DTSTAMP:20260425T112044Z
UID:b81257f9-f1fe-482e-940d-e801f8b3d549
DTSTART:20260507T160000
DTEND:20260507T170000
DESCRIPTION:
LOCATION:Belle River Golf Course\, 12564 Belle River Rd\, Memphis\, MI 4804
 1\, USA
SUMMARY:Golf vs Memphis
END:VEVENT
BEGIN:VEVENT
DTSTAMP:20260425T112044Z
UID:f63ab5fb-b840-45af-95eb-9ab1e0119731
DTSTART:20260507T160000
DTEND:20260507T170000
DESCRIPTION:
LOCATION:Capac Jr.-Sr. High School\, 541 N Glassford St\, Capac\, MI 48014\
 , USA
SUMMARY:V Baseball vs Harbor Beach
END:VEVENT
BEGIN:VEVENT
DTSTAMP:20260425T112044Z
UID:b99587cf-9991-4511-b55c-710f8ad3b9e3
DTSTART:20260507T160000
DTEND:20260507T170000
DESCRIPTION:
LOCATION:Capac Jr.-Sr. High School\, 541 N Glassford St\, Capac\, MI 48014\
 , USA
SUMMARY:V Softball vs Harbor Beach
END:VEVENT
BEGIN:VEVENT
DTSTAMP:20260425T112044Z
UID:76939588-5cfa-44c2-9e15-9e4da5fe208f
DTSTART:20260507T173000
DTEND:20260507T183000
DESCRIPTION:
LOCATION:New Life Christian Academy\, 5517 Griswold Rd\, Kimball\, MI 48074
 \, USA
SUMMARY:Girls Soccer @ New Life Christian
END:VEVENT
BEGIN:VEVENT
DTSTAMP:20260425T112044Z
UID:64a54ea9-126f-4b22-9581-b533b68598dc
DTSTART:20260509T110000
DTEND:20260509T120000
DESCRIPTION:
LOCATION:Capac Jr.-Sr. High School\, 541 N Glassford St\, Capac\, MI 48014\
 , USA
SUMMARY:V Baseball vs Richmond
END:VEVENT
BEGIN:VEVENT
DTSTAMP:20260425T112044Z
UID:fad40ff1-f0b7-4e87-b848-ae5354b8968b
DTSTART;VALUE=DATE:20260510
DTEND;VALUE=DATE:20260512
DESCRIPTION:<p>For more information\, contact April Tice</p>
LOCATION:
SUMMARY:SANP Field Trip
END:VEVENT
BEGIN:VEVENT
DTSTAMP:20260425T112044Z
UID:50493867-2e18-4d66-b230-994927509cc1
DTSTART:20260511T160000
DTEND:20260511T170000
DESCRIPTION:
LOCATION:Verona Hills Golf Club\, 3175 Sand Beach Rd #7840\, Bad Axe\, MI 4
 8413\, USA
SUMMARY:Golf vs Harbor Beach
END:VEVENT
BEGIN:VEVENT
DTSTAMP:20260425T112044Z
UID:85f152be-2540-42df-bfa0-bf02c8c8c76b
DTSTART:20260511T160000
DTEND:20260511T170000
DESCRIPTION:
LOCATION:Brown City Jr/Sr High School\, 4400 2nd St\, Brown City\, MI 48416
 \, USA
SUMMARY:JH Track @ Brown City
END:VEVENT
BEGIN:VEVENT
DTSTAMP:20260425T112044Z
UID:4d9303ac-6276-433a-a64d-489ed6602d5f
DTSTART:20260511T160000
DTEND:20260511T170000
DESCRIPTION:
LOCATION:Bad Axe High School\, 200 N Barrie Rd\, Bad Axe\, MI 48413\, USA
SUMMARY:V Baseball @ Bad Axe
END:VEVENT
BEGIN:VEVENT
DTSTAMP:20260425T112044Z
UID:e13c8204-3d68-4c5c-9405-a103598be889
DTSTART:20260511T160000
DTEND:20260511T170000
DESCRIPTION:
LOCATION:Bad Axe High School\, 200 N Barrie Rd\, Bad Axe\, MI 48413\, USA
SUMMARY:V Softball @ Bad Axe
END:VEVENT
BEGIN:VEVENT
DTSTAMP:20260425T112044Z
UID:add63ace-fe0f-48b6-9f31-44029bda8b22
DTSTART;VALUE=DATE:20260512
DTEND;VALUE=DATE:20260513
DESCRIPTION:
LOCATION:
SUMMARY:Kelly/Sekutowski Field Trip
END:VEVENT
BEGIN:VEVENT
DTSTAMP:20260425T112044Z
UID:5b0b4330-ad03-4e76-b695-c12c3a0c68b9
DTSTART:20260512T160000
DTEND:20260512T170000
DESCRIPTION:
LOCATION:Harbor Beach Community Schools\, 402 S 5th St\, Harbor Beach\, MI 
 48441\, USA
SUMMARY:HS Track @ Harbor Beach
END:VEVENT
BEGIN:VEVENT
DTSTAMP:20260425T112044Z
UID:3c441dd4-ee65-4763-8a79-50d752a94471
DTSTART:20260512T160000
DTEND:20260512T170000
DESCRIPTION:
LOCATION:Deckerville Community High School\, 2633 Black River St\, Deckervi
 lle\, MI 48427\, USA
SUMMARY:V Softball @ Deckerville
END:VEVENT
BEGIN:VEVENT
DTSTAMP:20260425T112044Z
UID:d6fb5537-afdd-4251-9e6c-1ac488cde680
DTSTART:20260512T173000
DTEND:20260512T183000
DESCRIPTION:
LOCATION:Laker Schools\, 6136 Pigeon Rd\, Pigeon\, MI 48755\, USA
SUMMARY:Girls Soccer @ Lakers
END:VEVENT
BEGIN:VEVENT
DTSTAMP:20260425T112044Z
UID:496cc44b-bf65-47ea-9e3f-83140340aa41
DTSTART;VALUE=DATE:20260513
DTEND;VALUE=DATE:20260516
DESCRIPTION:<p>For more information\, contact Mary Sokacz</p>
LOCATION:
SUMMARY:NYC Field Trip (6-9th)
END:VEVENT
BEGIN:VEVENT
DTSTAMP:20260425T112044Z
UID:2b467f5b-13c0-412e-b94d-c2e29652b88d
DTSTART;VALUE=DATE:20260513
DTEND;VALUE=DATE:20260514
DESCRIPTION:<p>For more information\, contact Mary Sokacz</p>
LOCATION:
SUMMARY:8th Grade Field Trip
END:VEVENT
BEGIN:VEVENT
DTSTAMP:20260425T112044Z
UID:b39f68c7-d2f9-493d-8ae1-951d79e762d5
DTSTART;VALUE=DATE:20260513
DTEND;VALUE=DATE:20260514
DESCRIPTION:<p>For more information\, contact Ama Phillips</p>
LOCATION:
SUMMARY:9-11th Field Trip
END:VEVENT
BEGIN:VEVENT
DTSTAMP:20260425T112044Z
UID:d9172564-6c49-4eeb-9214-451fb58554ad
DTSTART:20260513T133000
DTEND:20260513T143000
DESCRIPTION:
LOCATION:Castle Creek Golf Club\, 5191 Lum Rd\, Attica\, MI 48412\, USA
SUMMARY:Golf vs Dryden
END:VEVENT
BEGIN:VEVENT
DTSTAMP:20260425T112044Z
UID:de30f043-c0bc-45c9-bfd8-2f3169a4260d
DTSTART:20260514T160000
DTEND:20260514T170000
DESCRIPTION:
LOCATION:Imlay City High School\, 1001 Norlin Dr\, Imlay City\, MI 48444\, 
 USA
SUMMARY:V Baseball @ Imlay City
END:VEVENT
BEGIN:VEVENT
DTSTAMP:20260425T112044Z
UID:a09c91ab-801e-4b10-b6c3-3ffc83881b1a
DTSTART:20260514T163000
DTEND:20260514T173000
DESCRIPTION:
LOCATION:Armada High School\, 23655 Armada Center Rd\, Armada\, MI 48005\, 
 USA
SUMMARY:V Softball @ Armada
END:VEVENT
BEGIN:VEVENT
DTSTAMP:20260425T112044Z
UID:74fe1a68-c29b-493f-bb63-eca62b828e33
DTSTART:20260514T173000
DTEND:20260514T183000
DESCRIPTION:
LOCATION:Capac Jr.-Sr. High School\, 541 N Glassford St\, Capac\, MI 48014\
 , USA
SUMMARY:Girls Soccer vs Caro
END:VEVENT
BEGIN:VEVENT
DTSTAMP:20260425T112044Z
UID:dadba7c6-cf1c-400f-8801-b3a9ec2d7559
DTSTART;VALUE=DATE:20260515
DTEND;VALUE=DATE:20260516
DESCRIPTION:<p>For more information\, contact Mrs. Quigley</p>
LOCATION:
SUMMARY:English 2 Field Trip
END:VEVENT
BEGIN:VEVENT
DTSTAMP:20260425T112044Z
UID:d877cde0-e07b-45d1-9275-7ae0c88ebdec
DTSTART;VALUE=DATE:20260515
DTEND;VALUE=DATE:20260516
DESCRIPTION:
LOCATION:Dryden High School\, 3866 Rochester Rd\, Dryden\, MI 48428\, USA
SUMMARY:HS Track @ MHSAA Regionals (Dryden)
END:VEVENT
BEGIN:VEVENT
DTSTAMP:20260425T112044Z
UID:dcec3ae2-ff21-478b-a57b-d61dd6eeae8b
DTSTART:20260515T080000
DTEND:20260515T090000
DESCRIPTION:
LOCATION:Vassar Golf Club\, 3509 Kirk Rd\, Vassar\, MI 48768\, USA
SUMMARY:Golf at Vassar Invite
END:VEVENT
BEGIN:VEVENT
DTSTAMP:20260425T112044Z
UID:b45c4322-b406-44d7-a935-e6bba6c55aa6
DTSTART:20260515T170000
DTEND:20260515T180000
DESCRIPTION:
LOCATION:Yale High School\, 247 School Dr\, Yale\, MI 48097\, USA
SUMMARY:Girls Soccer @ Yale
END:VEVENT
BEGIN:VEVENT
DTSTAMP:20260425T112044Z
UID:229b0bc8-8bf7-4569-91b7-d4454596b5f7
DTSTART:20260516T090000
DTEND:20260516T100000
DESCRIPTION:
LOCATION:Imlay City High School\, 1001 Norlin Dr\, Imlay City\, MI 48444\, 
 USA
SUMMARY:V Softball @ Imlay City Invitational
END:VEVENT
BEGIN:VEVENT
DTSTAMP:20260425T112044Z
UID:d5e4091f-909b-4f8d-98be-5753513604ed
DTSTART:20260516T110000
DTEND:20260516T120000
DESCRIPTION:
LOCATION:Capac Jr.-Sr. High School\, 541 N Glassford St\, Capac\, MI 48014\
 , USA
SUMMARY:V Baseball vs Bay City All Saints
END:VEVENT
BEGIN:VEVENT
DTSTAMP:20260425T112044Z
UID:33a3cd04-bc5b-4518-a1e2-4877ac6d7406
DTSTART:20260518T133000
DTEND:20260518T143000
DESCRIPTION:
LOCATION:Timbers Golf Club\, 7300 Bray Rd\, Vassar\, MI 48768\, USA
SUMMARY:Golf BTC Meet
END:VEVENT
BEGIN:VEVENT
DTSTAMP:20260425T112044Z
UID:983da125-274e-47eb-887d-fdb94c0c768e
DTSTART:20260518T160000
DTEND:20260518T170000
DESCRIPTION:
LOCATION:Brown City Jr/Sr High School\, 4400 2nd St\, Brown City\, MI 48416
 \, USA
SUMMARY:V Baseball @ Brown City
END:VEVENT
BEGIN:VEVENT
DTSTAMP:20260425T112044Z
UID:3ea4173f-4084-446d-86c8-d2e9bf5eedfc
DTSTART:20260518T160000
DTEND:20260518T170000
DESCRIPTION:
LOCATION:Brown City Jr/Sr High School\, 4400 2nd St\, Brown City\, MI 48416
 \, USA
SUMMARY:V Softball @ Brown City
END:VEVENT
BEGIN:VEVENT
DTSTAMP:20260425T112044Z
UID:8697b1e1-6922-4bf3-84d6-a0cbb339c4bf
DTSTART;VALUE=DATE:20260519
DTEND;VALUE=DATE:20260520
DESCRIPTION:<p>For more information\, contact Mary Sokacz</p>
LOCATION:
SUMMARY:Jr High Student Council Field Trip
END:VEVENT
BEGIN:VEVENT
DTSTAMP:20260425T112044Z
UID:c1d0933b-0ac9-4bf9-9f8a-9114a55d60b3
DTSTART:20260519T190000
DTEND:20260519T220000
DESCRIPTION:
LOCATION:
SUMMARY:Regular Board Meeting
END:VEVENT
BEGIN:VEVENT
DTSTAMP:20260425T112044Z
UID:ed505caa-270c-4957-8405-1d8229cb8343
DTSTART:20260520T083000
DTEND:20260520T093000
DESCRIPTION:
LOCATION:Willow Springs Golf & Country\, 7335 Oak Rd\, Vassar\, MI 48768\, 
 USA
SUMMARY:Golf at BTC Black League Meet
END:VEVENT
BEGIN:VEVENT
DTSTAMP:20260425T112044Z
UID:28d685c0-e464-41d8-8b2b-5388bbcfac0c
DTSTART;VALUE=DATE:20260521
DTEND;VALUE=DATE:20260522
DESCRIPTION:<p>For more information\, contact Mrs. Otis</p>
LOCATION:
SUMMARY:Otis Psychology Field Trip
END:VEVENT
BEGIN:VEVENT
DTSTAMP:20260425T112044Z
UID:b86e4389-47f0-4d94-a767-968fcdf18eac
DTSTART:20260521T090000
DTEND:20260521T100000
DESCRIPTION:
LOCATION:Marysville Golf Course\, 2080 River Rd\, Marysville\, MI 48040\, U
 SA
SUMMARY:Golf at SCC Tournament
END:VEVENT
BEGIN:VEVENT
DTSTAMP:20260425T112044Z
UID:d197fbbd-4bcf-442a-82c0-f91577701e8a
DTSTART;VALUE=DATE:20260522
DTEND;VALUE=DATE:20260523
DESCRIPTION:
LOCATION:
SUMMARY:No School
END:VEVENT
BEGIN:VEVENT
DTSTAMP:20260425T112044Z
UID:c8a58d2b-a470-48fa-ac26-047e92671d9a
DTSTART;VALUE=DATE:20260525
DTEND;VALUE=DATE:20260526
DESCRIPTION:
LOCATION:
SUMMARY:No School-Memorial Day
END:VEVENT
BEGIN:VEVENT
DTSTAMP:20260425T112044Z
UID:b5da916d-4311-4b88-9af7-8d1cebcb514e
DTSTART;VALUE=DATE:20260526
DTEND;VALUE=DATE:20260527
DESCRIPTION:
LOCATION:Caro High School\, 301 N Hooper St\, Caro\, MI 48723\, USA
SUMMARY:HS Track @ Caro Meet of Champs
END:VEVENT
BEGIN:VEVENT
DTSTAMP:20260425T112044Z
UID:bc063869-f0ec-490f-97a9-cf438191f040
DTSTART:20260526T160000
DTEND:20260526T170000
DESCRIPTION:
LOCATION:Capac Jr.-Sr. High School\, 541 N Glassford St\, Capac\, MI 48014\
 , USA
SUMMARY:V Baseball v Sandusky
END:VEVENT
BEGIN:VEVENT
DTSTAMP:20260425T112044Z
UID:bf844a92-7b62-4dfb-8f0a-d04d7a7d741d
DTSTART:20260526T160000
DTEND:20260526T170000
DESCRIPTION:
LOCATION:Capac Jr.-Sr. High School\, 541 N Glassford St\, Capac\, MI 48014\
 , USA
SUMMARY:V Softball v Sandusky
END:VEVENT
BEGIN:VEVENT
DTSTAMP:20260425T112044Z
UID:f16f8d98-4430-4e4d-a573-39ae21c172a9
DTSTART;VALUE=DATE:20260527
DTEND;VALUE=DATE:20260528
DESCRIPTION:<p>For more information\, contact Mrs. Pabst</p>
LOCATION:
SUMMARY:3rd and 4th Grade Field Trip
END:VEVENT
BEGIN:VEVENT
DTSTAMP:20260425T112044Z
UID:2d3f6584-485f-420e-a1bf-3190890b4d52
DTSTART;VALUE=DATE:20260528
DTEND;VALUE=DATE:20260529
DESCRIPTION:
LOCATION:
SUMMARY:Golf Regionals @ The Fountain
END:VEVENT
BEGIN:VEVENT
DTSTAMP:20260425T112044Z
UID:36d91bee-0d98-422d-8adb-3e4488ca9bcf
DTSTART:20260530T100000
DTEND:20260530T110000
DESCRIPTION:
LOCATION:Oakland Christian School\, 3075 Shimmons Rd\, Auburn Hills\, MI 48
 326\, USA
SUMMARY:V Baseball District Semifinal @ Oakland Christian
END:VEVENT
BEGIN:VEVENT
DTSTAMP:20260425T112044Z
UID:ac119245-8be1-4800-b072-8ea9cd85462b
DTSTART:20260530T100000
DTEND:20260530T110000
DESCRIPTION:
LOCATION:Memphis Jr/Sr HS
SUMMARY:V Softball District Final @ Memphis (v Memphis)
END:VEVENT
BEGIN:VEVENT
DTSTAMP:20260425T112044Z
UID:fb714174-f8a6-4ecb-8b99-4c1d67367742
DTSTART:20260604T080000
DTEND:20260604T090000
DESCRIPTION:
LOCATION:
SUMMARY:End of the fourth marking period
END:VEVENT
BEGIN:VEVENT
DTSTAMP:20260425T112044Z
UID:25d30840-8661-428b-9a19-72873d259ebb
DTSTART:20260604T080000
DTEND:20260604T110900
DESCRIPTION:
LOCATION:
SUMMARY:Half-Day of school\, Last day of school
END:VEVENT
BEGIN:VEVENT
DTSTAMP:20260425T112044Z
UID:1634ee42-c38d-47eb-98e1-4da9beee849f
DTSTART:20260616T190000
DTEND:20260616T220000
DESCRIPTION:
LOCATION:
SUMMARY:Regular Board Meeting
END:VEVENT
BEGIN:VEVENT
DTSTAMP:20260425T112044Z
UID:a25f7fb2-8d9d-4873-b82a-6a468ce4edf5
DTSTART;VALUE=DATE:20260620
DTEND;VALUE=DATE:20260621
DESCRIPTION:
LOCATION:
SUMMARY:Village of Capac Fireworks 
END:VEVENT
BEGIN:VEVENT
DTSTAMP:20260425T112044Z
UID:05bb5976-6368-4c6c-99f4-0e6bb52ba6e4
DTSTART:20260721T190000
DTEND:20260721T220000
DESCRIPTION:
LOCATION:
SUMMARY:Regular Board Meeting
END:VEVENT
BEGIN:VEVENT
DTSTAMP:20260425T112044Z
UID:b3ef1124-f8fb-4c14-a0e9-d51e37f164ac
DTSTART:20260818T190000
DTEND:20260818T220000
DESCRIPTION:
LOCATION:
SUMMARY:Regular Board Meeting
END:VEVENT
BEGIN:VEVENT
DTSTAMP:20260425T112044Z
UID:704e7117-e9c7-49bf-9cc7-a9f1d377f52e
DTSTART:20260828T190000
DTEND:20260828T200000
DESCRIPTION:
LOCATION:Capac Jr.-Sr. High School\, 541 N Glassford St\, Capac\, MI 48014\
 , USA
SUMMARY:Varsity Football vs Potterville
END:VEVENT
BEGIN:VEVENT
DTSTAMP:20260425T112044Z
UID:4646df38-32dc-4703-832b-c2bd90c3a91b
DTSTART:20260915T190000
DTEND:20260915T220000
DESCRIPTION:
LOCATION:
SUMMARY:Regular Board Meeting
END:VEVENT
BEGIN:VEVENT
DTSTAMP:20260425T112044Z
UID:a365ef00-4d41-4cad-9e39-663d491d02ab
DTSTART:20261020T190000
DTEND:20261020T220000
DESCRIPTION:
LOCATION:
SUMMARY:Regular Board Meeting
END:VEVENT
BEGIN:VEVENT
DTSTAMP:20260425T112044Z
UID:f087dcea-0a41-4de2-b4d2-65e6fd28a5e6
DTSTART;VALUE=DATE:20261022
DTEND;VALUE=DATE:20261023
DESCRIPTION:<p>For more information\, contact Mary Sokacz\, Virginia Thomso
 n\, or Cristie Ebner</p>
LOCATION:
SUMMARY:A Clothes Bin Fundraiser for NHS\, NJHS and Student Council Ends
END:VEVENT
BEGIN:VEVENT
DTSTAMP:20260425T112044Z
UID:ec16e495-55ad-4d15-a20b-8376a7d80534
DTSTART:20261117T190000
DTEND:20261117T220000
DESCRIPTION:
LOCATION:
SUMMARY:Regular Board Meeting
END:VEVENT
BEGIN:VEVENT
DTSTAMP:20260425T112044Z
UID:1e0d4e13-c369-4a9a-9871-bc5017d9654f
DTSTART:20261215T190000
DTEND:20261215T220000
DESCRIPTION:
LOCATION:
SUMMARY:Regular Board Meeting
END:VEVENT
BEGIN:VEVENT
DTSTAMP:20260425T112044Z
UID:bdf01c70-f89d-4b03-a33f-bd1cebdb1cb5
DTSTART:20270119T190000
DTEND:20270119T220000
DESCRIPTION:
LOCATION:
SUMMARY:Regular Board Meeting
END:VEVENT
END:VCALENDAR
