BEGIN:VCALENDAR
VERSION:2.0
PRODID:icalendar-ruby
CALSCALE:GREGORIAN
BEGIN:VTIMEZONE
TZID:America/New_York
BEGIN:DAYLIGHT
DTSTART:20260308T030000
TZOFFSETFROM:-0500
TZOFFSETTO:-0400
RRULE:FREQ=YEARLY;BYDAY=2SU;BYMONTH=3
TZNAME:EDT
END:DAYLIGHT
BEGIN:STANDARD
DTSTART:20261101T010000
TZOFFSETFROM:-0400
TZOFFSETTO:-0500
RRULE:FREQ=YEARLY;BYDAY=1SU;BYMONTH=11
TZNAME:EST
END:STANDARD
END:VTIMEZONE
BEGIN:VEVENT
DTSTAMP:20260423T103807Z
UID:d1f1b480-b60c-4ab0-af5a-a70154f1a570
DTSTART;VALUE=DATE:20260424
DTEND;VALUE=DATE:20260425
DESCRIPTION:
LOCATION:
SUMMARY:Pending Snow Day ~ No School
END:VEVENT
BEGIN:VEVENT
DTSTAMP:20260423T103807Z
UID:7c6660de-a972-4ac7-878c-ff1262e78798
DTSTART;VALUE=DATE:20260424
DTEND;VALUE=DATE:20260425
DESCRIPTION:
LOCATION:
SUMMARY:Schenevus Music Club Spaghetti Dinner
END:VEVENT
BEGIN:VEVENT
DTSTAMP:20260423T103807Z
UID:e5bfd15c-fe37-4e90-bdac-ed813afe86a3
DTSTART:20260425T080000
DTEND:20260425T180000
DESCRIPTION:<p>The Classes of 2027 &amp\; 2028 are hosting the Dragon Aucti
 on on April 25th from 9am - 6pm.  Drawings start at 3:00pm.</p><p></p><p>C
 ome out and support the classes. </p>
LOCATION:Big Gym
SUMMARY:Dragon Auction
END:VEVENT
BEGIN:VEVENT
DTSTAMP:20260423T103807Z
UID:65134ef8-ee18-455b-870e-34ba010ee752
DTSTART:20260430T180000
DTEND:20260430T200000
DESCRIPTION:
LOCATION:Draper Room
SUMMARY:MS/HS Spring Concert
END:VEVENT
BEGIN:VEVENT
DTSTAMP:20260423T103807Z
UID:866db5dd-2be2-4932-a65e-599ab64f84ca
DTSTART:20260504T180000
DTEND:20260504T190000
DESCRIPTION:
LOCATION:Draper Room
SUMMARY:National Honor Society Inductions
END:VEVENT
BEGIN:VEVENT
DTSTAMP:20260423T103807Z
UID:badeabf4-170a-44a8-b958-c17b9b281904
DTSTART:20260504T190000
DTEND:20260504T200000
DESCRIPTION:
LOCATION:Library
SUMMARY:Parent/Senior Class Meeting
END:VEVENT
BEGIN:VEVENT
DTSTAMP:20260423T103807Z
UID:1e5510bf-8705-4d53-8d90-46bfd2a4963b
DTSTART;VALUE=DATE:20260505
DTEND;VALUE=DATE:20260507
DESCRIPTION:
LOCATION:
SUMMARY:State Math Testing ~ Grades 3rd - 8th
END:VEVENT
BEGIN:VEVENT
DTSTAMP:20260423T103807Z
UID:d5fa0cf3-e9af-4a25-861c-97620533a8d4
DTSTART:20260507T170000
DTEND:20260507T180000
DESCRIPTION:<p>Please join us for Pre-K Registration on Thursday\, May 7th 
 from 5-6pm.</p>
LOCATION:Schenevus CSD 159 Main St\, Schenevus\, NY 12155\, USA
SUMMARY:Pre-K Registration
END:VEVENT
BEGIN:VEVENT
DTSTAMP:20260423T103807Z
UID:0735d1c1-b45b-4ad8-8082-1cba2e1cdbec
DTSTART:20260507T180000
DTEND:20260507T190000
DESCRIPTION:
LOCATION:Draper Room
SUMMARY:Elementary Art Show
END:VEVENT
BEGIN:VEVENT
DTSTAMP:20260423T103807Z
UID:20d7cb1a-1e00-4dca-990c-205678031599
DTSTART;VALUE=DATE:20260508
DTEND;VALUE=DATE:20260509
DESCRIPTION:
LOCATION:
SUMMARY:Pending Snow Day ~ No School
END:VEVENT
BEGIN:VEVENT
DTSTAMP:20260423T103807Z
UID:fc6c92e0-a194-4a33-9404-6cd88586597a
DTSTART;VALUE=DATE:20260512
DTEND;VALUE=DATE:20260513
DESCRIPTION:
LOCATION:
SUMMARY:State Science Testing - 5th Grade
END:VEVENT
BEGIN:VEVENT
DTSTAMP:20260423T103807Z
UID:5f42535b-1b06-4a06-9b64-d606e669a3b1
DTSTART:20260512T180000
DTEND:20260512T200000
DESCRIPTION:
LOCATION:Draper Room
SUMMARY:BOE Meeting - Public Hearing
END:VEVENT
BEGIN:VEVENT
DTSTAMP:20260423T103807Z
UID:e17d6b84-44c0-48b8-b7f3-3fb56960001a
DTSTART;VALUE=DATE:20260515
DTEND;VALUE=DATE:20260516
DESCRIPTION:
LOCATION:
SUMMARY:End of 35 Weeks
END:VEVENT
BEGIN:VEVENT
DTSTAMP:20260423T103807Z
UID:af73e39d-e9cb-4415-9057-c7e7014afe76
DTSTART:20260519T120000
DTEND:20260519T200000
DESCRIPTION:Budget Vote
LOCATION:
SUMMARY:BOE Meeting - Annual Meeting & Election Budget Vote - 12:00PM-8:00 
 PM
END:VEVENT
BEGIN:VEVENT
DTSTAMP:20260423T103807Z
UID:8149ccba-de79-4700-8d0d-caacc43aeb4e
DTSTART:20260519T180000
DTEND:20260519T200000
DESCRIPTION:<ul><li><b>Pre-K - 6th Grade Students</b></li></ul>
LOCATION:Draper Room
SUMMARY:Elementary Spring Concert 
END:VEVENT
BEGIN:VEVENT
DTSTAMP:20260423T103807Z
UID:fb8dedab-e3c1-4e85-aa68-892538f37a84
DTSTART:20260520T180000
DTEND:20260520T200000
DESCRIPTION:
LOCATION:Draper Room
SUMMARY:BOE Meeting - Special Meeting to verify vote results
END:VEVENT
BEGIN:VEVENT
DTSTAMP:20260423T103807Z
UID:480ed40c-80de-4b69-b6a4-92826da69be5
DTSTART;VALUE=DATE:20260522
DTEND;VALUE=DATE:20260523
DESCRIPTION:
LOCATION:
SUMMARY:Pending Snow Day ~ No School
END:VEVENT
BEGIN:VEVENT
DTSTAMP:20260423T103807Z
UID:0f7a2670-bc64-437e-9977-0f706a4bd877
DTSTART:20260523T180000
DTEND:20260523T220000
DESCRIPTION:<p><strong>Schenevus Prom</strong></p><p><strong>Location: </st
 rong>The Sparrow Hawk</p><p><strong>Time: 6:00 - 10:00 PM</strong></p><p>H
 osted by the Class of 2027</p>
LOCATION:
SUMMARY:Prom
END:VEVENT
BEGIN:VEVENT
DTSTAMP:20260423T103807Z
UID:dbbe3d10-4d79-4801-8f5b-bae1f4de35d9
DTSTART;VALUE=DATE:20260525
DTEND;VALUE=DATE:20260526
DESCRIPTION:
LOCATION:
SUMMARY:HOLIDAY ~ Memorial Day - No School
END:VEVENT
BEGIN:VEVENT
DTSTAMP:20260423T103807Z
UID:d907a330-c940-406d-a7c7-91d8909caf16
DTSTART:20260526T130000
DTEND:20260526T180000
DESCRIPTION:
LOCATION:Gym
SUMMARY:NHS Red Cross Blood Drive
END:VEVENT
BEGIN:VEVENT
DTSTAMP:20260423T103807Z
UID:e2c420b1-a510-4f9e-ac50-13935283c313
DTSTART;VALUE=DATE:20260529
DTEND;VALUE=DATE:20260530
DESCRIPTION:
LOCATION:
SUMMARY:High Note Festival ~ Grades 9th - 12th 
END:VEVENT
BEGIN:VEVENT
DTSTAMP:20260423T103807Z
UID:a273c5c2-8cf9-4d95-9a2b-430a8ae1fe76
DTSTART;VALUE=DATE:20260605
DTEND;VALUE=DATE:20260607
DESCRIPTION:
LOCATION:
SUMMARY:Sherburne Pageant of Bands
END:VEVENT
BEGIN:VEVENT
DTSTAMP:20260423T103807Z
UID:3d7f44ee-ec35-49e3-b0c4-5fef5368575a
DTSTART;VALUE=DATE:20260607
DTEND;VALUE=DATE:20260612
DESCRIPTION:
LOCATION:
SUMMARY:Senior Class Trip 
END:VEVENT
BEGIN:VEVENT
DTSTAMP:20260423T103807Z
UID:816a53d4-292d-458f-8335-76eae4e25ce9
DTSTART:20260609T180000
DTEND:20260609T200000
DESCRIPTION:
LOCATION:Draper Room
SUMMARY:BOE Meeting - Code of Conduct Public Hearing
END:VEVENT
BEGIN:VEVENT
DTSTAMP:20260423T103807Z
UID:ae927c87-34fd-4e32-a7ee-dc2be3b92594
DTSTART;VALUE=DATE:20260612
DTEND;VALUE=DATE:20260613
DESCRIPTION:
LOCATION:
SUMMARY:Music Department Picnic/Awards
END:VEVENT
BEGIN:VEVENT
DTSTAMP:20260423T103807Z
UID:fa4538f0-31d7-43bc-aab2-c6a853a766b5
DTSTART;VALUE=DATE:20260615
DTEND;VALUE=DATE:20260616
DESCRIPTION:
LOCATION:Glimmerglass State Park\, Cooperstown\, NY
SUMMARY:Glimmerglass End of Year Picnic - Middle School
END:VEVENT
BEGIN:VEVENT
DTSTAMP:20260423T103807Z
UID:53cd91d5-18af-4ce5-adbf-dc6a93818029
DTSTART:20260615T183000
DTEND:20260615T200000
DESCRIPTION:
LOCATION:
SUMMARY:Awards/Honors Night ~ Grades 7th - 11th
END:VEVENT
BEGIN:VEVENT
DTSTAMP:20260423T103807Z
UID:d6095282-a6c5-4d55-ac1e-2f93c0eb59cc
DTSTART;VALUE=DATE:20260616
DTEND;VALUE=DATE:20260617
DESCRIPTION:
LOCATION:
SUMMARY:Last Day of School for MS/HS
END:VEVENT
BEGIN:VEVENT
DTSTAMP:20260423T103807Z
UID:b7bd6ec1-cfe4-4274-92f7-986c1f3d90c1
DTSTART:20260616T180000
DTEND:20260616T200000
DESCRIPTION:
LOCATION:Draper Room
SUMMARY:Senior Awards Donors Dinner
END:VEVENT
BEGIN:VEVENT
DTSTAMP:20260423T103807Z
UID:75f1f826-36ff-4425-9c22-cc38bebccb93
DTSTART:20260618T110000
DTEND:20260618T123000
DESCRIPTION:
LOCATION:
SUMMARY:Annual Family BBQ Luncheon - Elementary 
END:VEVENT
BEGIN:VEVENT
DTSTAMP:20260423T103807Z
UID:86eba3bb-0cd6-4a4e-9b3a-56dc44cccc09
DTSTART:20260618T130000
DTEND:20260618T140000
DESCRIPTION:
LOCATION:Draper Room
SUMMARY:Dragon Fest
END:VEVENT
BEGIN:VEVENT
DTSTAMP:20260423T103807Z
UID:8d14daa4-80ab-42ee-828f-6c914636b459
DTSTART;VALUE=DATE:20260619
DTEND;VALUE=DATE:20260620
DESCRIPTION:
LOCATION:
SUMMARY:HOLIDAY ~ Juneteenth - No School
END:VEVENT
BEGIN:VEVENT
DTSTAMP:20260423T103807Z
UID:83393829-1253-433f-a8c8-76463b9fef4b
DTSTART;VALUE=DATE:20260623
DTEND;VALUE=DATE:20260624
DESCRIPTION:
LOCATION:
SUMMARY:BOCES Graduation
END:VEVENT
BEGIN:VEVENT
DTSTAMP:20260423T103807Z
UID:95ea536e-36d5-443e-88ad-7d409ee52d16
DTSTART;VALUE=DATE:20260623
DTEND;VALUE=DATE:20260624
DESCRIPTION:<ul><li><b>Rain Date will be June 24th</b></li></ul>
LOCATION:
SUMMARY:Elementary Field Days
END:VEVENT
BEGIN:VEVENT
DTSTAMP:20260423T103807Z
UID:084b1bc1-6c4e-4503-a17a-c1c1074d342e
DTSTART:20260624T113000
DTEND:20260624T113000
DESCRIPTION:
LOCATION:
SUMMARY:Early Dismissal ~ 11:30 AM
END:VEVENT
BEGIN:VEVENT
DTSTAMP:20260423T103807Z
UID:69acf20a-9f4b-4132-bf27-25c09c42e17a
DTSTART:20260625T113000
DTEND:20260625T113000
DESCRIPTION:
LOCATION:
SUMMARY:Early Dismissal ~ 11:30 AM
END:VEVENT
BEGIN:VEVENT
DTSTAMP:20260423T103807Z
UID:0a87bfe1-1f75-46f1-aea4-ae28ab336af1
DTSTART;VALUE=DATE:20260626
DTEND;VALUE=DATE:20260627
DESCRIPTION:
LOCATION:
SUMMARY:End of 4th Marking Period
END:VEVENT
BEGIN:VEVENT
DTSTAMP:20260423T103807Z
UID:5f082b09-2483-4183-b2d9-480de448b986
DTSTART:20260626T093000
DTEND:20260626T123000
DESCRIPTION:
LOCATION:
SUMMARY:Senior Breakfast/Graduation Rehearsal
END:VEVENT
BEGIN:VEVENT
DTSTAMP:20260423T103807Z
UID:f6032b7f-627b-4c4b-9aba-77582afba2d3
DTSTART:20260626T113000
DTEND:20260626T113000
DESCRIPTION:<ul><li><b><i><u>K Graduation/Moving Up Ceremony - K - 6th Grad
 e</u></i></b></li><li><b>Kindergarten Graduation - 9:15 AM</b></li><li><b>
 Moving Up Ceremony 1st - 6th Grades - 10:00 AM</b></li><li><b>Early Dismis
 sal at 11:30 AM</b></li></ul>
LOCATION:
SUMMARY:Last Day of School for Elementary
END:VEVENT
BEGIN:VEVENT
DTSTAMP:20260423T103807Z
UID:a957e505-7cc3-4658-ae9f-018ffa78b295
DTSTART:20260626T173000
DTEND:20260626T203000
DESCRIPTION:<b> We would like to invite you to our 139th Annual Alumni Ban
 quet and meeting to be held at</b><br><b>The Sparrow Hawk\, 801\, Smokey A
 ve\, Schenevus\, on Friday\, June 26\, 2026.</b><br><b>Social hour will be
  held at 5:30pm. A buffet-style dinner will be served at 6:00 p.m\, cater
 ed by Jack’s Pub. Dinner menu options include Beef Tips\, Chicken tende
 rloin or Eggplant\; sides include potatoes\, pasta\, vegetable medley\, sa
 lad and rolls\; desserts almond cake and cookie platter and beverage. As n
 o choice has to be made this year\, everyone gets some of everything.</b>
 <br><b> A brief business meeting will follow with Officers to be determin
 ed.<br>The price of the ticket is $30. Reservations must be made by June 1
 st\, and payment must be made with the reservation. Reservations are pref
 erred\, but walk-ins are welcome. Guests of Alumni are most welcome\, and 
 tickets are also $30. Dues remain at $5 and should be included with your 
 dinner reservation. There is no penalty if you have not paid dues in the 
 past and you have not been to an alumni banquet.</b>
LOCATION:The Sparrow Hawk
SUMMARY:Alumni Dinner 
END:VEVENT
BEGIN:VEVENT
DTSTAMP:20260423T103807Z
UID:33390dbd-23f9-441c-bace-46024fbf0848
DTSTART:20260627T110000
DTEND:20260627T130000
DESCRIPTION:
LOCATION:
SUMMARY:Senior Graduation
END:VEVENT
END:VCALENDAR
