BEGIN:VCALENDAR
VERSION:2.0
PRODID:icalendar-ruby
CALSCALE:GREGORIAN
BEGIN:VTIMEZONE
TZID:America/Chicago
BEGIN:DAYLIGHT
DTSTART:20260308T030000
TZOFFSETFROM:-0600
TZOFFSETTO:-0500
RRULE:FREQ=YEARLY;BYDAY=2SU;BYMONTH=3
TZNAME:CDT
END:DAYLIGHT
BEGIN:STANDARD
DTSTART:20261101T010000
TZOFFSETFROM:-0500
TZOFFSETTO:-0600
RRULE:FREQ=YEARLY;BYDAY=1SU;BYMONTH=11
TZNAME:CST
END:STANDARD
END:VTIMEZONE
BEGIN:VEVENT
DTSTAMP:20260419T230915Z
UID:1054cd3b-1bf5-4e05-83e1-f4b018dfc453
DTSTART:20260423T100000
DTEND:20260423T190000
DESCRIPTION:<p>Cookies and Refreshments will be served</p>
LOCATION:208 W 5th Ave\, Lennox\, SD 57039\, USA
SUMMARY:Library Open House for National Library Week
END:VEVENT
BEGIN:VEVENT
DTSTAMP:20260419T230915Z
UID:8baaaa90-1359-4959-a46c-ab3a0f69136a
DTSTART:20260423T190000
DTEND:20260423T200000
DESCRIPTION:
LOCATION:107 S Main St\, Lennox\, SD 57039\, USA
SUMMARY:Planning and Zoning Meeting
END:VEVENT
BEGIN:VEVENT
DTSTAMP:20260419T230915Z
UID:5ffb60e0-ee22-4e01-84d6-6c7746055172
DTSTART:20260427T190000
DTEND:20260427T200000
DESCRIPTION:
LOCATION:107 S Main St\, Lennox\, SD 57039\, USA
SUMMARY:City Council Meeting
END:VEVENT
BEGIN:VEVENT
DTSTAMP:20260419T230915Z
UID:89607a3b-77a4-4090-b1d3-d059b89567c9
DTSTART:20260508T103000
DTEND:20260508T104500
DESCRIPTION:
LOCATION:
SUMMARY:Siren Testing
END:VEVENT
BEGIN:VEVENT
DTSTAMP:20260419T230915Z
UID:3913a568-bbca-42c9-9676-1b9b3e708649
DTSTART:20260511T190000
DTEND:20260511T200000
DESCRIPTION:
LOCATION:107 S Main St\, Lennox\, SD 57039\, USA
SUMMARY:City Council Meeting
END:VEVENT
BEGIN:VEVENT
DTSTAMP:20260419T230915Z
UID:28101b2e-0de3-433e-8acb-8192439c13bd
DTSTART:20260520T180000
DTEND:20260520T190000
DESCRIPTION:
LOCATION:107 S Main St\, Lennox\, SD 57039\, USA
SUMMARY:Park Board Meeting
END:VEVENT
BEGIN:VEVENT
DTSTAMP:20260419T230915Z
UID:c9496bf8-49ed-472c-bd0e-2926a9efbd7d
DTSTART:20260525T073000
DTEND:20260525T173000
DESCRIPTION:
LOCATION:107 S Main St\, Lennox\, SD 57039\, USA
SUMMARY:Offices Closed
END:VEVENT
BEGIN:VEVENT
DTSTAMP:20260419T230915Z
UID:dad1fa60-bb39-4424-b1bd-07cff6f6ad3c
DTSTART:20260526T190000
DTEND:20260526T200000
DESCRIPTION:
LOCATION:107 S Main St\, Lennox\, SD 57039\, USA
SUMMARY:City Council Meeting
END:VEVENT
BEGIN:VEVENT
DTSTAMP:20260419T230915Z
UID:45678c50-2376-4d30-8314-19853bec7fe5
DTSTART:20260528T190000
DTEND:20260528T200000
DESCRIPTION:
LOCATION:107 S Main St\, Lennox\, SD 57039\, USA
SUMMARY:Planning and Zoning Meeting
END:VEVENT
BEGIN:VEVENT
DTSTAMP:20260419T230915Z
UID:5ea12ff9-ef31-42d3-8cd5-f132c108f103
DTSTART:20260529T170000
DTEND:20260529T200000
DESCRIPTION:
LOCATION:Park Dr\, Lennox\, SD 57039\, USA
SUMMARY:Park Drive After 5 Event
END:VEVENT
BEGIN:VEVENT
DTSTAMP:20260419T230915Z
UID:b294a731-2f13-4601-9e1b-989d071ace39
DTSTART:20260608T190000
DTEND:20260608T200000
DESCRIPTION:
LOCATION:107 S Main St\, Lennox\, SD 57039\, USA
SUMMARY:City Council Meeting
END:VEVENT
BEGIN:VEVENT
DTSTAMP:20260419T230915Z
UID:d70d463e-b1e3-44ed-bd96-956f435cc1e8
DTSTART:20260612T103000
DTEND:20260612T104500
DESCRIPTION:
LOCATION:
SUMMARY:Siren Testing
END:VEVENT
BEGIN:VEVENT
DTSTAMP:20260419T230915Z
UID:71cbd782-29bc-41f1-bfd2-33f43d81fbc3
DTSTART:20260617T180000
DTEND:20260617T190000
DESCRIPTION:
LOCATION:107 S Main St\, Lennox\, SD 57039\, USA
SUMMARY:Park Board Meeting
END:VEVENT
BEGIN:VEVENT
DTSTAMP:20260419T230915Z
UID:05a48ed8-872e-4fde-a654-5e3545ed04ca
DTSTART:20260619T073000
DTEND:20260619T120000
DESCRIPTION:
LOCATION:107 S Main St\, Lennox\, SD 57039\, USA
SUMMARY:Offices Closed
END:VEVENT
BEGIN:VEVENT
DTSTAMP:20260419T230915Z
UID:2f4203ba-3e9c-4411-8252-92a32743f420
DTSTART:20260619T170000
DTEND:20260619T200000
DESCRIPTION:
LOCATION:Park Dr\, Lennox\, SD 57039\, USA
SUMMARY:Park Drive After 5 Event
END:VEVENT
BEGIN:VEVENT
DTSTAMP:20260419T230915Z
UID:aa0c3717-eca5-4a30-95ba-c2ebf61d61a4
DTSTART:20260622T190000
DTEND:20260622T200000
DESCRIPTION:
LOCATION:107 S Main St\, Lennox\, SD 57039\, USA
SUMMARY:City Council Meeting
END:VEVENT
BEGIN:VEVENT
DTSTAMP:20260419T230915Z
UID:4a54e9aa-9528-4144-b93b-687d3ae4ae22
DTSTART:20260625T190000
DTEND:20260625T200000
DESCRIPTION:
LOCATION:107 S Main St\, Lennox\, SD 57039\, USA
SUMMARY:Planning and Zoning Meeting
END:VEVENT
BEGIN:VEVENT
DTSTAMP:20260419T230915Z
UID:e7466b17-7472-4032-ad92-17c886547b87
DTSTART:20260710T103000
DTEND:20260710T104500
DESCRIPTION:
LOCATION:
SUMMARY:Siren Testing
END:VEVENT
BEGIN:VEVENT
DTSTAMP:20260419T230915Z
UID:d1d06e2e-f276-4677-9ab9-1ae7f1a33c94
DTSTART:20260713T190000
DTEND:20260713T200000
DESCRIPTION:
LOCATION:107 S Main St\, Lennox\, SD 57039\, USA
SUMMARY:City Council Meeting
END:VEVENT
BEGIN:VEVENT
DTSTAMP:20260419T230915Z
UID:e2ca37d6-e7a2-42af-b93f-e0a5debd2391
DTSTART:20260715T180000
DTEND:20260715T190000
DESCRIPTION:
LOCATION:107 S Main St\, Lennox\, SD 57039\, USA
SUMMARY:Park Board Meeting
END:VEVENT
BEGIN:VEVENT
DTSTAMP:20260419T230915Z
UID:78fd69e8-c26d-4bc5-8088-55079e119346
DTSTART:20260717T170000
DTEND:20260717T200000
DESCRIPTION:
LOCATION:Park Dr\, Lennox\, SD 57039\, USA
SUMMARY:Park Drive After 5 Event
END:VEVENT
BEGIN:VEVENT
DTSTAMP:20260419T230915Z
UID:44b6c9e4-0851-4352-9f11-8e1da25f334f
DTSTART:20260723T190000
DTEND:20260723T200000
DESCRIPTION:
LOCATION:107 S Main St\, Lennox\, SD 57039\, USA
SUMMARY:Planning and Zoning Meeting
END:VEVENT
BEGIN:VEVENT
DTSTAMP:20260419T230915Z
UID:7073df51-1f14-4ebb-967c-4d3d26673939
DTSTART:20260727T190000
DTEND:20260727T200000
DESCRIPTION:
LOCATION:107 S Main St\, Lennox\, SD 57039\, USA
SUMMARY:City Council Meeting
END:VEVENT
BEGIN:VEVENT
DTSTAMP:20260419T230915Z
UID:b783bd76-1ba6-44fd-8fe9-d657a3e6f122
DTSTART:20260814T103000
DTEND:20260814T104500
DESCRIPTION:
LOCATION:
SUMMARY:Siren Testing
END:VEVENT
BEGIN:VEVENT
DTSTAMP:20260419T230915Z
UID:bc6da74a-bd66-409e-bff8-d2ecbfd7a188
DTSTART:20260821T170000
DTEND:20260821T200000
DESCRIPTION:
LOCATION:Park Dr\, Lennox\, SD 57039\, USA
SUMMARY:Park Drive After 5 Event
END:VEVENT
BEGIN:VEVENT
DTSTAMP:20260419T230915Z
UID:95f16290-2102-495d-9bfa-ee4cd5c14266
DTSTART:20260911T103000
DTEND:20260911T104500
DESCRIPTION:
LOCATION:
SUMMARY:Siren Testing
END:VEVENT
END:VCALENDAR
