BEGIN:VCALENDAR
VERSION:2.0
PRODID:icalendar-ruby
CALSCALE:GREGORIAN
BEGIN:VTIMEZONE
TZID:America/New_York
BEGIN:DAYLIGHT
DTSTART:20260308T030000
TZOFFSETFROM:-0500
TZOFFSETTO:-0400
RRULE:FREQ=YEARLY;BYDAY=2SU;BYMONTH=3
TZNAME:EDT
END:DAYLIGHT
BEGIN:STANDARD
DTSTART:20261101T010000
TZOFFSETFROM:-0400
TZOFFSETTO:-0500
RRULE:FREQ=YEARLY;BYDAY=1SU;BYMONTH=11
TZNAME:EST
END:STANDARD
END:VTIMEZONE
BEGIN:VEVENT
DTSTAMP:20260420T144049Z
UID:0ea6d89a-44e3-441e-bcf3-c7a673062417
DTSTART;VALUE=DATE:20260521
DTEND;VALUE=DATE:20260522
DESCRIPTION:
LOCATION:
SUMMARY:End of Fourth Grading Period
END:VEVENT
BEGIN:VEVENT
DTSTAMP:20260420T144049Z
UID:d72d3d4a-a058-49e8-84e7-deb44abb301e
DTSTART;VALUE=DATE:20260522
DTEND;VALUE=DATE:20260523
DESCRIPTION:
LOCATION:
SUMMARY:No School - Teacher Work Day
END:VEVENT
BEGIN:VEVENT
DTSTAMP:20260420T144049Z
UID:26a8ca50-4527-4627-8cb9-c4a7efdb8934
DTSTART:20260522T190000
DTEND:20260522T200000
DESCRIPTION:
LOCATION:Greenwood Community High School\, 615 W Smith Valley Rd\, Greenwoo
 d\, IN 46142\, USA
SUMMARY:GHS Graduation
END:VEVENT
END:VCALENDAR
