BEGIN:VCALENDAR
VERSION:2.0
PRODID:icalendar-ruby
CALSCALE:GREGORIAN
BEGIN:VTIMEZONE
TZID:America/New_York
BEGIN:DAYLIGHT
DTSTART:20260308T030000
TZOFFSETFROM:-0500
TZOFFSETTO:-0400
RRULE:FREQ=YEARLY;BYDAY=2SU;BYMONTH=3
TZNAME:EDT
END:DAYLIGHT
BEGIN:STANDARD
DTSTART:20261101T010000
TZOFFSETFROM:-0400
TZOFFSETTO:-0500
RRULE:FREQ=YEARLY;BYDAY=1SU;BYMONTH=11
TZNAME:EST
END:STANDARD
END:VTIMEZONE
BEGIN:VEVENT
DTSTAMP:20260423T162331Z
UID:0a62b535-635c-4441-b226-1fa24ade1009
DTSTART;VALUE=DATE:20260521
DTEND;VALUE=DATE:20260522
DESCRIPTION:
LOCATION:
SUMMARY:Single Session - Staff Professional Development
END:VEVENT
BEGIN:VEVENT
DTSTAMP:20260423T162331Z
UID:f76c6270-74ed-4086-82f5-004df85140a7
DTSTART;VALUE=DATE:20260525
DTEND;VALUE=DATE:20260526
DESCRIPTION:
LOCATION:
SUMMARY:Memorial Day - District Closed 
END:VEVENT
BEGIN:VEVENT
DTSTAMP:20260423T162331Z
UID:dec212c5-036a-4d91-8a12-6b01eb97beab
DTSTART;VALUE=DATE:20260619
DTEND;VALUE=DATE:20260620
DESCRIPTION:
LOCATION:
SUMMARY:Juneteenth - Schools Closed
END:VEVENT
BEGIN:VEVENT
DTSTAMP:20260423T162331Z
UID:bd53143d-a346-4735-9f34-7365817c7b96
DTSTART;VALUE=DATE:20260622
DTEND;VALUE=DATE:20260625
DESCRIPTION:
LOCATION:
SUMMARY:Single Session - Students Only
END:VEVENT
BEGIN:VEVENT
DTSTAMP:20260423T162331Z
UID:efc2c38d-3953-4790-bcff-8a7e9788283d
DTSTART;VALUE=DATE:20260625
DTEND;VALUE=DATE:20260626
DESCRIPTION:
LOCATION:
SUMMARY:Last Day of School - Single Session
END:VEVENT
END:VCALENDAR
