BEGIN:VCALENDAR
VERSION:2.0
PRODID:icalendar-ruby
CALSCALE:GREGORIAN
BEGIN:VTIMEZONE
TZID:America/Chicago
BEGIN:DAYLIGHT
DTSTART:20260308T030000
TZOFFSETFROM:-0600
TZOFFSETTO:-0500
RRULE:FREQ=YEARLY;BYDAY=2SU;BYMONTH=3
TZNAME:CDT
END:DAYLIGHT
BEGIN:STANDARD
DTSTART:20261101T010000
TZOFFSETFROM:-0500
TZOFFSETTO:-0600
RRULE:FREQ=YEARLY;BYDAY=1SU;BYMONTH=11
TZNAME:CST
END:STANDARD
END:VTIMEZONE
BEGIN:VEVENT
DTSTAMP:20260422T215649Z
UID:b36f4483-3740-4b08-a1fe-1630c0174e5a
DTSTART:20260427T170000
DTEND:20260427T180000
DESCRIPTION:
LOCATION:
SUMMARY:Planning & Zoning Commission
END:VEVENT
BEGIN:VEVENT
DTSTAMP:20260422T215649Z
UID:30f6e5a9-feac-4c3c-ad61-3c0e02cf3e3c
DTSTART:20260428T173000
DTEND:20260428T183000
DESCRIPTION:
LOCATION:
SUMMARY:Park Board Meeting
END:VEVENT
BEGIN:VEVENT
DTSTAMP:20260422T215649Z
UID:3a1345df-fbb5-46de-9d22-c316b0929168
DTSTART:20260501T080000
DTEND:20260503T163000
DESCRIPTION:
LOCATION:
SUMMARY:City Wide Garage Sale
END:VEVENT
BEGIN:VEVENT
DTSTAMP:20260422T215649Z
UID:d613e6f1-9287-499e-a74c-2b87055b698a
DTSTART:20260504T080000
DTEND:20260507T090000
DESCRIPTION:
LOCATION:
SUMMARY:Spring Cleanup
END:VEVENT
BEGIN:VEVENT
DTSTAMP:20260422T215649Z
UID:742bf781-afea-413d-a1b9-9a652d3654e5
DTSTART:20260504T180000
DTEND:20260504T190000
DESCRIPTION:
LOCATION:
SUMMARY:Board of Alderman Regular Meeting
END:VEVENT
BEGIN:VEVENT
DTSTAMP:20260422T215649Z
UID:b0b65edc-1c55-4611-9f14-be079bf88166
DTSTART:20260506T080000
DTEND:20260506T163000
DESCRIPTION:
LOCATION:
SUMMARY:Bulk Trash Pickup
END:VEVENT
BEGIN:VEVENT
DTSTAMP:20260422T215649Z
UID:8cb349e0-81c0-4cfe-981a-579a804e55dd
DTSTART:20260512T163000
DTEND:20260512T173000
DESCRIPTION:
LOCATION:
SUMMARY:Police Committee Meeting
END:VEVENT
BEGIN:VEVENT
DTSTAMP:20260422T215649Z
UID:2a3790aa-078a-4a74-a916-49400ae7e290
DTSTART:20260512T173000
DTEND:20260512T180000
DESCRIPTION:
LOCATION:
SUMMARY:Special Events Committee Meeting 
END:VEVENT
BEGIN:VEVENT
DTSTAMP:20260422T215649Z
UID:65d6c6a0-3782-444a-898b-4fa6c8679be7
DTSTART:20260513T170000
DTEND:20260513T180000
DESCRIPTION:
LOCATION:
SUMMARY:Board of Adjustment- If Needed
END:VEVENT
BEGIN:VEVENT
DTSTAMP:20260422T215649Z
UID:42d13329-912e-4b54-8768-3285ac6f532d
DTSTART:20260520T080000
DTEND:20260520T090000
DESCRIPTION:
LOCATION:
SUMMARY:Economic Development Committee
END:VEVENT
BEGIN:VEVENT
DTSTAMP:20260422T215649Z
UID:2d120e94-cc04-4f7d-9afc-cb592612b23d
DTSTART:20260520T170000
DTEND:20260520T180000
DESCRIPTION:
LOCATION:
SUMMARY:Board of Alderman Work Session- If Needed
END:VEVENT
BEGIN:VEVENT
DTSTAMP:20260422T215649Z
UID:7e32ce0b-ab2e-4210-b215-0495f6888efd
DTSTART:20260525T080000
DTEND:20260525T163000
DESCRIPTION:
LOCATION:
SUMMARY:City Hall Closed- Memorial Day
END:VEVENT
BEGIN:VEVENT
DTSTAMP:20260422T215649Z
UID:7310fa66-9bf4-4ba9-a9c4-8d981eb20967
DTSTART:20260525T170000
DTEND:20260525T180000
DESCRIPTION:
LOCATION:
SUMMARY:Planning & Zoning Commission
END:VEVENT
BEGIN:VEVENT
DTSTAMP:20260422T215649Z
UID:f60cc2bf-4adb-42b5-a63e-498f4ae492ae
DTSTART:20260526T173000
DTEND:20260526T183000
DESCRIPTION:
LOCATION:
SUMMARY:Park Board
END:VEVENT
BEGIN:VEVENT
DTSTAMP:20260422T215649Z
UID:d554ecc4-e4b5-4ad2-921b-e3ac34c66594
DTSTART:20260602T180000
DTEND:20260602T190000
DESCRIPTION:
LOCATION:
SUMMARY:Board of Alderman Regular Meeting
END:VEVENT
BEGIN:VEVENT
DTSTAMP:20260422T215649Z
UID:c91b8c96-8d26-4a9f-b225-12e5cf4eb04c
DTSTART:20260606T100000
DTEND:20260606T180000
DESCRIPTION:
LOCATION:
SUMMARY:Summerfest 2026
END:VEVENT
BEGIN:VEVENT
DTSTAMP:20260422T215649Z
UID:b72165cc-55b3-4b0c-bbf9-d2842ff6a6e9
DTSTART:20260609T163000
DTEND:20260609T173000
DESCRIPTION:
LOCATION:
SUMMARY:Police Committee Meeting
END:VEVENT
BEGIN:VEVENT
DTSTAMP:20260422T215649Z
UID:31c498b5-4ee0-452b-84ed-f34b81438241
DTSTART:20260609T173000
DTEND:20260609T183000
DESCRIPTION:
LOCATION:
SUMMARY:Special Events Committee Meeting 
END:VEVENT
BEGIN:VEVENT
DTSTAMP:20260422T215649Z
UID:f8aee320-7101-483f-bc92-5ef0fda5d2da
DTSTART:20260610T170000
DTEND:20260610T180000
DESCRIPTION:
LOCATION:
SUMMARY:Board of Adjustment- If Needed
END:VEVENT
BEGIN:VEVENT
DTSTAMP:20260422T215649Z
UID:703361ab-304e-4f1a-9230-1dff1e2e2b96
DTSTART:20260617T080000
DTEND:20260617T090000
DESCRIPTION:
LOCATION:
SUMMARY:Economic Development Committee
END:VEVENT
BEGIN:VEVENT
DTSTAMP:20260422T215649Z
UID:ef5a004a-0ad2-45f0-8135-f313a4054559
DTSTART:20260617T170000
DTEND:20260617T180000
DESCRIPTION:
LOCATION:
SUMMARY:Board of Alderman Work Session- If Needed
END:VEVENT
BEGIN:VEVENT
DTSTAMP:20260422T215649Z
UID:10440bbd-d6b7-4970-9d41-9ff96a4b34c3
DTSTART:20260619T080000
DTEND:20260619T163000
DESCRIPTION:
LOCATION:
SUMMARY:City Hall Closed- Juneteenth
END:VEVENT
BEGIN:VEVENT
DTSTAMP:20260422T215649Z
UID:674c2f61-9e6a-4d1d-866a-6b3108a5d43c
DTSTART:20260622T170000
DTEND:20260622T180000
DESCRIPTION:
LOCATION:
SUMMARY:Planning & Zoning Commission
END:VEVENT
BEGIN:VEVENT
DTSTAMP:20260422T215649Z
UID:8957da09-3200-40cc-a48a-0569c3901ffc
DTSTART:20260623T173000
DTEND:20260623T183000
DESCRIPTION:
LOCATION:
SUMMARY:Park Board Meeting
END:VEVENT
BEGIN:VEVENT
DTSTAMP:20260422T215649Z
UID:8609b7ba-2ce0-4e37-9b5f-a6d560bb8c7f
DTSTART:20260702T210000
DTEND:20260702T220000
DESCRIPTION:
LOCATION:
SUMMARY:Annual Fireburst Event
END:VEVENT
BEGIN:VEVENT
DTSTAMP:20260422T215649Z
UID:922772cc-5879-495d-a3b7-96865957e3d6
DTSTART:20260703T080000
DTEND:20260703T163000
DESCRIPTION:
LOCATION:
SUMMARY:City Hall Closed- Independence Day
END:VEVENT
BEGIN:VEVENT
DTSTAMP:20260422T215649Z
UID:df91f351-f1bb-42ad-b4e4-bb003e59ca08
DTSTART:20260707T180000
DTEND:20260707T190000
DESCRIPTION:
LOCATION:
SUMMARY:Board of Alderman Regular Meeting
END:VEVENT
BEGIN:VEVENT
DTSTAMP:20260422T215649Z
UID:48b3daaa-da34-4eb4-a5c2-6729d4473b66
DTSTART:20260708T170000
DTEND:20260708T180000
DESCRIPTION:
LOCATION:
SUMMARY:Board of Adjustment- If Needed
END:VEVENT
BEGIN:VEVENT
DTSTAMP:20260422T215649Z
UID:6a3b5dc7-49ce-4925-9de1-397bbdb74939
DTSTART:20260714T163000
DTEND:20260714T173000
DESCRIPTION:
LOCATION:
SUMMARY:Police Committee Meeting
END:VEVENT
BEGIN:VEVENT
DTSTAMP:20260422T215649Z
UID:611e2bb4-74f3-4e21-9ca6-0eb5021dea2c
DTSTART:20260714T173000
DTEND:20260714T183000
DESCRIPTION:
LOCATION:
SUMMARY:Special Events Committee Meeting 
END:VEVENT
BEGIN:VEVENT
DTSTAMP:20260422T215649Z
UID:d73f066a-86a5-42c2-8832-c052f366c68e
DTSTART:20260715T080000
DTEND:20260715T090000
DESCRIPTION:
LOCATION:
SUMMARY:Economic Development Committee
END:VEVENT
BEGIN:VEVENT
DTSTAMP:20260422T215649Z
UID:0eab8eee-dd83-440f-8d85-48148303b20f
DTSTART:20260715T170000
DTEND:20260715T180000
DESCRIPTION:
LOCATION:
SUMMARY:Board of Alderman Work Session- If Needed
END:VEVENT
BEGIN:VEVENT
DTSTAMP:20260422T215649Z
UID:c95563d3-f5c6-42cf-905b-b4349cd64cef
DTSTART:20260727T170000
DTEND:20260727T180000
DESCRIPTION:
LOCATION:
SUMMARY:Planning & Zoning Commission
END:VEVENT
BEGIN:VEVENT
DTSTAMP:20260422T215649Z
UID:c9d86e2f-410a-4f2b-8f4e-5b2f47006d85
DTSTART:20260728T170000
DTEND:20260728T180000
DESCRIPTION:
LOCATION:
SUMMARY:Park Board Meeting
END:VEVENT
BEGIN:VEVENT
DTSTAMP:20260422T215649Z
UID:e595d4a5-3e44-46d7-8a23-c7197e12cd0b
DTSTART:20260804T180000
DTEND:20260804T190000
DESCRIPTION:
LOCATION:
SUMMARY:Board of Alderman Regular Meeting
END:VEVENT
BEGIN:VEVENT
DTSTAMP:20260422T215649Z
UID:67afe55a-f696-4819-8c58-7bd806e8e2c4
DTSTART:20260804T180000
DTEND:20260804T200000
DESCRIPTION:
LOCATION:
SUMMARY:KCPD NNO Neighborhood Grill Out 
END:VEVENT
BEGIN:VEVENT
DTSTAMP:20260422T215649Z
UID:43b2d4fc-b95f-4b65-8d94-8ffc4a98912d
DTSTART:20260811T163000
DTEND:20260811T173000
DESCRIPTION:
LOCATION:
SUMMARY:Police Committee Meeting
END:VEVENT
BEGIN:VEVENT
DTSTAMP:20260422T215649Z
UID:0af2d0a4-0366-48de-bf5a-531c1baec580
DTSTART:20260811T173000
DTEND:20260811T183000
DESCRIPTION:
LOCATION:
SUMMARY:Special Events Committee Meeting 
END:VEVENT
BEGIN:VEVENT
DTSTAMP:20260422T215649Z
UID:6cd3756d-a804-4e41-a7c1-0d7bc2a775e0
DTSTART:20260812T170000
DTEND:20260812T180000
DESCRIPTION:
LOCATION:
SUMMARY:Board of Adjustment- If Needed
END:VEVENT
BEGIN:VEVENT
DTSTAMP:20260422T215649Z
UID:e7f707bc-b0f4-401e-8049-23a5c127bd39
DTSTART:20260819T080000
DTEND:20260819T090000
DESCRIPTION:
LOCATION:
SUMMARY:Economic Development Committee
END:VEVENT
BEGIN:VEVENT
DTSTAMP:20260422T215649Z
UID:9f7c2e10-808e-4971-b801-33fc6f1eafc4
DTSTART:20260819T170000
DTEND:20260819T180000
DESCRIPTION:
LOCATION:
SUMMARY:Board of Alderman Work Session- If Needed
END:VEVENT
BEGIN:VEVENT
DTSTAMP:20260422T215649Z
UID:71443ae3-6521-4b56-8467-a2645359b9fd
DTSTART:20260824T170000
DTEND:20260824T180000
DESCRIPTION:
LOCATION:
SUMMARY:Planning & Zoning Commission
END:VEVENT
BEGIN:VEVENT
DTSTAMP:20260422T215649Z
UID:07b1ffd6-c546-49b5-a34c-17ca4e8b7b49
DTSTART:20260825T173000
DTEND:20260825T183000
DESCRIPTION:
LOCATION:
SUMMARY:Park Board Meeting
END:VEVENT
BEGIN:VEVENT
DTSTAMP:20260422T215649Z
UID:a417e9d1-5d50-434e-ae55-72ba81b2a7db
DTSTART:20260901T180000
DTEND:20260901T190000
DESCRIPTION:
LOCATION:
SUMMARY:Board of Alderman Regular Meeting
END:VEVENT
BEGIN:VEVENT
DTSTAMP:20260422T215649Z
UID:8f2a1beb-a572-4d75-9dd5-087c8f39a9a2
DTSTART:20260907T080000
DTEND:20260907T163000
DESCRIPTION:
LOCATION:
SUMMARY:City Hall Closed- Labor Day
END:VEVENT
BEGIN:VEVENT
DTSTAMP:20260422T215649Z
UID:edcb2ff9-5e33-493c-805d-5d5135fac5ba
DTSTART:20260908T163000
DTEND:20260908T173000
DESCRIPTION:
LOCATION:
SUMMARY:Police Committee Meeting
END:VEVENT
BEGIN:VEVENT
DTSTAMP:20260422T215649Z
UID:f2614708-07e6-404e-9534-da8b04f927ab
DTSTART:20260908T173000
DTEND:20260908T180000
DESCRIPTION:
LOCATION:
SUMMARY:Special Events Committee Meeting 
END:VEVENT
BEGIN:VEVENT
DTSTAMP:20260422T215649Z
UID:28cfbbb0-9d97-43d2-ac48-7f77506b9967
DTSTART:20260909T170000
DTEND:20260909T180000
DESCRIPTION:
LOCATION:
SUMMARY:Board of Adjustment- If Needed
END:VEVENT
BEGIN:VEVENT
DTSTAMP:20260422T215649Z
UID:cf4b3510-95e3-4f61-9609-a0c71f821eb9
DTSTART:20260916T080000
DTEND:20260916T090000
DESCRIPTION:
LOCATION:
SUMMARY:Economic Development Committee
END:VEVENT
BEGIN:VEVENT
DTSTAMP:20260422T215649Z
UID:f4699572-0e2d-47e2-b6e9-55ed2d56e4df
DTSTART:20260916T170000
DTEND:20260916T180000
DESCRIPTION:
LOCATION:
SUMMARY:Board of Alderman Work Session- If Needed
END:VEVENT
BEGIN:VEVENT
DTSTAMP:20260422T215649Z
UID:4755923e-6175-42ee-b178-0ee52c7ed863
DTSTART:20260922T173000
DTEND:20260922T183000
DESCRIPTION:
LOCATION:
SUMMARY:Park Board Meeting
END:VEVENT
BEGIN:VEVENT
DTSTAMP:20260422T215649Z
UID:b886ec9b-6e04-4368-a51a-afd88adaabe3
DTSTART:20260928T170000
DTEND:20260928T180000
DESCRIPTION:
LOCATION:
SUMMARY:Planning & Zoning Commission
END:VEVENT
BEGIN:VEVENT
DTSTAMP:20260422T215649Z
UID:46340b9e-1eaf-40d7-bd8d-36b846a06baa
DTSTART:20261006T170000
DTEND:20261006T200000
DESCRIPTION:
LOCATION:
SUMMARY:KCPD National Night Out
END:VEVENT
BEGIN:VEVENT
DTSTAMP:20260422T215649Z
UID:6f43f2c5-81d9-4caa-810f-293b908aa6d1
DTSTART:20261006T180000
DTEND:20261006T190000
DESCRIPTION:
LOCATION:
SUMMARY:Board of Alderman Regular Meeting
END:VEVENT
BEGIN:VEVENT
DTSTAMP:20260422T215649Z
UID:1ee0dc57-f5cb-4f06-8f96-5e05bb03229b
DTSTART:20261012T080000
DTEND:20261012T163000
DESCRIPTION:
LOCATION:
SUMMARY:City Hall Closed- Columbus Day
END:VEVENT
BEGIN:VEVENT
DTSTAMP:20260422T215649Z
UID:7bf7028d-4f5e-42c2-8ef1-e6ddd1078463
DTSTART:20261013T163000
DTEND:20261013T173000
DESCRIPTION:
LOCATION:
SUMMARY:Police Committee Meeting
END:VEVENT
BEGIN:VEVENT
DTSTAMP:20260422T215649Z
UID:d590f7e2-a598-4836-9d6f-e3363f8332ff
DTSTART:20261013T173000
DTEND:20261013T183000
DESCRIPTION:
LOCATION:
SUMMARY:Special Events Committee
END:VEVENT
BEGIN:VEVENT
DTSTAMP:20260422T215649Z
UID:77854853-8b72-47ac-ab1c-625747c557da
DTSTART:20261014T170000
DTEND:20261014T180000
DESCRIPTION:
LOCATION:
SUMMARY:Board of Adjustment- If Needed
END:VEVENT
BEGIN:VEVENT
DTSTAMP:20260422T215649Z
UID:c92b9d60-691e-4816-b170-383abf3fa607
DTSTART:20261021T080000
DTEND:20261021T090000
DESCRIPTION:
LOCATION:
SUMMARY:Economic Development Committee
END:VEVENT
BEGIN:VEVENT
DTSTAMP:20260422T215649Z
UID:485f302a-7bea-41fd-9a0a-75078ffb0b6c
DTSTART:20261021T170000
DTEND:20261021T180000
DESCRIPTION:
LOCATION:
SUMMARY:Board of Alderman Work Session- If Needed
END:VEVENT
BEGIN:VEVENT
DTSTAMP:20260422T215649Z
UID:b8b54b9e-c716-4151-b64a-2e2c145e12d2
DTSTART:20261026T170000
DTEND:20261026T180000
DESCRIPTION:
LOCATION:
SUMMARY:Planning & Zoning Commission
END:VEVENT
BEGIN:VEVENT
DTSTAMP:20260422T215649Z
UID:99ab99ac-f0ac-43d2-9133-2e46fb119d44
DTSTART:20261027T173000
DTEND:20261027T183000
DESCRIPTION:
LOCATION:
SUMMARY:Park Board Meeting
END:VEVENT
BEGIN:VEVENT
DTSTAMP:20260422T215649Z
UID:37f90756-c9a4-47d4-abd0-1eb207d34f52
DTSTART:20261027T180000
DTEND:20261027T193000
DESCRIPTION:
LOCATION:
SUMMARY:Reeds Spring School Trunk or Treat Event
END:VEVENT
BEGIN:VEVENT
DTSTAMP:20260422T215649Z
UID:2ef6d835-62af-4076-a457-21a340900dc3
DTSTART:20261103T180000
DTEND:20261103T190000
DESCRIPTION:
LOCATION:
SUMMARY:Board of Alderman Regular Meeting
END:VEVENT
BEGIN:VEVENT
DTSTAMP:20260422T215649Z
UID:7a34f297-55c6-4717-9971-4f5ef6549e68
DTSTART:20261110T163000
DTEND:20261110T173000
DESCRIPTION:
LOCATION:
SUMMARY:Police Committee Meeting
END:VEVENT
BEGIN:VEVENT
DTSTAMP:20260422T215649Z
UID:a19a4452-80ee-4dd7-bdbc-12167a3d61c6
DTSTART:20261110T173000
DTEND:20261110T183000
DESCRIPTION:
LOCATION:
SUMMARY:Special Events Committee Meeting 
END:VEVENT
BEGIN:VEVENT
DTSTAMP:20260422T215649Z
UID:ddac3dc7-74d1-4e5b-9e33-58adf8dbd28d
DTSTART:20261111T080000
DTEND:20261111T163000
DESCRIPTION:
LOCATION:
SUMMARY:City Hall Closed- Veterans Day
END:VEVENT
BEGIN:VEVENT
DTSTAMP:20260422T215649Z
UID:232ccd24-7c29-4e74-aa4f-0152b73a81dd
DTSTART:20261114T163000
DTEND:20261114T173000
DESCRIPTION:
LOCATION:
SUMMARY:Annual Tree Lighting Event
END:VEVENT
BEGIN:VEVENT
DTSTAMP:20260422T215649Z
UID:80895008-110e-42a1-b024-68dcd0e513c3
DTSTART:20261118T080000
DTEND:20261118T090000
DESCRIPTION:
LOCATION:
SUMMARY:Economic Development Committee
END:VEVENT
BEGIN:VEVENT
DTSTAMP:20260422T215649Z
UID:b4b0ce09-4a7c-480c-8203-cf181f70dfa4
DTSTART:20261118T170000
DTEND:20261118T180000
DESCRIPTION:
LOCATION:
SUMMARY:Board of Alderman Work Session- If Needed
END:VEVENT
BEGIN:VEVENT
DTSTAMP:20260422T215649Z
UID:7c8a359e-ba5d-4bb7-9eb7-d48d77ce4b96
DTSTART:20261123T170000
DTEND:20261123T180000
DESCRIPTION:
LOCATION:
SUMMARY:Planning & Zoning Commission
END:VEVENT
BEGIN:VEVENT
DTSTAMP:20260422T215649Z
UID:66f87fec-3c4f-443f-b2f6-448359ae5639
DTSTART:20261124T173000
DTEND:20261124T183000
DESCRIPTION:
LOCATION:
SUMMARY:Park Board Meeting
END:VEVENT
BEGIN:VEVENT
DTSTAMP:20260422T215649Z
UID:a3984aa1-9bc0-4a3e-9ead-081e7babffbd
DTSTART:20261126T080000
DTEND:20261127T163000
DESCRIPTION:
LOCATION:
SUMMARY:City Hall Closed- Thanksgiving
END:VEVENT
BEGIN:VEVENT
DTSTAMP:20260422T215649Z
UID:59b12960-876d-489b-a90a-fa4f252311d4
DTSTART:20261201T180000
DTEND:20261201T190000
DESCRIPTION:
LOCATION:
SUMMARY:Board of Alderman Regular Meeting
END:VEVENT
BEGIN:VEVENT
DTSTAMP:20260422T215649Z
UID:1008b5b9-988a-4dcc-a7f0-29e5f6bf07cc
DTSTART:20261205T100000
DTEND:20261205T120000
DESCRIPTION:
LOCATION:
SUMMARY:Annual Christmas Parade
END:VEVENT
BEGIN:VEVENT
DTSTAMP:20260422T215649Z
UID:583b0444-4067-4fc9-af5e-5cde30497213
DTSTART:20261208T163000
DTEND:20261208T173000
DESCRIPTION:
LOCATION:
SUMMARY:Police Committee Meeting
END:VEVENT
BEGIN:VEVENT
DTSTAMP:20260422T215649Z
UID:753c7c57-957a-45aa-84dd-3030526ef5ce
DTSTART:20261208T173000
DTEND:20261208T183000
DESCRIPTION:
LOCATION:
SUMMARY:Special Events Committee Meeting 
END:VEVENT
BEGIN:VEVENT
DTSTAMP:20260422T215649Z
UID:534df09d-369e-4541-9d5c-f892892b9635
DTSTART:20261209T170000
DTEND:20261209T180000
DESCRIPTION:
LOCATION:
SUMMARY:Board of Adjustment- If Needed
END:VEVENT
BEGIN:VEVENT
DTSTAMP:20260422T215649Z
UID:0c7c2e60-12fb-4f23-a727-c24143e6fb70
DTSTART:20261216T080000
DTEND:20261216T090000
DESCRIPTION:
LOCATION:
SUMMARY:Economic Development Committee
END:VEVENT
BEGIN:VEVENT
DTSTAMP:20260422T215649Z
UID:fa668e08-3849-4a71-9b3d-b8237284d87e
DTSTART:20261216T170000
DTEND:20261216T180000
DESCRIPTION:
LOCATION:
SUMMARY:Board of Alderman Work Session- If Needed
END:VEVENT
BEGIN:VEVENT
DTSTAMP:20260422T215649Z
UID:18523ae9-9f21-479f-9113-b7f83605de5d
DTSTART:20261222T173000
DTEND:20261222T183000
DESCRIPTION:
LOCATION:
SUMMARY:Park Board Meeting
END:VEVENT
BEGIN:VEVENT
DTSTAMP:20260422T215649Z
UID:70f22423-ffed-47f8-b5d9-15de73c26097
DTSTART:20261224T080000
DTEND:20261225T163000
DESCRIPTION:
LOCATION:
SUMMARY:City Hall Closed- Christmas
END:VEVENT
BEGIN:VEVENT
DTSTAMP:20260422T215649Z
UID:c887477a-cf11-4449-9ab8-d08054a23b03
DTSTART:20261228T170000
DTEND:20261228T173000
DESCRIPTION:
LOCATION:
SUMMARY:Planning & Zoning Commission
END:VEVENT
END:VCALENDAR
