BEGIN:VCALENDAR
VERSION:2.0
PRODID:icalendar-ruby
CALSCALE:GREGORIAN
BEGIN:VTIMEZONE
TZID:America/Chicago
BEGIN:DAYLIGHT
DTSTART:20260308T030000
TZOFFSETFROM:-0600
TZOFFSETTO:-0500
RRULE:FREQ=YEARLY;BYDAY=2SU;BYMONTH=3
TZNAME:CDT
END:DAYLIGHT
BEGIN:STANDARD
DTSTART:20261101T010000
TZOFFSETFROM:-0500
TZOFFSETTO:-0600
RRULE:FREQ=YEARLY;BYDAY=1SU;BYMONTH=11
TZNAME:CST
END:STANDARD
END:VTIMEZONE
BEGIN:VEVENT
DTSTAMP:20260424T024850Z
UID:46e9be61-ff75-4699-9de0-578234d68469
DTSTART:20260423T150000
DTEND:20260423T194500
DESCRIPTION:
LOCATION:
SUMMARY:JH T&F @ Rolla
END:VEVENT
BEGIN:VEVENT
DTSTAMP:20260424T024850Z
UID:e6a76458-a9a6-4b94-9b29-7012126b2c73
DTSTART:20260423T160000
DTEND:20260423T160000
DESCRIPTION:
LOCATION:
SUMMARY:Bsb @ Sublette
END:VEVENT
BEGIN:VEVENT
DTSTAMP:20260424T024850Z
UID:14e87c89-e9dc-4141-83bb-3fbee540fa32
DTSTART:20260424T150000
DTEND:20260424T150000
DESCRIPTION:
LOCATION:
SUMMARY:HS T&F @ Montezuma
END:VEVENT
BEGIN:VEVENT
DTSTAMP:20260424T024850Z
UID:c4861591-8444-486c-aa19-95afcddb8095
DTSTART:20260427T160000
DTEND:20260427T160000
DESCRIPTION:
LOCATION:
SUMMARY:Bsb @ Satanta
END:VEVENT
BEGIN:VEVENT
DTSTAMP:20260424T024850Z
UID:2062f88b-bcd4-47b7-9439-4d6ace3d2da9
DTSTART:20260428T150000
DTEND:20260428T150000
DESCRIPTION:
LOCATION:
SUMMARY:HS T&F @ Sublette
END:VEVENT
BEGIN:VEVENT
DTSTAMP:20260424T024850Z
UID:92aa47ca-041c-4f17-87a3-dad1c73f786d
DTSTART:20260428T160000
DTEND:20260428T160000
DESCRIPTION:
LOCATION:
SUMMARY:HS Sfb @ Johnson
END:VEVENT
BEGIN:VEVENT
DTSTAMP:20260424T024850Z
UID:1f6efdfd-1767-4b1e-9cdc-eb9594af9223
DTSTART:20260429T090000
DTEND:20260429T101500
DESCRIPTION:
LOCATION:
SUMMARY:Senior Recognition Assembly
END:VEVENT
BEGIN:VEVENT
DTSTAMP:20260424T024850Z
UID:936db6cb-cb40-4ad7-8f6d-a7e4f07e4ca7
DTSTART:20260429T183000
DTEND:20260429T201500
DESCRIPTION:
LOCATION:
SUMMARY:High School Awards Banquet
END:VEVENT
BEGIN:VEVENT
DTSTAMP:20260424T024850Z
UID:894dfd11-a319-4364-807b-365741ce9622
DTSTART:20260430T160000
DTEND:20260430T160000
DESCRIPTION:
LOCATION:
SUMMARY:Bsb @ Satanta
END:VEVENT
BEGIN:VEVENT
DTSTAMP:20260424T024850Z
UID:02cc30ca-a0f2-475a-81b1-01b9f58e83fe
DTSTART:20260430T160000
DTEND:20260430T160000
DESCRIPTION:
LOCATION:
SUMMARY:HS Sfb @ Hugoton
END:VEVENT
BEGIN:VEVENT
DTSTAMP:20260424T024850Z
UID:3dfd0761-5e3b-481e-a4b8-ebe79b19c381
DTSTART:20260501T080000
DTEND:20260501T090000
DESCRIPTION:<p>Starting at 8:00 AM with Seniors\, followed by Kindergartner
 s. </p>
LOCATION:High School Old Gym 
SUMMARY:Graduation Pictures for KG and Seniors
END:VEVENT
BEGIN:VEVENT
DTSTAMP:20260424T024850Z
UID:5d0a759a-88cd-4179-9fdf-016df09d6dd9
DTSTART:20260501T090000
DTEND:20260501T090000
DESCRIPTION:
LOCATION:
SUMMARY:JH T&F @ Hugoton
END:VEVENT
BEGIN:VEVENT
DTSTAMP:20260424T024850Z
UID:4c419493-7f35-4f02-8228-ead7908de884
DTSTART:20260501T150000
DTEND:20260501T150000
DESCRIPTION:
LOCATION:
SUMMARY:HS T&F @ Hugoton
END:VEVENT
BEGIN:VEVENT
DTSTAMP:20260424T024850Z
UID:7cc46670-dcce-4ad3-94e4-ee5435d1fe58
DTSTART;VALUE=DATE:20260502
DTEND;VALUE=DATE:20260503
DESCRIPTION:
LOCATION:
SUMMARY:State Forensics
END:VEVENT
BEGIN:VEVENT
DTSTAMP:20260424T024850Z
UID:1578b35f-eb91-4a35-91e8-b5df77aea5b9
DTSTART:20260503T140000
DTEND:20260503T150000
DESCRIPTION:
LOCATION:
SUMMARY:High School Graduation 
END:VEVENT
BEGIN:VEVENT
DTSTAMP:20260424T024850Z
UID:82d2adcc-39c4-4f80-9d57-ffd4b6e37037
DTSTART:20260504T160000
DTEND:20260504T160000
DESCRIPTION:
LOCATION:
SUMMARY:Bsb @ Kinsley
END:VEVENT
BEGIN:VEVENT
DTSTAMP:20260424T024850Z
UID:3a970544-3bf5-4217-966b-96941c19cb9a
DTSTART:20260505T100000
DTEND:20260505T100000
DESCRIPTION:
LOCATION:
SUMMARY:HS T&F @ Jetmore
END:VEVENT
BEGIN:VEVENT
DTSTAMP:20260424T024850Z
UID:43623551-88bb-4553-a258-8b2873f87d59
DTSTART:20260505T130000
DTEND:20260505T130000
DESCRIPTION:
LOCATION:
SUMMARY:JH T&F @ Sublette
END:VEVENT
BEGIN:VEVENT
DTSTAMP:20260424T024850Z
UID:053f98ef-9e44-48d0-bd48-167b04fa1bcc
DTSTART:20260505T160000
DTEND:20260505T160000
DESCRIPTION:
LOCATION:
SUMMARY:HS Sfb @ Ingalls
END:VEVENT
BEGIN:VEVENT
DTSTAMP:20260424T024850Z
UID:043b4d20-8b14-4334-9020-ddc00fd2ae21
DTSTART:20260507T180000
DTEND:20260507T190000
DESCRIPTION:
LOCATION:
SUMMARY:Grade School Awards and Concert 
END:VEVENT
BEGIN:VEVENT
DTSTAMP:20260424T024850Z
UID:012924a8-5032-4989-83dc-b456b4c023cf
DTSTART:20260507T190000
DTEND:20260507T200000
DESCRIPTION:
LOCATION:Ida Shriver Auditorium 
SUMMARY:JH Awards will follow GS Concert at approximately 7:00 PM
END:VEVENT
BEGIN:VEVENT
DTSTAMP:20260424T024850Z
UID:6f697577-a311-4bca-9dcc-da0d5effbd57
DTSTART:20260508T113000
DTEND:20260508T233500
DESCRIPTION:
LOCATION:
SUMMARY:Last Day of School. Early release for students at 11:30 - Inservice
  PM
END:VEVENT
BEGIN:VEVENT
DTSTAMP:20260424T024850Z
UID:a2de98e2-c84a-434f-9e49-fe3ddb0ed912
DTSTART:20260508T150000
DTEND:20260508T150000
DESCRIPTION:
LOCATION:
SUMMARY:HS T&F @ Bucklin
END:VEVENT
BEGIN:VEVENT
DTSTAMP:20260424T024850Z
UID:c07059bc-e938-4128-a0df-c63a20b9e208
DTSTART:20260508T160000
DTEND:20260508T160000
DESCRIPTION:
LOCATION:
SUMMARY:Bsb @ SWH
END:VEVENT
BEGIN:VEVENT
DTSTAMP:20260424T024850Z
UID:a6d6b648-e0a1-40eb-b583-058ae5b939f4
DTSTART:20260508T160000
DTEND:20260508T160000
DESCRIPTION:
LOCATION:
SUMMARY:HS Sfb @ Hugoton
END:VEVENT
BEGIN:VEVENT
DTSTAMP:20260424T024850Z
UID:fe211767-9428-4c04-9c97-18cbebc5f5c9
DTSTART:20260511T080000
DTEND:20260511T090000
DESCRIPTION:
LOCATION:
SUMMARY:Staff PD (if needed)
END:VEVENT
BEGIN:VEVENT
DTSTAMP:20260424T024850Z
UID:5ab4fd8d-2b85-4e80-9409-a165564b7a7b
DTSTART:20260511T080000
DTEND:20260612T090000
DESCRIPTION:
LOCATION:
SUMMARY:Summer School
END:VEVENT
BEGIN:VEVENT
DTSTAMP:20260424T024850Z
UID:9755e83c-4273-4c6b-859d-5001cf68af93
DTSTART;VALUE=DATE:20260513
DTEND;VALUE=DATE:20260514
DESCRIPTION:
LOCATION:
SUMMARY:HS Bsb Regionals
END:VEVENT
BEGIN:VEVENT
DTSTAMP:20260424T024850Z
UID:a220b381-06a1-4ad2-8a1e-23f976acd4d0
DTSTART:20260513T100000
DTEND:20260513T100000
DESCRIPTION:
LOCATION:
SUMMARY:JH & HS T&F @ Garden City (SFTL)
END:VEVENT
BEGIN:VEVENT
DTSTAMP:20260424T024850Z
UID:b143392e-2392-4396-9780-120fde334859
DTSTART;VALUE=DATE:20260514
DTEND;VALUE=DATE:20260515
DESCRIPTION:
LOCATION:
SUMMARY:HS Bsb Regionals
END:VEVENT
BEGIN:VEVENT
DTSTAMP:20260424T024850Z
UID:cb8eaae8-b33b-4f46-a7a0-4f77c36c281b
DTSTART;VALUE=DATE:20260518
DTEND;VALUE=DATE:20260519
DESCRIPTION:
LOCATION:
SUMMARY:HS Sfb Regional (or tomorrow)
END:VEVENT
BEGIN:VEVENT
DTSTAMP:20260424T024850Z
UID:f84404b4-de9e-4167-abfb-18a1461d25ab
DTSTART;VALUE=DATE:20260519
DTEND;VALUE=DATE:20260520
DESCRIPTION:
LOCATION:
SUMMARY:HS Sfb Regional (or yesterday)
END:VEVENT
BEGIN:VEVENT
DTSTAMP:20260424T024850Z
UID:bb4660a9-93de-428d-9489-5157456f7ff9
DTSTART;VALUE=DATE:20260521
DTEND;VALUE=DATE:20260522
DESCRIPTION:
LOCATION:
SUMMARY:HS T&F @ Regionals (or tomorrow)
END:VEVENT
BEGIN:VEVENT
DTSTAMP:20260424T024850Z
UID:e737cd3d-0838-4869-9395-4161f73c392c
DTSTART;VALUE=DATE:20260522
DTEND;VALUE=DATE:20260523
DESCRIPTION:
LOCATION:
SUMMARY:HS T&F @ Regionals (or yesterday)
END:VEVENT
END:VCALENDAR
