BEGIN:VCALENDAR
VERSION:2.0
PRODID:icalendar-ruby
CALSCALE:GREGORIAN
BEGIN:VTIMEZONE
TZID:America/Chicago
BEGIN:DAYLIGHT
DTSTART:20260308T030000
TZOFFSETFROM:-0600
TZOFFSETTO:-0500
RRULE:FREQ=YEARLY;BYDAY=2SU;BYMONTH=3
TZNAME:CDT
END:DAYLIGHT
BEGIN:STANDARD
DTSTART:20261101T010000
TZOFFSETFROM:-0500
TZOFFSETTO:-0600
RRULE:FREQ=YEARLY;BYDAY=1SU;BYMONTH=11
TZNAME:CST
END:STANDARD
END:VTIMEZONE
BEGIN:VEVENT
DTSTAMP:20260425T113804Z
UID:2e88d90c-0507-4440-a0a7-c4c0fbb8860c
DTSTART:20260425T190000
DTEND:20260425T220000
DESCRIPTION:https://tahlequahschools.gofmx.com/scheduling/requests/2647460/
 occurrences/8134513
LOCATION:591 Pendleton\nTahlequah\, OK 74464
SUMMARY:THS Junior/Senior Prom @ NSU Ballroom
END:VEVENT
BEGIN:VEVENT
DTSTAMP:20260425T113804Z
UID:17dc25ef-2d43-4769-9512-218e4f170537
DTSTART:20260427T083000
DTEND:20260427T143000
DESCRIPTION:https://tahlequahschools.gofmx.com/scheduling/requests/2758231/
 occurrences/9113669
LOCATION:591 Pendleton\nTahlequah\, OK 74464
SUMMARY:THS Art Show
END:VEVENT
BEGIN:VEVENT
DTSTAMP:20260425T113804Z
UID:673229cb-c242-4645-b128-63117a4a499e
DTSTART:20260427T151500
DTEND:20260427T161500
DESCRIPTION:https://tahlequahschools.gofmx.com/scheduling/requests/2757833/
 occurrences/9112339
LOCATION:591 Pendleton\nTahlequah\, OK 74464
SUMMARY:Academic Team Tryouts
END:VEVENT
BEGIN:VEVENT
DTSTAMP:20260425T113804Z
UID:5575ff38-602d-442f-9a9b-8978cd49b30c
DTSTART:20260428T083000
DTEND:20260428T143000
DESCRIPTION:https://tahlequahschools.gofmx.com/scheduling/requests/2758231/
 occurrences/9113670
LOCATION:591 Pendleton\nTahlequah\, OK 74464
SUMMARY:THS Art Show
END:VEVENT
BEGIN:VEVENT
DTSTAMP:20260425T113804Z
UID:ce98a566-b928-496f-b00a-7a26e812d631
DTSTART:20260428T173000
DTEND:20260428T200000
DESCRIPTION:https://tahlequahschools.gofmx.com/scheduling/requests/2810549/
 occurrences/9572611
LOCATION:591 Pendleton\nTahlequah\, OK 74464
SUMMARY:THS Spring Art Show Awards
END:VEVENT
BEGIN:VEVENT
DTSTAMP:20260425T113804Z
UID:870c1e43-e4b5-4e22-9e13-b6689cbd6c37
DTSTART:20260429T081500
DTEND:20260429T140000
DESCRIPTION:https://tahlequahschools.gofmx.com/scheduling/requests/2724562/
 occurrences/9047774
LOCATION:591 Pendleton\nTahlequah\, OK 74464
SUMMARY:Market Day Shopping Field Trip
END:VEVENT
BEGIN:VEVENT
DTSTAMP:20260425T113804Z
UID:4f5bda23-dcdc-4735-a697-7b5ec179731c
DTSTART:20260429T083000
DTEND:20260429T143000
DESCRIPTION:https://tahlequahschools.gofmx.com/scheduling/requests/2758231/
 occurrences/9113671
LOCATION:591 Pendleton\nTahlequah\, OK 74464
SUMMARY:THS Art Show
END:VEVENT
BEGIN:VEVENT
DTSTAMP:20260425T113804Z
UID:d1d8adca-76d6-4982-96ba-e6e544fe0d69
DTSTART:20260429T090000
DTEND:20260429T100000
DESCRIPTION:https://tahlequahschools.gofmx.com/scheduling/requests/2759193/
 occurrences/9116646
LOCATION:591 Pendleton\nTahlequah\, OK 74464
SUMMARY:THS Awards Assembly (9th & 10th Grade)
END:VEVENT
BEGIN:VEVENT
DTSTAMP:20260425T113804Z
UID:23b670b8-4679-452c-9b84-5f7a1e5b6c33
DTSTART:20260429T123000
DTEND:20260429T140000
DESCRIPTION:https://tahlequahschools.gofmx.com/scheduling/requests/2759198/
 occurrences/9116691
LOCATION:591 Pendleton\nTahlequah\, OK 74464
SUMMARY:THS Awards Assembly (11th & 12th Grade)
END:VEVENT
BEGIN:VEVENT
DTSTAMP:20260425T113804Z
UID:4d980ec0-57ed-4e89-bb3a-c47740732430
DTSTART:20260430T083000
DTEND:20260430T143000
DESCRIPTION:https://tahlequahschools.gofmx.com/scheduling/requests/2758231/
 occurrences/9113672
LOCATION:591 Pendleton\nTahlequah\, OK 74464
SUMMARY:THS Art Show
END:VEVENT
BEGIN:VEVENT
DTSTAMP:20260425T113804Z
UID:8aa71587-5780-45e4-952b-fdee68a309c1
DTSTART:20260430T173000
DTEND:20260430T203000
DESCRIPTION:https://tahlequahschools.gofmx.com/scheduling/requests/2758248/
 occurrences/9113722
LOCATION:591 Pendleton\nTahlequah\, OK 74464
SUMMARY:THS Jazz Groups Concert
END:VEVENT
BEGIN:VEVENT
DTSTAMP:20260425T113804Z
UID:1381b4c1-3a4f-4df0-84c6-16aeef875944
DTSTART:20260501T083000
DTEND:20260501T143000
DESCRIPTION:https://tahlequahschools.gofmx.com/scheduling/requests/2758231/
 occurrences/9113673
LOCATION:591 Pendleton\nTahlequah\, OK 74464
SUMMARY:THS Art Show
END:VEVENT
BEGIN:VEVENT
DTSTAMP:20260425T113804Z
UID:818a4f80-e755-425f-a936-09ddbff6c596
DTSTART:20260501T180000
DTEND:20260501T200000
DESCRIPTION:https://tahlequahschools.gofmx.com/scheduling/requests/2812096/
 occurrences/9578176
LOCATION:THS Kitchen (Tahlequah High School\, Child Nutrition Kitchen)
SUMMARY:JROTC Banquet
END:VEVENT
BEGIN:VEVENT
DTSTAMP:20260425T113804Z
UID:8b99aa14-f213-42df-83eb-6eb863d4054b
DTSTART:20260502T100000
DTEND:20260502T190000
DESCRIPTION:https://tahlequahschools.gofmx.com/scheduling/requests/2693611/
 occurrences/8594163
LOCATION:591 Pendleton\nTahlequah\, OK 74464
SUMMARY:Mountain Movers Dance Recital
END:VEVENT
BEGIN:VEVENT
DTSTAMP:20260425T113804Z
UID:73c01a4f-58b2-420f-bc2c-a20ae51eb664
DTSTART:20260505T170000
DTEND:20260505T200000
DESCRIPTION:https://tahlequahschools.gofmx.com/scheduling/requests/2810516/
 occurrences/9572549
LOCATION:591 Pendleton\nTahlequah\, OK 74464
SUMMARY:TMS Choir Spring Concert
END:VEVENT
BEGIN:VEVENT
DTSTAMP:20260425T113804Z
UID:06a224a7-2931-4531-823d-67f07627c8b7
DTSTART:20260505T180000
DTEND:20260505T200000
DESCRIPTION:https://tahlequahschools.gofmx.com/scheduling/requests/2817009/
 occurrences/9683039
LOCATION:THS Kitchen (Tahlequah High School\, Child Nutrition Kitchen)
SUMMARY:Band Banquet
END:VEVENT
BEGIN:VEVENT
DTSTAMP:20260425T113804Z
UID:16968022-768b-43cc-8471-e2972661f576
DTSTART:20260506T130000
DTEND:20260506T160000
DESCRIPTION:https://tahlequahschools.gofmx.com/scheduling/requests/2810672/
 occurrences/9572756
LOCATION:TMAC-Floor and Bleachers (TMAC)
SUMMARY:ATH - Athletic Physicals for Grades 6-11
END:VEVENT
BEGIN:VEVENT
DTSTAMP:20260425T113804Z
UID:b02e78cc-9d0e-4dc6-aabc-353f6699f38d
DTSTART:20260507T180000
DTEND:20260507T200000
DESCRIPTION:https://tahlequahschools.gofmx.com/scheduling/requests/2810550/
 occurrences/9572612
LOCATION:591 Pendleton\nTahlequah\, OK 74464
SUMMARY:THS Choir Spring Concert
END:VEVENT
BEGIN:VEVENT
DTSTAMP:20260425T113804Z
UID:38fd1c94-cb94-4b2e-973f-2f2cb862c263
DTSTART:20260509T100000
DTEND:20260509T210000
DESCRIPTION:https://tahlequahschools.gofmx.com/scheduling/requests/2751388/
 occurrences/9092477
LOCATION:591 Pendleton\nTahlequah\, OK 74464
SUMMARY:Academy of Performing Arts Dance Recital
END:VEVENT
BEGIN:VEVENT
DTSTAMP:20260425T113804Z
UID:21da2e45-37b4-43a8-8aa7-40a23e1587b7
DTSTART:20260512T180000
DTEND:20260512T200000
DESCRIPTION:https://tahlequahschools.gofmx.com/scheduling/requests/2810553/
 occurrences/9572617
LOCATION:591 Pendleton\nTahlequah\, OK 74464
SUMMARY:THS Choir Spring Sing
END:VEVENT
BEGIN:VEVENT
DTSTAMP:20260425T113804Z
UID:88884dc1-9e1a-4df3-945e-a67ab3ec5f0b
DTSTART:20260514T170000
DTEND:20260514T190000
DESCRIPTION:https://tahlequahschools.gofmx.com/scheduling/requests/2819669/
 occurrences/9690006
LOCATION:591 Pendleton\nTahlequah\, OK 74464
SUMMARY:NJHS Induction
END:VEVENT
BEGIN:VEVENT
DTSTAMP:20260425T113804Z
UID:e3f279b2-d6f0-4d0d-ba17-edb04286f56d
DTSTART:20260523T120000
DTEND:20260523T190000
DESCRIPTION:https://tahlequahschools.gofmx.com/scheduling/requests/2815677/
 occurrences/9679618
LOCATION:591 Pendleton\nTahlequah\, OK 74464
SUMMARY:On Stage Dance Studio - Recital
END:VEVENT
BEGIN:VEVENT
DTSTAMP:20260425T113804Z
UID:54143fd0-9273-4934-8dc6-eebed392a2b8
DTSTART:20260613T071500
DTEND:20260613T140000
DESCRIPTION:https://tahlequahschools.gofmx.com/scheduling/requests/2639358/
 occurrences/8025611
LOCATION:591 Pendleton\nTahlequah\, OK 74464
SUMMARY:ACT
END:VEVENT
BEGIN:VEVENT
DTSTAMP:20260425T113804Z
UID:cea18cc7-e088-401b-aff0-58f002fb7d4b
DTSTART:20260711T071500
DTEND:20260711T140000
DESCRIPTION:https://tahlequahschools.gofmx.com/scheduling/requests/2639358/
 occurrences/8025612
LOCATION:591 Pendleton\nTahlequah\, OK 74464
SUMMARY:ACT
END:VEVENT
BEGIN:VEVENT
DTSTAMP:20260425T113804Z
UID:8eeb17c9-9bd1-4fb0-80f9-46e524830d16
DTSTART:20270128T080000
DTEND:20270128T170000
DESCRIPTION:https://tahlequahschools.gofmx.com/scheduling/requests/2819629/
 occurrences/9689917
LOCATION:591 Pendleton\nTahlequah\, OK 74464
SUMMARY:2027 Circle the State With Song
END:VEVENT
END:VCALENDAR
