BEGIN:VCALENDAR
VERSION:2.0
PRODID:icalendar-ruby
CALSCALE:GREGORIAN
BEGIN:VTIMEZONE
TZID:America/Chicago
BEGIN:DAYLIGHT
DTSTART:20260308T030000
TZOFFSETFROM:-0600
TZOFFSETTO:-0500
RRULE:FREQ=YEARLY;BYDAY=2SU;BYMONTH=3
TZNAME:CDT
END:DAYLIGHT
BEGIN:STANDARD
DTSTART:20261101T010000
TZOFFSETFROM:-0500
TZOFFSETTO:-0600
RRULE:FREQ=YEARLY;BYDAY=1SU;BYMONTH=11
TZNAME:CST
END:STANDARD
END:VTIMEZONE
BEGIN:VEVENT
DTSTAMP:20260425T113539Z
UID:1be081f4-554c-44b1-949c-866d5c49b0a0
DTSTART:20260512T081500
DTEND:20260512T091500
DESCRIPTION:https://tahlequahschools.gofmx.com/scheduling/requests/2768588/
 occurrences/9425056
LOCATION:871 Pendleton\nTahlequah\, OK 74464
SUMMARY:7th Grade Awards Assembly
END:VEVENT
BEGIN:VEVENT
DTSTAMP:20260425T113539Z
UID:902349ab-5571-487d-82cc-a36bdbb73ccd
DTSTART:20260512T093000
DTEND:20260512T103000
DESCRIPTION:https://tahlequahschools.gofmx.com/scheduling/requests/2768587/
 occurrences/9425055
LOCATION:871 Pendleton\nTahlequah\, OK 74464
SUMMARY:6th Grade Awards Assembly
END:VEVENT
BEGIN:VEVENT
DTSTAMP:20260425T113539Z
UID:9d9fb1fb-4e9f-44e5-ad42-3da01ce30e20
DTSTART:20260513T090000
DTEND:20260513T100000
DESCRIPTION:https://tahlequahschools.gofmx.com/scheduling/requests/2759335/
 occurrences/9116915
LOCATION:871 Pendleton\nTahlequah\, OK 74464
SUMMARY:8th Grade Awards Assembly
END:VEVENT
BEGIN:VEVENT
DTSTAMP:20260425T113539Z
UID:b5aa0a97-f907-4732-86c9-5a39a3edefed
DTSTART:20260515T100000
DTEND:20260515T110000
DESCRIPTION:https://tahlequahschools.gofmx.com/scheduling/requests/2676685/
 occurrences/8342217
LOCATION:871 Pendleton\nTahlequah\, OK 74464
SUMMARY:Report Cards Go Home
END:VEVENT
END:VCALENDAR
