BEGIN:VCALENDAR
VERSION:2.0
PRODID:icalendar-ruby
CALSCALE:GREGORIAN
BEGIN:VTIMEZONE
TZID:America/Chicago
BEGIN:DAYLIGHT
DTSTART:20260308T030000
TZOFFSETFROM:-0600
TZOFFSETTO:-0500
RRULE:FREQ=YEARLY;BYDAY=2SU;BYMONTH=3
TZNAME:CDT
END:DAYLIGHT
BEGIN:STANDARD
DTSTART:20261101T010000
TZOFFSETFROM:-0500
TZOFFSETTO:-0600
RRULE:FREQ=YEARLY;BYDAY=1SU;BYMONTH=11
TZNAME:CST
END:STANDARD
END:VTIMEZONE
BEGIN:VEVENT
DTSTAMP:20260425T113921Z
UID:1c83d02e-88b0-449d-906e-8fbbc06ccc0b
DTSTART:20260428T083000
DTEND:20260428T144500
DESCRIPTION:https://tahlequahschools.gofmx.com/scheduling/requests/2766812/
 occurrences/9328787
LOCATION:Away and Heritage
SUMMARY:HER-4TH GRADE FIELD TRIP TULSA DRILLERS
END:VEVENT
BEGIN:VEVENT
DTSTAMP:20260425T113921Z
UID:2ede29e1-adc7-4071-8c53-49df31dcab0a
DTSTART:20260428T083000
DTEND:20260428T130000
DESCRIPTION:https://tahlequahschools.gofmx.com/scheduling/requests/2756148/
 occurrences/9108051
LOCATION:333 Southridge Rd.\nTahlequah\, OK 74464
SUMMARY:HER-5TH GRADE STATE TESTING
END:VEVENT
BEGIN:VEVENT
DTSTAMP:20260425T113921Z
UID:70f0df5d-92f8-429e-a38f-5fc7e69d06ca
DTSTART:20260428T090000
DTEND:20260428T144500
DESCRIPTION:https://tahlequahschools.gofmx.com/scheduling/requests/2810939/
 occurrences/9573727
LOCATION:Away and Heritage
SUMMARY:Canceled: HER-4TH GRADE FIELD TRIP TULSA DRILLERS
END:VEVENT
BEGIN:VEVENT
DTSTAMP:20260425T113921Z
UID:07257f81-252a-4152-9dcb-51d48835bb08
DTSTART:20260429T083000
DTEND:20260429T130000
DESCRIPTION:https://tahlequahschools.gofmx.com/scheduling/requests/2756149/
 occurrences/9108052
LOCATION:333 Southridge Rd.\nTahlequah\, OK 74464
SUMMARY:HER-5TH GRADE STATE TESTING
END:VEVENT
BEGIN:VEVENT
DTSTAMP:20260425T113921Z
UID:b8f8d751-ffe9-43e0-9f53-3abc12d79c73
DTSTART:20260430T083000
DTEND:20260430T130000
DESCRIPTION:https://tahlequahschools.gofmx.com/scheduling/requests/2756151/
 occurrences/9108054
LOCATION:333 Southridge Rd.\nTahlequah\, OK 74464
SUMMARY:HER-4TH GRADE STATE TESTING
END:VEVENT
BEGIN:VEVENT
DTSTAMP:20260425T113921Z
UID:34ddca73-33f4-4b04-9b4f-cc373a6a2b9c
DTSTART:20260501T104500
DTEND:20260501T130000
DESCRIPTION:https://tahlequahschools.gofmx.com/scheduling/requests/2811000/
 occurrences/9573968
LOCATION:333 Southridge Rd.\nTahlequah\, OK 74464
SUMMARY:HER-TIGER STORE
END:VEVENT
BEGIN:VEVENT
DTSTAMP:20260425T113921Z
UID:f4b2d7bd-8d5c-439c-ba9c-692925de15ad
DTSTART:20260504T083000
DTEND:20260504T144500
DESCRIPTION:https://tahlequahschools.gofmx.com/scheduling/requests/2811001/
 occurrences/9573969
LOCATION:Away and Heritage
SUMMARY:HER-1ST AND 2ND GRADE TRACK MEET
END:VEVENT
BEGIN:VEVENT
DTSTAMP:20260425T113921Z
UID:588c40cd-a0eb-4960-806e-e81317eba3fc
DTSTART:20260505T083000
DTEND:20260505T144500
DESCRIPTION:https://tahlequahschools.gofmx.com/scheduling/requests/2811066/
 occurrences/9574153
LOCATION:Away and Heritage
SUMMARY:HER- 3RD AND 4TH GRADE TRACK MEET AT THS
END:VEVENT
BEGIN:VEVENT
DTSTAMP:20260425T113921Z
UID:b0a6cbec-4a73-4864-b6c0-06b52a643bdf
DTSTART:20260506T090000
DTEND:20260506T100000
DESCRIPTION:https://tahlequahschools.gofmx.com/scheduling/requests/2811003/
 occurrences/9573971
LOCATION:333 Southridge Rd.\nTahlequah\, OK 74464
SUMMARY:HER-PRE-K SIGNING DAY
END:VEVENT
BEGIN:VEVENT
DTSTAMP:20260425T113921Z
UID:1c5896c3-d292-4d12-a431-c5a13643c033
DTSTART:20260507T083000
DTEND:20260507T140000
DESCRIPTION:https://tahlequahschools.gofmx.com/scheduling/requests/2815593/
 occurrences/9679443
LOCATION:Away and Heritage
SUMMARY:HER-3RD GRADE RISE STUDENTS ONLY TO THE THOMPSON HOUSE
END:VEVENT
BEGIN:VEVENT
DTSTAMP:20260425T113921Z
UID:dbc7e40f-0452-419f-999a-0d9bb83849bd
DTSTART:20260507T083000
DTEND:20260507T093000
DESCRIPTION:https://tahlequahschools.gofmx.com/scheduling/requests/2810941/
 occurrences/9573729
LOCATION:Away and Heritage
SUMMARY:HER-5TH GRADE TOUR OF THE MIDDLE SCHOOL
END:VEVENT
BEGIN:VEVENT
DTSTAMP:20260425T113921Z
UID:f10f740e-68fd-44ac-9a15-c97a4d60271b
DTSTART:20260507T173000
DTEND:20260507T193000
DESCRIPTION:https://tahlequahschools.gofmx.com/scheduling/requests/2767014/
 occurrences/9330223
LOCATION:Away
SUMMARY:HER-HOUSE OF REVEUR FAMILY SKATE NIGHT
END:VEVENT
BEGIN:VEVENT
DTSTAMP:20260425T113921Z
UID:b6e76216-e246-484b-b8e9-5b6e121d4978
DTSTART:20260508T140000
DTEND:20260508T144500
DESCRIPTION:https://tahlequahschools.gofmx.com/scheduling/requests/2811004/
 occurrences/9573972
LOCATION:333 Southridge Rd.\nTahlequah\, OK 74464
SUMMARY:HER-HOUSE MEETINGS
END:VEVENT
BEGIN:VEVENT
DTSTAMP:20260425T113921Z
UID:071e9eb3-b6ba-4b4e-87eb-406403581111
DTSTART:20260512T083000
DTEND:20260512T144500
DESCRIPTION:https://tahlequahschools.gofmx.com/scheduling/requests/2811006/
 occurrences/9573977
LOCATION:333 Southridge Rd.\nTahlequah\, OK 74464
SUMMARY:HER-FIELD DAY
END:VEVENT
BEGIN:VEVENT
DTSTAMP:20260425T113921Z
UID:f1bdd096-c56c-4b9e-a63b-953b0c66e11d
DTSTART:20260513T083000
DTEND:20260513T144500
DESCRIPTION:https://tahlequahschools.gofmx.com/scheduling/requests/2810940/
 occurrences/9573728
LOCATION:Away and Heritage
SUMMARY:HER-KINDERGARTEN FUN DAY HULBERT SPLASH PAD
END:VEVENT
BEGIN:VEVENT
DTSTAMP:20260425T113921Z
UID:33d73cac-8810-4b08-8e38-1b1b8fbddb36
DTSTART:20260514T140000
DTEND:20260514T144500
DESCRIPTION:https://tahlequahschools.gofmx.com/scheduling/requests/2811007/
 occurrences/9573978
LOCATION:333 Southridge Rd.\nTahlequah\, OK 74464
SUMMARY:HER-HOUSE SPIRIT DAY ASSEMBLY
END:VEVENT
BEGIN:VEVENT
DTSTAMP:20260425T113921Z
UID:8780bb51-fe80-4acb-a41f-91140e1e496e
DTSTART:20260515T083000
DTEND:20260515T093000
DESCRIPTION:https://tahlequahschools.gofmx.com/scheduling/requests/2811009/
 occurrences/9573980
LOCATION:333 Southridge Rd.\nTahlequah\, OK 74464
SUMMARY:HER-SENIOR WALK THROUGH DAY
END:VEVENT
BEGIN:VEVENT
DTSTAMP:20260425T113921Z
UID:cca9126c-9292-44d1-820c-570741776c19
DTSTART:20260515T090000
DTEND:20260515T130000
DESCRIPTION:https://tahlequahschools.gofmx.com/scheduling/requests/2811014/
 occurrences/9573985
LOCATION:333 Southridge Rd.\nTahlequah\, OK 74464
SUMMARY:HER-5TH GRADE KICK BALL AND WALK OUT DAY
END:VEVENT
BEGIN:VEVENT
DTSTAMP:20260425T113921Z
UID:8af15047-59be-4426-aeea-fa0e0f40513c
DTSTART:20260515T153000
DTEND:20260515T173000
DESCRIPTION:https://tahlequahschools.gofmx.com/scheduling/requests/2811010/
 occurrences/9573981
LOCATION:333 Southridge Rd.\nTahlequah\, OK 74464
SUMMARY:HER-LAST DAY FOR BOYS AND GIRLS CLUB
END:VEVENT
END:VCALENDAR
