BEGIN:VCALENDAR
VERSION:2.0
PRODID:icalendar-ruby
CALSCALE:GREGORIAN
BEGIN:VTIMEZONE
TZID:America/Chicago
BEGIN:DAYLIGHT
DTSTART:20260308T030000
TZOFFSETFROM:-0600
TZOFFSETTO:-0500
RRULE:FREQ=YEARLY;BYDAY=2SU;BYMONTH=3
TZNAME:CDT
END:DAYLIGHT
BEGIN:STANDARD
DTSTART:20261101T010000
TZOFFSETFROM:-0500
TZOFFSETTO:-0600
RRULE:FREQ=YEARLY;BYDAY=1SU;BYMONTH=11
TZNAME:CST
END:STANDARD
END:VTIMEZONE
BEGIN:VEVENT
DTSTAMP:20260425T113046Z
UID:fd7e1e22-0f9e-40bc-88a9-307ddd91cc94
DTSTART:20260430T140000
DTEND:20260430T144500
DESCRIPTION:https://tahlequahschools.gofmx.com/scheduling/requests/2661117/
 occurrences/8188317
LOCATION:805 Ward\nTahlequah\, OK 74464
SUMMARY:CHEROKEE TALENT SHOW FOR 3RD -5TH GRADE
END:VEVENT
BEGIN:VEVENT
DTSTAMP:20260425T113046Z
UID:941e754e-5c74-4ce2-92c3-498e4add712b
DTSTART:20260506T084500
DTEND:20260506T094500
DESCRIPTION:https://tahlequahschools.gofmx.com/scheduling/requests/2769591/
 occurrences/9428363
LOCATION:805 Ward\nTahlequah\, OK 74464
SUMMARY:CHEROKEE KINDERGARTEN SIGNING DAY
END:VEVENT
BEGIN:VEVENT
DTSTAMP:20260425T113046Z
UID:def9fc58-fedb-45e8-b82e-2a492d35fe32
DTSTART:20260512T173000
DTEND:20260512T183000
DESCRIPTION:https://tahlequahschools.gofmx.com/scheduling/requests/2661118/
 occurrences/8188318
LOCATION:805 Ward\nTahlequah\, OK 74464
SUMMARY:CHEROKEE 5TH GRADE CELEBRATION MUSIC PROGRAM @ 2 AND 5:30P
END:VEVENT
BEGIN:VEVENT
DTSTAMP:20260425T113046Z
UID:66fec4cf-da41-4de8-a9e8-e188a1259c90
DTSTART:20260514T090000
DTEND:20260514T140000
DESCRIPTION:https://tahlequahschools.gofmx.com/scheduling/requests/2769578/
 occurrences/9428350
LOCATION:805 Ward\nTahlequah\, OK 74464
SUMMARY:CHEROKEE DAY
END:VEVENT
BEGIN:VEVENT
DTSTAMP:20260425T113046Z
UID:cb529382-0238-4409-9e5f-4f61b1d9871f
DTSTART:20260515T083000
DTEND:20260515T090000
DESCRIPTION:https://tahlequahschools.gofmx.com/scheduling/requests/2807881/
 occurrences/9561374
LOCATION:805 Ward\nTahlequah\, OK 74464
SUMMARY:SENIOR WALK AT CHEROKEE
END:VEVENT
END:VCALENDAR
