BEGIN:VCALENDAR
VERSION:2.0
PRODID:icalendar-ruby
CALSCALE:GREGORIAN
BEGIN:VTIMEZONE
TZID:America/Chicago
BEGIN:DAYLIGHT
DTSTART:20260308T030000
TZOFFSETFROM:-0600
TZOFFSETTO:-0500
RRULE:FREQ=YEARLY;BYDAY=2SU;BYMONTH=3
TZNAME:CDT
END:DAYLIGHT
BEGIN:STANDARD
DTSTART:20261101T010000
TZOFFSETFROM:-0500
TZOFFSETTO:-0600
RRULE:FREQ=YEARLY;BYDAY=1SU;BYMONTH=11
TZNAME:CST
END:STANDARD
END:VTIMEZONE
BEGIN:VEVENT
DTSTAMP:20260425T113804Z
UID:eff27b5b-ebf6-4cd6-92a8-0fff4ecde608
DTSTART:20260505T160000
DTEND:20260505T193000
DESCRIPTION:https://tahlequahschools.gofmx.com/scheduling/requests/2816257/
 occurrences/9681320
LOCATION:400 E. Ross\nTahlequah\, OK 74464
SUMMARY:Greenwood Talent Show
END:VEVENT
END:VCALENDAR
