BEGIN:VCALENDAR
VERSION:2.0
PRODID:icalendar-ruby
CALSCALE:GREGORIAN
BEGIN:VTIMEZONE
TZID:America/Chicago
BEGIN:DAYLIGHT
DTSTART:20260308T030000
TZOFFSETFROM:-0600
TZOFFSETTO:-0500
RRULE:FREQ=YEARLY;BYDAY=2SU;BYMONTH=3
TZNAME:CDT
END:DAYLIGHT
BEGIN:STANDARD
DTSTART:20261101T010000
TZOFFSETFROM:-0500
TZOFFSETTO:-0600
RRULE:FREQ=YEARLY;BYDAY=1SU;BYMONTH=11
TZNAME:CST
END:STANDARD
END:VTIMEZONE
BEGIN:VEVENT
DTSTAMP:20260423T224149Z
UID:fe2a036f-c28f-4327-9fc4-c2b4fcc9c573
DTSTART;VALUE=DATE:20260514
DTEND;VALUE=DATE:20260515
DESCRIPTION:
LOCATION:
SUMMARY:RHS Graduation
END:VEVENT
BEGIN:VEVENT
DTSTAMP:20260423T224149Z
UID:586e51bb-93f9-4ef1-b418-7c5d1269db57
DTSTART;VALUE=DATE:20260515
DTEND;VALUE=DATE:20260516
DESCRIPTION:
LOCATION:
SUMMARY:HHS Graduation
END:VEVENT
BEGIN:VEVENT
DTSTAMP:20260423T224149Z
UID:2e71cbf0-4b6f-47d1-aead-a0fa05e38d08
DTSTART;VALUE=DATE:20260521
DTEND;VALUE=DATE:20260522
DESCRIPTION:
LOCATION:
SUMMARY:Abbreviated Student Day - Faculty/Staff Recognition
END:VEVENT
BEGIN:VEVENT
DTSTAMP:20260423T224149Z
UID:fb944440-72c2-44cb-bc44-ee6ea74192e5
DTSTART;VALUE=DATE:20260522
DTEND;VALUE=DATE:20260523
DESCRIPTION:
LOCATION:
SUMMARY:Last Day of School
END:VEVENT
END:VCALENDAR
