BEGIN:VCALENDAR
VERSION:2.0
PRODID:icalendar-ruby
CALSCALE:GREGORIAN
BEGIN:VTIMEZONE
TZID:America/New_York
BEGIN:DAYLIGHT
DTSTART:20260308T030000
TZOFFSETFROM:-0500
TZOFFSETTO:-0400
RRULE:FREQ=YEARLY;BYDAY=2SU;BYMONTH=3
TZNAME:EDT
END:DAYLIGHT
BEGIN:STANDARD
DTSTART:20261101T010000
TZOFFSETFROM:-0400
TZOFFSETTO:-0500
RRULE:FREQ=YEARLY;BYDAY=1SU;BYMONTH=11
TZNAME:EST
END:STANDARD
END:VTIMEZONE
BEGIN:VEVENT
DTSTAMP:20260423T151826Z
UID:4cf573ee-e8c4-445b-80a7-28d1e5a15ff5
DTSTART:20260429T150000
DTEND:20260429T170000
DESCRIPTION:
LOCATION:Library
SUMMARY:Strategy Games 
END:VEVENT
BEGIN:VEVENT
DTSTAMP:20260423T151826Z
UID:97c90341-5938-45fb-97d1-8c75c51fdee7
DTSTART;VALUE=DATE:20260501
DTEND;VALUE=DATE:20260502
DESCRIPTION:
LOCATION:
SUMMARY:SAT Exam 
END:VEVENT
BEGIN:VEVENT
DTSTAMP:20260423T151826Z
UID:2df2707b-0471-436f-a4be-051ef379dc51
DTSTART;VALUE=DATE:20260502
DTEND;VALUE=DATE:20260503
DESCRIPTION:
LOCATION:
SUMMARY:SAT Exam 
END:VEVENT
BEGIN:VEVENT
DTSTAMP:20260423T151826Z
UID:f83a60c2-a794-4142-a7fd-5c3bb274f1d3
DTSTART:20260502T090000
DTEND:20260502T120000
DESCRIPTION:
LOCATION:
SUMMARY:Marching band Rehearsals 
END:VEVENT
BEGIN:VEVENT
DTSTAMP:20260423T151826Z
UID:d32cfc7b-f6db-436d-bea9-43b0655e2071
DTSTART:20260504T173000
DTEND:20260504T183000
DESCRIPTION:
LOCATION:Conference Room 1011
SUMMARY:Elementary PTO/Jr./Sr. High School PTSO Meeting 
END:VEVENT
BEGIN:VEVENT
DTSTAMP:20260423T151826Z
UID:f380c637-b29b-4d29-9ac6-e1e17a40da39
DTSTART:20260505T150000
DTEND:20260505T170000
DESCRIPTION:
LOCATION:Multipurpose room 
SUMMARY:Cinco De Mayo Craft Night 
END:VEVENT
BEGIN:VEVENT
DTSTAMP:20260423T151826Z
UID:2af495e5-5486-4f4c-a8c9-cfd2cb16ee8a
DTSTART:20260506T150000
DTEND:20260506T170000
DESCRIPTION:
LOCATION:HS Library
SUMMARY:Strategy Games 
END:VEVENT
BEGIN:VEVENT
DTSTAMP:20260423T151826Z
UID:d9da0cc3-8ebd-4573-ab39-c7800986df16
DTSTART:20260507T090000
DTEND:20260507T100000
DESCRIPTION:
LOCATION:64 E Lamoka Ave\, Savona\, NY 14879\, USA
SUMMARY:Panther Cub Story Hour 
END:VEVENT
BEGIN:VEVENT
DTSTAMP:20260423T151826Z
UID:fa88e214-b64b-402a-809e-ecef7275525d
DTSTART;VALUE=DATE:20260508
DTEND;VALUE=DATE:20260509
DESCRIPTION:
LOCATION:
SUMMARY:Snow Give Back Day - No School 
END:VEVENT
BEGIN:VEVENT
DTSTAMP:20260423T151826Z
UID:4490147b-f932-44a8-96f4-dfa57af190ca
DTSTART;VALUE=DATE:20260508
DTEND;VALUE=DATE:20260509
DESCRIPTION:
LOCATION:
SUMMARY:ACT registration Deadline 
END:VEVENT
BEGIN:VEVENT
DTSTAMP:20260423T151826Z
UID:9c37f9fa-3577-4eeb-ba63-59005331095e
DTSTART:20260508T090000
DTEND:20260508T120000
DESCRIPTION:
LOCATION:
SUMMARY:Marching Band Rehearsal 
END:VEVENT
BEGIN:VEVENT
DTSTAMP:20260423T151826Z
UID:07e852e3-6e94-46fd-ac1a-41fd87b5f413
DTSTART:20260508T090000
DTEND:20260508T103000
DESCRIPTION:
LOCATION:Elementary Cafeteria
SUMMARY:Muffins for  Mom
END:VEVENT
BEGIN:VEVENT
DTSTAMP:20260423T151826Z
UID:ff0b68a6-168a-4c2c-8e74-62b9448a7e84
DTSTART;VALUE=DATE:20260509
DTEND;VALUE=DATE:20260510
DESCRIPTION:
LOCATION:TBD
SUMMARY:Prom
END:VEVENT
BEGIN:VEVENT
DTSTAMP:20260423T151826Z
UID:1689fccb-7597-48ce-8fca-07ee914f1ea0
DTSTART:20260511T180000
DTEND:20260511T200000
DESCRIPTION:
LOCATION:LGI
SUMMARY:Public Budget Hearing 
END:VEVENT
BEGIN:VEVENT
DTSTAMP:20260423T151826Z
UID:336f1bb5-1621-4417-b575-58108cab44ed
DTSTART:20260513T150000
DTEND:20260513T170000
DESCRIPTION:
LOCATION:Library
SUMMARY:Strategy Games 
END:VEVENT
BEGIN:VEVENT
DTSTAMP:20260423T151826Z
UID:30725a7d-de94-47a5-aba3-e6909d78bb35
DTSTART:20260516T090000
DTEND:20260516T120000
DESCRIPTION:
LOCATION:
SUMMARY:Marching band rehearsals 
END:VEVENT
BEGIN:VEVENT
DTSTAMP:20260423T151826Z
UID:71a66af5-cf11-4da3-94d9-44d6ceabc7c2
DTSTART:20260516T190000
DTEND:20260516T234500
DESCRIPTION:
LOCATION:High School
SUMMARY:Jr./Sr. High School PTSO 9th & 10th Grade Lock in 
END:VEVENT
BEGIN:VEVENT
DTSTAMP:20260423T151826Z
UID:828efa49-5424-41b4-b9d8-9b38f839a9ac
DTSTART:20260518T180000
DTEND:20260518T200000
DESCRIPTION:
LOCATION:High School Multipurpose Room
SUMMARY:Board of Education Meeting 
END:VEVENT
BEGIN:VEVENT
DTSTAMP:20260423T151826Z
UID:d8ec35ff-8b5c-474d-a23f-ee8cdedc859e
DTSTART:20260519T120000
DTEND:20260519T200000
DESCRIPTION:
LOCATION:8455 Co Rd 125\, Campbell\, NY 14821\, Gymnasium Lobby 
SUMMARY:Budget Vote and Board Member Election 
END:VEVENT
BEGIN:VEVENT
DTSTAMP:20260423T151826Z
UID:75dee491-c819-4faa-9c88-3328b183ac39
DTSTART:20260519T170000
DTEND:20260519T190000
DESCRIPTION:
LOCATION:8455 Co Rd 125\, Campbell\, NY 14821\, USA
SUMMARY:Fine Arts Night 
END:VEVENT
BEGIN:VEVENT
DTSTAMP:20260423T151826Z
UID:d233500c-9523-4a25-9b6f-aa87c7e6d2a0
DTSTART:20260519T174500
DTEND:20260519T180000
DESCRIPTION:
LOCATION:HS Auditorium 
SUMMARY:4th Grade Band Night (Fine Arts Night) 
END:VEVENT
BEGIN:VEVENT
DTSTAMP:20260423T151826Z
UID:fd79da8a-bf6f-486d-8285-220aa1f45177
DTSTART:20260520T150000
DTEND:20260520T170000
DESCRIPTION:
LOCATION:HS Library 
SUMMARY:Strategy Games 
END:VEVENT
BEGIN:VEVENT
DTSTAMP:20260423T151826Z
UID:4768e20e-ce2f-4bbe-978a-d6c7e96b0383
DTSTART;VALUE=DATE:20260522
DTEND;VALUE=DATE:20260523
DESCRIPTION:
LOCATION:
SUMMARY:Snow Give Back Day - No School 
END:VEVENT
BEGIN:VEVENT
DTSTAMP:20260423T151826Z
UID:d4b7590a-24c3-40f3-b0dd-f6f7d6cd9aaa
DTSTART;VALUE=DATE:20260522
DTEND;VALUE=DATE:20260523
DESCRIPTION:
LOCATION:
SUMMARY:SAT Registration Deadline 
END:VEVENT
BEGIN:VEVENT
DTSTAMP:20260423T151826Z
UID:fe1fbbbd-8ae7-4645-b88d-309baec4dfbb
DTSTART:20260522T090000
DTEND:20260522T120000
DESCRIPTION:
LOCATION:
SUMMARY:Marching Band Rehearsals 
END:VEVENT
BEGIN:VEVENT
DTSTAMP:20260423T151826Z
UID:a595bd44-7664-407f-9b6c-9f5e60e4fc3c
DTSTART;VALUE=DATE:20260525
DTEND;VALUE=DATE:20260526
DESCRIPTION:
LOCATION:
SUMMARY:Memorial Day Parades: 9:00am Campbell - 11:00am Savona
END:VEVENT
BEGIN:VEVENT
DTSTAMP:20260423T151826Z
UID:9b7bada8-794a-4006-abcb-0a23233f63c4
DTSTART;VALUE=DATE:20260525
DTEND;VALUE=DATE:20260526
DESCRIPTION:
LOCATION:
SUMMARY:Memorial day - No School 
END:VEVENT
BEGIN:VEVENT
DTSTAMP:20260423T151826Z
UID:2213b863-fc1e-4ada-b12e-82b976420e6f
DTSTART;VALUE=DATE:20260526
DTEND;VALUE=DATE:20260527
DESCRIPTION:
LOCATION:
SUMMARY:Snow Give Back Day - No School 
END:VEVENT
BEGIN:VEVENT
DTSTAMP:20260423T151826Z
UID:98519fe2-2e07-4837-9597-e17172e52139
DTSTART:20260527T150000
DTEND:20260527T170000
DESCRIPTION:
LOCATION:Library 
SUMMARY:Strategy Games 
END:VEVENT
BEGIN:VEVENT
DTSTAMP:20260423T151826Z
UID:c44ad524-8b10-4472-9af9-344b545f2e80
DTSTART:20260601T173000
DTEND:20260601T183000
DESCRIPTION:
LOCATION:Conference Room 1011
SUMMARY:Elementary PTO/Jr./Sr. High School PTSO Meeting 
END:VEVENT
BEGIN:VEVENT
DTSTAMP:20260423T151826Z
UID:beca7d80-a831-4e06-a351-eb0e9fb86c8f
DTSTART:20260603T180000
DTEND:20260603T190000
DESCRIPTION:
LOCATION:Auditorium  
SUMMARY:Academic Awards Ceremony 
END:VEVENT
BEGIN:VEVENT
DTSTAMP:20260423T151826Z
UID:1fa50e92-04ef-437e-ace8-a73fea528e22
DTSTART:20260604T090000
DTEND:20260604T100000
DESCRIPTION:
LOCATION:64 E Lamoka Ave\, Savona\, NY 14879\, USA
SUMMARY:Panther Cub Story Hour 
END:VEVENT
BEGIN:VEVENT
DTSTAMP:20260423T151826Z
UID:417ed509-fc13-4781-b633-0e4426409e41
DTSTART;VALUE=DATE:20260605
DTEND;VALUE=DATE:20260606
DESCRIPTION:
LOCATION:
SUMMARY:ACT registration Deadline 
END:VEVENT
BEGIN:VEVENT
DTSTAMP:20260423T151826Z
UID:65c35526-fd9c-469f-96db-150fea8eab9e
DTSTART:20260605T120000
DTEND:20260605T180000
DESCRIPTION:
LOCATION:High School Multipurpose Room
SUMMARY:National Honor Society Blood Drive 
END:VEVENT
BEGIN:VEVENT
DTSTAMP:20260423T151826Z
UID:8e8d3108-f001-4b52-94da-63dd773ca2ac
DTSTART;VALUE=DATE:20260606
DTEND;VALUE=DATE:20260607
DESCRIPTION:
LOCATION:
SUMMARY:SAT Exam 
END:VEVENT
BEGIN:VEVENT
DTSTAMP:20260423T151826Z
UID:620f2115-6387-4647-a5e5-c77855b81717
DTSTART:20260606T103000
DTEND:20260606T130000
DESCRIPTION:
LOCATION:
SUMMARY:Dairy Festival Parade \, Bath\, New York
END:VEVENT
BEGIN:VEVENT
DTSTAMP:20260423T151826Z
UID:c4d850db-591f-4a80-8913-85364e355ced
DTSTART:20260609T080000
DTEND:20260612T150000
DESCRIPTION:
LOCATION:
SUMMARY:Regents Testing 
END:VEVENT
BEGIN:VEVENT
DTSTAMP:20260423T151826Z
UID:e34fd969-0f3d-4a3a-b8ef-4e755772ce4b
DTSTART:20260609T103000
DTEND:20260609T110000
DESCRIPTION:
LOCATION:64 E Lamoka Ave\, Savona\, NY 14879\, USA
SUMMARY:Pre K 500
END:VEVENT
BEGIN:VEVENT
DTSTAMP:20260423T151826Z
UID:1418608c-1ec4-4829-998e-006aa13fe244
DTSTART:20260609T190000
DTEND:20260609T200000
DESCRIPTION:
LOCATION:Auditorium 
SUMMARY:Pops Concert 
END:VEVENT
BEGIN:VEVENT
DTSTAMP:20260423T151826Z
UID:81f3f71b-c557-4bf1-9adc-2dd2092ec817
DTSTART:20260610T160000
DTEND:20260610T170000
DESCRIPTION:
LOCATION:Library 
SUMMARY:Letter Of Intent Mock Signing Day 
END:VEVENT
BEGIN:VEVENT
DTSTAMP:20260423T151826Z
UID:b647ba26-1fd6-428c-b499-2301f3267023
DTSTART:20260611T183000
DTEND:20260611T203000
DESCRIPTION:
LOCATION:Auditorium 
SUMMARY:5th and 6th grade Band and Chorus Concert 
END:VEVENT
BEGIN:VEVENT
DTSTAMP:20260423T151826Z
UID:dcdce124-59fa-46ad-9781-a4cc1deb9cc5
DTSTART;VALUE=DATE:20260612
DTEND;VALUE=DATE:20260613
DESCRIPTION:
LOCATION:
SUMMARY:Jr. Band Trip 
END:VEVENT
BEGIN:VEVENT
DTSTAMP:20260423T151826Z
UID:1fbf6b5f-2683-4942-9228-902c62a3485e
DTSTART;VALUE=DATE:20260612
DTEND;VALUE=DATE:20260613
DESCRIPTION:
LOCATION:Elementary 
SUMMARY:Panther Palooza
END:VEVENT
BEGIN:VEVENT
DTSTAMP:20260423T151826Z
UID:bb7b08d3-be73-4b1f-9c45-88f20e83ca7c
DTSTART;VALUE=DATE:20260613
DTEND;VALUE=DATE:20260614
DESCRIPTION:
LOCATION:
SUMMARY:ACT Exam 
END:VEVENT
BEGIN:VEVENT
DTSTAMP:20260423T151826Z
UID:963579ec-114a-416f-baed-42ff2d863653
DTSTART:20260615T180000
DTEND:20260615T200000
DESCRIPTION:
LOCATION:Multipurpose room 
SUMMARY:Board of Education Meeting 
END:VEVENT
BEGIN:VEVENT
DTSTAMP:20260423T151826Z
UID:d3f323f9-02d8-4496-b747-b80cf8df8ae4
DTSTART:20260616T074500
DTEND:20260616T083000
DESCRIPTION:
LOCATION:Building 
SUMMARY:Senior Class Picture on Auditorium Steps
END:VEVENT
BEGIN:VEVENT
DTSTAMP:20260423T151826Z
UID:4381b5ae-3ff2-4c23-9c9a-edd7b83c0d9c
DTSTART:20260616T083000
DTEND:20260616T090000
DESCRIPTION:
LOCATION:
SUMMARY:Senior Walk 
END:VEVENT
BEGIN:VEVENT
DTSTAMP:20260423T151826Z
UID:86cedf9f-e7ab-4294-a387-94ced8059f89
DTSTART:20260616T170000
DTEND:20260616T190000
DESCRIPTION:
LOCATION:Bath\, NY 14810\, USA
SUMMARY:Valedictorian and Salutatorian Ceremony    
END:VEVENT
BEGIN:VEVENT
DTSTAMP:20260423T151826Z
UID:f760c16b-c3fa-4bff-af1f-419484ce8e62
DTSTART:20260618T093000
DTEND:20260618T103000
DESCRIPTION:
LOCATION:Elementary Cafeteria 
SUMMARY:Donuts with Dad
END:VEVENT
BEGIN:VEVENT
DTSTAMP:20260423T151826Z
UID:ac0dabe8-ad90-444e-abca-a691c69a5392
DTSTART:20260618T180000
DTEND:20260618T190000
DESCRIPTION:
LOCATION:HS Auditorium 
SUMMARY:Varsity Sports Award 
END:VEVENT
BEGIN:VEVENT
DTSTAMP:20260423T151826Z
UID:6d049503-6e3b-460e-9145-cddc191e02fe
DTSTART;VALUE=DATE:20260619
DTEND;VALUE=DATE:20260620
DESCRIPTION:
LOCATION:
SUMMARY:Juneteenth - No School 
END:VEVENT
BEGIN:VEVENT
DTSTAMP:20260423T151826Z
UID:9baf7f94-5efd-4c0c-947d-26b89fb246f8
DTSTART:20260623T090000
DTEND:20260623T110000
DESCRIPTION:
LOCATION:Elementary Gymnasium
SUMMARY:6th Grade Recognition
END:VEVENT
BEGIN:VEVENT
DTSTAMP:20260423T151826Z
UID:934f9bea-9e5a-4e66-b607-cd13925f3202
DTSTART:20260623T090000
DTEND:20260623T100000
DESCRIPTION:
LOCATION:Elementary Gymnasium 
SUMMARY:Pre K Celebration 
END:VEVENT
BEGIN:VEVENT
DTSTAMP:20260423T151826Z
UID:168e1f7d-7b29-44cb-a65e-0537b9f57a0d
DTSTART:20260623T110000
DTEND:20260625T113000
DESCRIPTION:
LOCATION:
SUMMARY:Half Day - Early Dismissal 
END:VEVENT
BEGIN:VEVENT
DTSTAMP:20260423T151826Z
UID:161f4743-a66c-42ac-9025-1b4c2a6fa522
DTSTART;VALUE=DATE:20260624
DTEND;VALUE=DATE:20260625
DESCRIPTION:
LOCATION:
SUMMARY:Regents Testing 
END:VEVENT
BEGIN:VEVENT
DTSTAMP:20260423T151826Z
UID:dcb499b7-a57e-4754-99f0-0785172091b4
DTSTART:20260625T100000
DTEND:20260625T103000
DESCRIPTION:
LOCATION:Jr./Sr. High School Gymnasium 
SUMMARY:Kindergarten Graduation 
END:VEVENT
BEGIN:VEVENT
DTSTAMP:20260423T151826Z
UID:77746a29-6c77-4eb1-9297-f0aa1d793894
DTSTART:20260625T180000
DTEND:20260625T190000
DESCRIPTION:
LOCATION:Auditorium 
SUMMARY:Senior Awards Ceremony 
END:VEVENT
BEGIN:VEVENT
DTSTAMP:20260423T151826Z
UID:ed211e76-8448-4a13-bc67-dbef6c685f1f
DTSTART:20260626T080000
DTEND:20260626T110000
DESCRIPTION:
LOCATION:
SUMMARY:Last Day of School - Half Day 
END:VEVENT
BEGIN:VEVENT
DTSTAMP:20260423T151826Z
UID:c868ee03-c72e-41fb-b8f8-a02e047a90ef
DTSTART:20260626T100000
DTEND:20260626T120000
DESCRIPTION:
LOCATION:High School Gymnasium 
SUMMARY:Graduation Rehearsal 
END:VEVENT
BEGIN:VEVENT
DTSTAMP:20260423T151826Z
UID:9a78aa43-7d60-4e43-aaea-ee4fe2dddf46
DTSTART:20260627T100000
DTEND:20260627T120000
DESCRIPTION:
LOCATION:High School Gymnasium 
SUMMARY:Class Of 2026 Graduation Ceremony 
END:VEVENT
BEGIN:VEVENT
DTSTAMP:20260423T151826Z
UID:fd2acb2f-9580-41e8-a65b-669cdf23ea92
DTSTART;VALUE=DATE:20260831
DTEND;VALUE=DATE:20260904
DESCRIPTION:
LOCATION:
SUMMARY:Conference Day 
END:VEVENT
BEGIN:VEVENT
DTSTAMP:20260423T151826Z
UID:7ca689b3-d405-40e4-8ebe-a614cffe047a
DTSTART;VALUE=DATE:20260907
DTEND;VALUE=DATE:20260908
DESCRIPTION:
LOCATION:
SUMMARY:Labor Day - No School 
END:VEVENT
BEGIN:VEVENT
DTSTAMP:20260423T151826Z
UID:cd44a55e-c2f1-4553-ae12-545c268cad51
DTSTART;VALUE=DATE:20260908
DTEND;VALUE=DATE:20260909
DESCRIPTION:
LOCATION:
SUMMARY:First Day of School 
END:VEVENT
BEGIN:VEVENT
DTSTAMP:20260423T151826Z
UID:753a4405-ff8d-412d-9fee-892dd57043ea
DTSTART;VALUE=DATE:20261012
DTEND;VALUE=DATE:20261013
DESCRIPTION:
LOCATION:
SUMMARY:Indigenous People's Day/ Columbus Day 
END:VEVENT
BEGIN:VEVENT
DTSTAMP:20260423T151826Z
UID:142bf69e-25b1-4347-b2b2-a7f32af70f69
DTSTART:20261023T080000
DTEND:20261023T113000
DESCRIPTION:
LOCATION:
SUMMARY:Conference Day/ Half Day for Students 
END:VEVENT
BEGIN:VEVENT
DTSTAMP:20260423T151826Z
UID:cebcc0f0-0f7d-4d09-a5fd-addfe9b5635e
DTSTART;VALUE=DATE:20261111
DTEND;VALUE=DATE:20261112
DESCRIPTION:
LOCATION:
SUMMARY:Veterans Day - No School 
END:VEVENT
BEGIN:VEVENT
DTSTAMP:20260423T151826Z
UID:b420ef21-0537-4438-9c1b-7e015a00c739
DTSTART;VALUE=DATE:20261116
DTEND;VALUE=DATE:20261117
DESCRIPTION:
LOCATION:
SUMMARY:Parent / Teacher Conference Day- No School for Students 
END:VEVENT
BEGIN:VEVENT
DTSTAMP:20260423T151826Z
UID:def4f736-7e3b-44cb-aa76-c3a553e97a81
DTSTART:20261124T073000
DTEND:20261124T113000
DESCRIPTION:
LOCATION:
SUMMARY:Half Day/ Early Dismissal
END:VEVENT
BEGIN:VEVENT
DTSTAMP:20260423T151826Z
UID:641e19c2-3cf6-4f8e-8d1d-4895230bfa52
DTSTART;VALUE=DATE:20261125
DTEND;VALUE=DATE:20261128
DESCRIPTION:
LOCATION:
SUMMARY:Thanksgiving Recess  
END:VEVENT
END:VCALENDAR
