BEGIN:VCALENDAR
VERSION:2.0
PRODID:icalendar-ruby
CALSCALE:GREGORIAN
BEGIN:VTIMEZONE
TZID:America/Chicago
BEGIN:DAYLIGHT
DTSTART:20260308T030000
TZOFFSETFROM:-0600
TZOFFSETTO:-0500
RRULE:FREQ=YEARLY;BYDAY=2SU;BYMONTH=3
TZNAME:CDT
END:DAYLIGHT
BEGIN:STANDARD
DTSTART:20261101T010000
TZOFFSETFROM:-0500
TZOFFSETTO:-0600
RRULE:FREQ=YEARLY;BYDAY=1SU;BYMONTH=11
TZNAME:CST
END:STANDARD
END:VTIMEZONE
BEGIN:VEVENT
DTSTAMP:20260425T163748Z
UID:8dd12398-880a-434d-99a9-5cd2938ed88b
DTSTART:20260427T151500
DTEND:20260427T160000
DESCRIPTION:
LOCATION:DES-Campus Activities
SUMMARY:Culture Club
END:VEVENT
BEGIN:VEVENT
DTSTAMP:20260425T163748Z
UID:ee9b7491-8575-464d-a5f0-9e3f1999157b
DTSTART:20260427T151500
DTEND:20260427T160000
DESCRIPTION:
LOCATION:DES-Campus Activities
SUMMARY:Student Leadership Clubs
END:VEVENT
BEGIN:VEVENT
DTSTAMP:20260425T163748Z
UID:1821dc5b-28a5-4e71-a08a-f6c86de4eabc
DTSTART:20260427T173000
DTEND:20260427T193000
DESCRIPTION:
LOCATION:Grapevine-Colleyville ISD\, 3051 Ira E Woods Ave\, Grapevine\, TX 
 76051\, USA
SUMMARY:Board of Trustees Regular Meeting 
END:VEVENT
BEGIN:VEVENT
DTSTAMP:20260425T163748Z
UID:2c63341e-92e2-469a-9d32-43f7f6ab4a72
DTSTART:20260428T151500
DTEND:20260428T160000
DESCRIPTION:
LOCATION:DES-Campus Activities
SUMMARY:Choir
END:VEVENT
BEGIN:VEVENT
DTSTAMP:20260425T163748Z
UID:187a92ad-1919-4209-82d6-52976db1a677
DTSTART:20260429T151500
DTEND:20260429T160000
DESCRIPTION:
LOCATION:DES-Campus Activities
SUMMARY:Dove Dynamic Drummers
END:VEVENT
BEGIN:VEVENT
DTSTAMP:20260425T163748Z
UID:f4291ef3-ee4a-4c72-b20e-8fa7a7e5c244
DTSTART:20260430T170000
DTEND:20260430T180000
DESCRIPTION:
LOCATION:DES-Campus Activities
SUMMARY:Dive into Summer 
END:VEVENT
BEGIN:VEVENT
DTSTAMP:20260425T163748Z
UID:71465530-8394-4422-be36-fd9e4c0f89df
DTSTART;VALUE=DATE:20260501
DTEND;VALUE=DATE:20260502
DESCRIPTION:
LOCATION:
SUMMARY:Dove Spirit Shirt Day!
END:VEVENT
BEGIN:VEVENT
DTSTAMP:20260425T163748Z
UID:04118754-9f3f-4954-a78f-8bef997b8b71
DTSTART:20260501T070000
DTEND:20260501T073000
DESCRIPTION:
LOCATION:
SUMMARY:🚪 Doors with Dads
END:VEVENT
BEGIN:VEVENT
DTSTAMP:20260425T163748Z
UID:d45ad2bd-3bc2-49ed-bd6e-e93ae39ab9fc
DTSTART:20260501T072000
DTEND:20260501T072000
DESCRIPTION:
LOCATION:DES-Campus Activities
SUMMARY:Dove Spirit Shirt Day!
END:VEVENT
BEGIN:VEVENT
DTSTAMP:20260425T163748Z
UID:699bec90-62af-48c2-b739-5e3f49c94663
DTSTART:20260504T151500
DTEND:20260504T160000
DESCRIPTION:
LOCATION:DES-Campus Activities
SUMMARY:Stem Club K-2
END:VEVENT
BEGIN:VEVENT
DTSTAMP:20260425T163748Z
UID:61d3ae6a-60a1-4ce3-8ca3-c052ceec1d60
DTSTART:20260504T180000
DTEND:20260504T193000
DESCRIPTION:
LOCATION:Mustang-Panther Stadium\, 3051 Ira E. Woods Ave\, Grapevine\, TX 7
 6051\, USA\, DES-Campus Activities
SUMMARY:Walk a Mile with GCISD
END:VEVENT
BEGIN:VEVENT
DTSTAMP:20260425T163748Z
UID:b238009e-d079-4579-94ab-edd71e7360d4
DTSTART:20260505T151500
DTEND:20260505T160000
DESCRIPTION:
LOCATION:DES-Campus Activities
SUMMARY:Choir
END:VEVENT
BEGIN:VEVENT
DTSTAMP:20260425T163748Z
UID:059ec515-82ab-4182-b545-b457d23fa26c
DTSTART:20260506T151500
DTEND:20260506T160000
DESCRIPTION:
LOCATION:DES-Campus Activities
SUMMARY:Chess Club
END:VEVENT
BEGIN:VEVENT
DTSTAMP:20260425T163748Z
UID:125d9fe2-ae36-42ae-84fe-378c35956085
DTSTART:20260506T151500
DTEND:20260506T160000
DESCRIPTION:
LOCATION:DES-Campus Activities
SUMMARY:Dove Dynamic Drummers
END:VEVENT
BEGIN:VEVENT
DTSTAMP:20260425T163748Z
UID:340794a8-ba71-46b5-b01e-148a29c86864
DTSTART;VALUE=DATE:20260508
DTEND;VALUE=DATE:20260509
DESCRIPTION:
LOCATION:
SUMMARY:Dove Spirit Shirt Day!
END:VEVENT
BEGIN:VEVENT
DTSTAMP:20260425T163748Z
UID:e6c8a366-e72b-4405-9c1f-effa9a555e10
DTSTART:20260508T070000
DTEND:20260508T073000
DESCRIPTION:
LOCATION:
SUMMARY:🚪 Doors with Dads
END:VEVENT
BEGIN:VEVENT
DTSTAMP:20260425T163748Z
UID:0d269f81-7d03-44a1-aadd-1e7b475e0acb
DTSTART:20260508T072000
DTEND:20260508T072000
DESCRIPTION:
LOCATION:DES-Campus Activities
SUMMARY:Dove Spirit Shirt Day!
END:VEVENT
BEGIN:VEVENT
DTSTAMP:20260425T163748Z
UID:51f6c083-fee1-48aa-8b50-555429054e86
DTSTART:20260508T173000
DTEND:20260508T193000
DESCRIPTION:
LOCATION:DES-Campus Activities
SUMMARY:The Last Wave
END:VEVENT
BEGIN:VEVENT
DTSTAMP:20260425T163748Z
UID:27c93e01-058b-48bc-ab57-0ed8170ea715
DTSTART:20260511T073000
DTEND:20260511T150000
DESCRIPTION:
LOCATION:DES-Campus Activities
SUMMARY:Career Day!
END:VEVENT
BEGIN:VEVENT
DTSTAMP:20260425T163748Z
UID:31c6b950-2f41-46d2-960e-8c7858ef3885
DTSTART:20260511T151500
DTEND:20260511T160000
DESCRIPTION:
LOCATION:DES-Campus Activities
SUMMARY:Staff vs. Students Newcomb!!
END:VEVENT
BEGIN:VEVENT
DTSTAMP:20260425T163748Z
UID:cf7e0a16-19f2-41e8-821a-7cdb845e6d58
DTSTART:20260513T080000
DTEND:20260513T110000
DESCRIPTION:
LOCATION:DES-Campus Activities
SUMMARY:4th grade Wax Museum
END:VEVENT
BEGIN:VEVENT
DTSTAMP:20260425T163748Z
UID:663cb87c-b12c-4812-9fc7-06a00cbdbc3a
DTSTART:20260513T110000
DTEND:20260513T140000
DESCRIPTION:
LOCATION:DES-Campus Activities
SUMMARY:4th grade Success Ceremony/ Celebration @ Dove Park
END:VEVENT
BEGIN:VEVENT
DTSTAMP:20260425T163748Z
UID:e2c6f618-16e8-4c4c-b638-1a8f5da9a28b
DTSTART;VALUE=DATE:20260515
DTEND;VALUE=DATE:20260516
DESCRIPTION:
LOCATION:
SUMMARY:Dove Spirit Shirt Day!
END:VEVENT
BEGIN:VEVENT
DTSTAMP:20260425T163748Z
UID:58dedfdb-34a7-418c-8314-e2d1a5faff21
DTSTART:20260515T070000
DTEND:20260515T073000
DESCRIPTION:
LOCATION:
SUMMARY:🚪 Doors with Dads
END:VEVENT
BEGIN:VEVENT
DTSTAMP:20260425T163748Z
UID:2db1b398-491d-4f8f-a617-b505f6e23595
DTSTART:20260515T072000
DTEND:20260515T072000
DESCRIPTION:
LOCATION:DES-Campus Activities
SUMMARY:Dove Spirit Shirt Day!
END:VEVENT
BEGIN:VEVENT
DTSTAMP:20260425T163748Z
UID:e84f37dc-8149-47b8-bcbd-e87609cbdf49
DTSTART:20260515T080000
DTEND:20260515T150000
DESCRIPTION:
LOCATION:DES-Campus Activities
SUMMARY:Field Day
END:VEVENT
BEGIN:VEVENT
DTSTAMP:20260425T163748Z
UID:a4473230-3b04-45e2-b988-e9fc69dc56e4
DTSTART:20260518T080000
DTEND:20260518T082500
DESCRIPTION:
LOCATION:DES-Campus Activities
SUMMARY:All School Assembly
END:VEVENT
BEGIN:VEVENT
DTSTAMP:20260425T163748Z
UID:c39feae6-b4b8-4c09-8cc9-ea6f7aa28094
DTSTART:20260518T173000
DTEND:20260518T193000
DESCRIPTION:
LOCATION:Grapevine-Colleyville ISD\, 3051 Ira E Woods Ave\, Grapevine\, TX 
 76051\, USA
SUMMARY:Board of Trustees Regular Meeting 
END:VEVENT
BEGIN:VEVENT
DTSTAMP:20260425T163748Z
UID:0bf4a07d-40e1-4f15-809c-69d78c5520a0
DTSTART:20260519T080000
DTEND:20260519T083000
DESCRIPTION:
LOCATION:DES-Campus Activities
SUMMARY:Kinder Success Ceremony (in classrooms)
END:VEVENT
BEGIN:VEVENT
DTSTAMP:20260425T163748Z
UID:dc53aa50-9150-4ee6-b39c-d0aa860fee93
DTSTART:20260519T083000
DTEND:20260519T093000
DESCRIPTION:
LOCATION:Cafeteria\, DES-Campus Activities
SUMMARY:PK Graduation 
END:VEVENT
BEGIN:VEVENT
DTSTAMP:20260425T163748Z
UID:3f714d65-2a29-4003-80eb-3224cf176058
DTSTART:20260519T112500
DTEND:20260519T115500
DESCRIPTION:
LOCATION:Blacktop (Where Movie Night is)\, DES-Campus Activities
SUMMARY:1st Grade Lunch w/ a Loved One and EOY Success Ceremony
END:VEVENT
BEGIN:VEVENT
DTSTAMP:20260425T163748Z
UID:0f09e416-0136-4185-9933-3c4d6e07025c
DTSTART:20260520T080000
DTEND:20260520T090000
DESCRIPTION:
LOCATION:Cafeteria\, DES-Campus Activities
SUMMARY:2nd Grade Success Ceremony (in cafe)
END:VEVENT
BEGIN:VEVENT
DTSTAMP:20260425T163748Z
UID:8e756f00-2bcd-4d51-ae2b-b0fe7ab7b145
DTSTART:20260520T130000
DTEND:20260520T134500
DESCRIPTION:
LOCATION:DES-Campus Activities
SUMMARY:3rd grade EOY Success Ceremony (in cafe)
END:VEVENT
BEGIN:VEVENT
DTSTAMP:20260425T163748Z
UID:affb0991-2572-4901-9940-bcb243503576
DTSTART:20260520T140000
DTEND:20260520T143000
DESCRIPTION:
LOCATION:DES-Campus Activities
SUMMARY:Class of 2026 Clap Out @ Dove
END:VEVENT
BEGIN:VEVENT
DTSTAMP:20260425T163748Z
UID:13742329-8e80-4b89-93c1-7a3e36f0c1dd
DTSTART;VALUE=DATE:20260521
DTEND;VALUE=DATE:20260522
DESCRIPTION:
LOCATION:
SUMMARY:Last Day of School
END:VEVENT
BEGIN:VEVENT
DTSTAMP:20260425T163748Z
UID:bb919cb5-7e49-40f9-b943-68919917731b
DTSTART:20260521T083000
DTEND:20260521T093000
DESCRIPTION:
LOCATION:DES-Campus Activities
SUMMARY:5th grade Graduation
END:VEVENT
BEGIN:VEVENT
DTSTAMP:20260425T163748Z
UID:52d2b80c-3f48-4d0a-826a-b76da62b437e
DTSTART:20260521T114500
DTEND:20260521T120000
DESCRIPTION:
LOCATION:DES-Campus Activities
SUMMARY:Early Release - Happy Summer! 
END:VEVENT
BEGIN:VEVENT
DTSTAMP:20260425T163748Z
UID:b05593cc-ab20-4d35-94b0-2356f75a2245
DTSTART;VALUE=DATE:20260522
DTEND;VALUE=DATE:20260523
DESCRIPTION:
LOCATION:
SUMMARY:Dove Spirit Shirt Day!
END:VEVENT
BEGIN:VEVENT
DTSTAMP:20260425T163748Z
UID:4ea516b4-3061-4423-afa7-4847a0f81e75
DTSTART;VALUE=DATE:20260522
DTEND;VALUE=DATE:20260523
DESCRIPTION:
LOCATION:
SUMMARY:Teacher Work Day - No School
END:VEVENT
BEGIN:VEVENT
DTSTAMP:20260425T163748Z
UID:4225b298-5784-48a0-a64e-41f9f239f4c2
DTSTART:20260522T070000
DTEND:20260522T073000
DESCRIPTION:
LOCATION:
SUMMARY:🚪 Doors with Dads
END:VEVENT
BEGIN:VEVENT
DTSTAMP:20260425T163748Z
UID:ff33a700-f330-4be3-af39-95a537f2659a
DTSTART:20260522T072000
DTEND:20260522T072000
DESCRIPTION:
LOCATION:DES-Campus Activities
SUMMARY:Dove Spirit Shirt Day!
END:VEVENT
BEGIN:VEVENT
DTSTAMP:20260425T163748Z
UID:4f1fecc9-b8cc-4c60-8dfc-86919ef437c6
DTSTART:20260522T072000
DTEND:20260522T150500
DESCRIPTION:
LOCATION:DES-Campus Activities
SUMMARY:Teacher work day
END:VEVENT
BEGIN:VEVENT
DTSTAMP:20260425T163748Z
UID:b04b3aa2-f973-421a-affb-8fb09ee278e2
DTSTART;VALUE=DATE:20260525
DTEND;VALUE=DATE:20260526
DESCRIPTION:
LOCATION:
SUMMARY:Holiday - No School
END:VEVENT
BEGIN:VEVENT
DTSTAMP:20260425T163748Z
UID:6713e89d-65e0-46d7-a00c-db14dbe57980
DTSTART;VALUE=DATE:20260529
DTEND;VALUE=DATE:20260530
DESCRIPTION:
LOCATION:
SUMMARY:Dove Spirit Shirt Day!
END:VEVENT
BEGIN:VEVENT
DTSTAMP:20260425T163748Z
UID:1bf253f8-a7ef-4deb-858d-6c7d5b61d114
DTSTART:20260529T070000
DTEND:20260529T073000
DESCRIPTION:
LOCATION:
SUMMARY:🚪 Doors with Dads
END:VEVENT
BEGIN:VEVENT
DTSTAMP:20260425T163748Z
UID:b079ac42-aa7d-45e3-a525-dbeb5b6f5658
DTSTART:20260529T072000
DTEND:20260529T072000
DESCRIPTION:
LOCATION:DES-Campus Activities
SUMMARY:Dove Spirit Shirt Day!
END:VEVENT
BEGIN:VEVENT
DTSTAMP:20260425T163748Z
UID:8e9ff0e9-8cd4-44e6-9a1d-399dbbafc1da
DTSTART:20260601T151500
DTEND:20260601T160000
DESCRIPTION:
LOCATION:DES-Campus Activities
SUMMARY:Stem Club K-2
END:VEVENT
BEGIN:VEVENT
DTSTAMP:20260425T163748Z
UID:a0b8c1c0-0cc7-4933-b8c0-fc53495e35ca
DTSTART;VALUE=DATE:20260605
DTEND;VALUE=DATE:20260606
DESCRIPTION:
LOCATION:
SUMMARY:Dove Spirit Shirt Day!
END:VEVENT
BEGIN:VEVENT
DTSTAMP:20260425T163748Z
UID:26c7e290-fadc-46d1-b215-13e1643b1360
DTSTART:20260605T072000
DTEND:20260605T072000
DESCRIPTION:
LOCATION:DES-Campus Activities
SUMMARY:Dove Spirit Shirt Day!
END:VEVENT
BEGIN:VEVENT
DTSTAMP:20260425T163748Z
UID:b256a62f-6e03-4bf6-8c16-b5f8db768376
DTSTART;VALUE=DATE:20260612
DTEND;VALUE=DATE:20260613
DESCRIPTION:
LOCATION:
SUMMARY:Dove Spirit Shirt Day!
END:VEVENT
BEGIN:VEVENT
DTSTAMP:20260425T163748Z
UID:bc46f0ff-48f1-4aa3-9033-1da48df21a74
DTSTART:20260612T072000
DTEND:20260612T072000
DESCRIPTION:
LOCATION:DES-Campus Activities
SUMMARY:Dove Spirit Shirt Day!
END:VEVENT
BEGIN:VEVENT
DTSTAMP:20260425T163748Z
UID:e28e002d-8467-44aa-8848-5b795ac37d14
DTSTART:20260615T173000
DTEND:20260615T193000
DESCRIPTION:
LOCATION:Grapevine-Colleyville ISD\, 3051 Ira E Woods Ave\, Grapevine\, TX 
 76051\, USA
SUMMARY:Board of Trustees Regular Meeting 
END:VEVENT
BEGIN:VEVENT
DTSTAMP:20260425T163748Z
UID:51e16f16-fc85-4bd8-806a-a4d51440bbc1
DTSTART;VALUE=DATE:20260619
DTEND;VALUE=DATE:20260620
DESCRIPTION:
LOCATION:
SUMMARY:Dove Spirit Shirt Day!
END:VEVENT
BEGIN:VEVENT
DTSTAMP:20260425T163748Z
UID:8ff4dc8f-628a-4333-9a0d-67dc8acb0f68
DTSTART;VALUE=DATE:20260626
DTEND;VALUE=DATE:20260627
DESCRIPTION:
LOCATION:
SUMMARY:Dove Spirit Shirt Day!
END:VEVENT
BEGIN:VEVENT
DTSTAMP:20260425T163748Z
UID:df1f97df-3b63-4e29-a8ec-c49f43a50e51
DTSTART;VALUE=DATE:20260629
DTEND;VALUE=DATE:20260630
DESCRIPTION:
LOCATION:
SUMMARY:Holiday - No School
END:VEVENT
BEGIN:VEVENT
DTSTAMP:20260425T163748Z
UID:b21c3bf0-7e61-4970-9f3b-2207462e7813
DTSTART;VALUE=DATE:20260630
DTEND;VALUE=DATE:20260701
DESCRIPTION:
LOCATION:
SUMMARY:Holiday - No School
END:VEVENT
BEGIN:VEVENT
DTSTAMP:20260425T163748Z
UID:3e10cb6d-34db-46e8-8a81-f4a03362ff52
DTSTART;VALUE=DATE:20260703
DTEND;VALUE=DATE:20260704
DESCRIPTION:
LOCATION:
SUMMARY:Dove Spirit Shirt Day!
END:VEVENT
BEGIN:VEVENT
DTSTAMP:20260425T163748Z
UID:ea309b0a-a29f-40ce-95f9-b0cae231232c
DTSTART:20260706T151500
DTEND:20260706T160000
DESCRIPTION:
LOCATION:DES-Campus Activities
SUMMARY:Stem Club K-2
END:VEVENT
BEGIN:VEVENT
DTSTAMP:20260425T163748Z
UID:8cb83377-bff5-461f-ae84-0d77fa784198
DTSTART;VALUE=DATE:20260710
DTEND;VALUE=DATE:20260711
DESCRIPTION:
LOCATION:
SUMMARY:Dove Spirit Shirt Day!
END:VEVENT
BEGIN:VEVENT
DTSTAMP:20260425T163748Z
UID:3d377414-f268-4b25-addc-6faeeb7a60f0
DTSTART;VALUE=DATE:20260717
DTEND;VALUE=DATE:20260718
DESCRIPTION:
LOCATION:
SUMMARY:Dove Spirit Shirt Day!
END:VEVENT
BEGIN:VEVENT
DTSTAMP:20260425T163748Z
UID:3e04ef10-bf78-4324-8cc0-eeded57870b5
DTSTART;VALUE=DATE:20260724
DTEND;VALUE=DATE:20260725
DESCRIPTION:
LOCATION:
SUMMARY:Dove Spirit Shirt Day!
END:VEVENT
BEGIN:VEVENT
DTSTAMP:20260425T163748Z
UID:bad151bd-5176-42e2-b305-f04c4fdc53af
DTSTART;VALUE=DATE:20260731
DTEND;VALUE=DATE:20260801
DESCRIPTION:
LOCATION:
SUMMARY:Dove Spirit Shirt Day!
END:VEVENT
BEGIN:VEVENT
DTSTAMP:20260425T163748Z
UID:e57f36ad-69ad-40e2-9852-aaee4d144238
DTSTART:20260803T151500
DTEND:20260803T160000
DESCRIPTION:
LOCATION:DES-Campus Activities
SUMMARY:Stem Club K-2
END:VEVENT
BEGIN:VEVENT
DTSTAMP:20260425T163748Z
UID:5a4821ec-4f3d-4ea4-a957-711d33b707f0
DTSTART:20260907T151500
DTEND:20260907T160000
DESCRIPTION:
LOCATION:DES-Campus Activities
SUMMARY:Stem Club K-2
END:VEVENT
BEGIN:VEVENT
DTSTAMP:20260425T163748Z
UID:c4185494-0d46-4418-8d3b-a6905a46b50c
DTSTART:20261005T151500
DTEND:20261005T160000
DESCRIPTION:
LOCATION:DES-Campus Activities
SUMMARY:Stem Club K-2
END:VEVENT
BEGIN:VEVENT
DTSTAMP:20260425T163748Z
UID:c8dbcf21-b830-404b-9018-78479b27114f
DTSTART:20261102T151500
DTEND:20261102T160000
DESCRIPTION:
LOCATION:DES-Campus Activities
SUMMARY:Stem Club K-2
END:VEVENT
BEGIN:VEVENT
DTSTAMP:20260425T163748Z
UID:e2211feb-da17-4a89-a263-e9f150e21cfc
DTSTART:20261207T000000
DTEND:20261213T000000
DESCRIPTION:
LOCATION:
SUMMARY:Fall Book Fair
END:VEVENT
BEGIN:VEVENT
DTSTAMP:20260425T163748Z
UID:9830ea48-b087-4e3a-8b69-39ded4e94f40
DTSTART:20261207T151500
DTEND:20261207T160000
DESCRIPTION:
LOCATION:DES-Campus Activities
SUMMARY:Stem Club K-2
END:VEVENT
BEGIN:VEVENT
DTSTAMP:20260425T163748Z
UID:a8da5f5e-00b8-4e21-9f87-6e0456a916ab
DTSTART:20270104T151500
DTEND:20270104T160000
DESCRIPTION:
LOCATION:DES-Campus Activities
SUMMARY:Stem Club K-2
END:VEVENT
BEGIN:VEVENT
DTSTAMP:20260425T163748Z
UID:ab2688ab-262a-4ffc-822f-76008fc01e2e
DTSTART:20270201T151500
DTEND:20270201T160000
DESCRIPTION:
LOCATION:DES-Campus Activities
SUMMARY:Stem Club K-2
END:VEVENT
BEGIN:VEVENT
DTSTAMP:20260425T163748Z
UID:3cda00a2-7e14-4d26-819d-6960498a370a
DTSTART:20270301T151500
DTEND:20270301T160000
DESCRIPTION:
LOCATION:DES-Campus Activities
SUMMARY:Stem Club K-2
END:VEVENT
BEGIN:VEVENT
DTSTAMP:20260425T163748Z
UID:31f451ea-d9cc-46b0-bd4b-aa4875468a75
DTSTART:20270405T151500
DTEND:20270405T160000
DESCRIPTION:
LOCATION:DES-Campus Activities
SUMMARY:Stem Club K-2
END:VEVENT
END:VCALENDAR
